BEGIN:VCALENDAR
VERSION:2.0
PRODID:-//Curitiba e Região Convention &amp; Visitors Bureau- CCVB - ECPv6.15.20//NONSGML v1.0//EN
CALSCALE:GREGORIAN
METHOD:PUBLISH
X-ORIGINAL-URL:https://visitcuritiba.tur.br
X-WR-CALDESC:Eventos para Curitiba e Região Convention &amp; Visitors Bureau- CCVB
REFRESH-INTERVAL;VALUE=DURATION:PT1H
X-Robots-Tag:noindex
X-PUBLISHED-TTL:PT1H
BEGIN:VTIMEZONE
TZID:UTC
BEGIN:STANDARD
TZOFFSETFROM:+0000
TZOFFSETTO:+0000
TZNAME:UTC
DTSTART:20230101T000000
END:STANDARD
END:VTIMEZONE
BEGIN:VEVENT
DTSTART;VALUE=DATE:20251114
DTEND;VALUE=DATE:20251117
DTSTAMP:20260423T182609
CREATED:20241112T125110Z
LAST-MODIFIED:20250923T202627Z
UID:6110-1763078400-1763337599@visitcuritiba.tur.br
SUMMARY:WOMAD Brasil
DESCRIPTION:Com idealização e realização da Connecting Dots\, o consagrado festival internacional WOMAD desembarca pela primeira vez no Brasil em 2025\, com edições na Mata Atlântica e Amazônia. \nCriado nos anos 80 pelo músico Peter Gabriel\, o WOMAD (World of Music\, Arts and Dance) é um dos mais importantes festivais internacionais\, com mais de 40 anos de história e presença em cerca de 30 países. Reconhecido por sua pluralidade\, o festival promove a diversidade cultural e a consciência coletiva\, além da valorização de patrimônios locais.
URL:https://visitcuritiba.tur.br/calendario/womad-brasil/
LOCATION:Pedreira Paulo Leminski\, R. João Gava\, 970 - Abranches\, Curitiba\, Paraná\, 82130-010
CATEGORIES:Cultural,Festival musical
END:VEVENT
BEGIN:VEVENT
DTSTART;VALUE=DATE:20251021
DTEND;VALUE=DATE:20251025
DTSTAMP:20260423T182609
CREATED:20240906T173606Z
LAST-MODIFIED:20240906T173643Z
UID:5930-1761004800-1761350399@visitcuritiba.tur.br
SUMMARY:Tecnal 2025 - Feira de Tecnologia para a Indústria da Alimentos e Bebidas
DESCRIPTION:A Feira TECNAL é o ponto de encontro essencial para profissionais e empresas que desejam explorar e aproveitar as mais recentes inovações no dinâmico setor de alimentos e bebidas. Reunindo os principais players e fornecedores de tecnologia\, o evento proporciona um ambiente ideal para networking\, troca de conhecimentos e estabelecimento de parcerias estratégicas.
URL:https://visitcuritiba.tur.br/calendario/tecnal-2025-feira-de-tecnologia-para-a-industria-da-alimentos-e-bebidas/
LOCATION:Expotrade Convention Center\, Rodovia Deputado Leopoldo Jacomel\, 10454 - Vila Amelia\, Pinhais\, Paraná\, 83320-005\, Brasil
CATEGORIES:Feira
END:VEVENT
BEGIN:VEVENT
DTSTART;VALUE=DATE:20251019
DTEND;VALUE=DATE:20251030
DTSTAMP:20260423T182609
CREATED:20240910T140726Z
LAST-MODIFIED:20250923T194517Z
UID:5994-1760832000-1761782399@visitcuritiba.tur.br
SUMMARY:I Bienal Internacional do Livro do Paraná
DESCRIPTION:A capital paranaense se prepara para sediar a I Bienal Internacional do Livro do Paraná\, que acontecerá de 10 a 19 outubro de 2025 no Jockey Club do Paraná  (Avenida Victor Ferreira do Amaral\, Praça Jóquei Pinheiro Filho\, 2299) \nO evento promete ser o maior do gênero no Sul do Brasil\, com mais de 300 atrações programadas\, reunindo autores nacionais e internacionais.
URL:https://visitcuritiba.tur.br/calendario/i-bienal-internacional-do-livro-do-parana/
LOCATION:Jockey Club do Paraná\, Avenida Victor Ferreira do Amaral\, Praça Jóquei Pinheiro Filho\, 2299\, Curitiba\, PR\, : 82800-000\, Brazil
CATEGORIES:Cultural
END:VEVENT
BEGIN:VEVENT
DTSTART;VALUE=DATE:20250817
DTEND;VALUE=DATE:20250822
DTSTAMP:20260423T182609
CREATED:20240906T174009Z
LAST-MODIFIED:20241023T133629Z
UID:5933-1755388800-1755820799@visitcuritiba.tur.br
SUMMARY:WAAVP - World Association for the Advancement of Veterinary Parasitology
DESCRIPTION:A Conferência WAAVP (World Association for the Advancement of Veterinary Parasitology) é um evento internacional que reúne profissionais e pesquisadores na área de parasitologia veterinária de todo o mundo. A associação visa promover o avanço científico\, a pesquisa e a colaboração na área de parasitologia veterinária para melhorar a saúde animal e humana. \nNessas conferências\, os participantes compartilham pesquisas recentes\, discutem avanços tecnológicos\, trocam experiências e colaboram em projetos para abordar questões relacionadas a parasitas em animais domésticos\, selvagens e aquáticos. As conferências WAAVP geralmente cobrem uma ampla gama de tópicos\, incluindo epidemiologia\, controle de parasitas\, diagnóstico\, tratamento e prevenção de doenças parasitárias em animais
URL:https://visitcuritiba.tur.br/calendario/waavp-world-association-for-the-advancement-of-veterinary-parasitology/
LOCATION:Jockey Club do Paraná\, Avenida Victor Ferreira do Amaral\, Praça Jóquei Pinheiro Filho\, 2299\, Curitiba\, PR\, : 82800-000\, Brazil
CATEGORIES:Congresso
ORGANIZER;CN="Mark Messe":MAILTO:contato@markmesse.com.br
END:VEVENT
BEGIN:VEVENT
DTSTART;VALUE=DATE:20250805
DTEND;VALUE=DATE:20250809
DTSTAMP:20260423T182609
CREATED:20240906T171704Z
LAST-MODIFIED:20240906T171956Z
UID:5925-1754352000-1754697599@visitcuritiba.tur.br
SUMMARY:Induspar - Feira de Tecnologias e Soluções para Indústrias
DESCRIPTION:A Feira INDUSPAR é a plataforma industrial ideal de negócios e acomoda centenas de comerciantes\, prestadores de serviços\, terceirizadores\, subcontratadores\, fabricantes de máquinas\, equipamentos\, ferramentas\, produtos\, e insumos demandados pelo mais rico\, amplo e diversificado pólo fabril do sul do Brasil.
URL:https://visitcuritiba.tur.br/calendario/induspar-feira-de-tecnologias-e-solucoes-para-industrias/
LOCATION:Expotrade Convention Center\, Rodovia Deputado Leopoldo Jacomel\, 10454 - Vila Amelia\, Pinhais\, Paraná\, 83320-005\, Brasil
CATEGORIES:Feira
END:VEVENT
BEGIN:VEVENT
DTSTART;VALUE=DATE:20250705
DTEND;VALUE=DATE:20250706
DTSTAMP:20260423T182609
CREATED:20240906T152504Z
LAST-MODIFIED:20240906T152504Z
UID:5922-1751673600-1751759999@visitcuritiba.tur.br
SUMMARY:Gilberto Gil - Turnê “Tempo Rei”
DESCRIPTION:Turnê de despedida de um dos maiores ícones da música e da cultura brasileira: Gil Tempo Rei\, a última turnê de Gilberto Gil.
URL:https://visitcuritiba.tur.br/calendario/gilberto-gil-turne-tempo-rei/
LOCATION:Ligga Arena\, R. Buenos Aires\, 1260 - Água Verde\, Curitiba\, Paraná\, 80250-070\, Brasil
CATEGORIES:Show
ATTACH;FMTTYPE=image/webp:https://visitcuritiba.tur.br/wp-content/uploads/2024/09/Gil-Tempo-Rei.webp
END:VEVENT
BEGIN:VEVENT
DTSTART;VALUE=DATE:20250618
DTEND;VALUE=DATE:20250623
DTSTAMP:20260423T182609
CREATED:20240910T200837Z
LAST-MODIFIED:20240910T200837Z
UID:6000-1750204800-1750636799@visitcuritiba.tur.br
SUMMARY:XVI Curitiba Handball Cup
DESCRIPTION:
URL:https://visitcuritiba.tur.br/calendario/xvi-curitiba-handball-cup/
LOCATION:Diversos Locais\, Curitiba\, Paraná\, Brasil
CATEGORIES:Campeonato,Esportivo
ATTACH;FMTTYPE=image/jpeg:https://visitcuritiba.tur.br/wp-content/uploads/2024/09/handball-cup.jpg
END:VEVENT
BEGIN:VEVENT
DTSTART;VALUE=DATE:20250523
DTEND;VALUE=DATE:20250528
DTSTAMP:20260423T182609
CREATED:20240906T152211Z
LAST-MODIFIED:20240906T152211Z
UID:5918-1747958400-1748390399@visitcuritiba.tur.br
SUMMARY:Criança 2025 -  V Congresso Internacional de Especialidades em Pediatria
DESCRIPTION:Quinta edição do maior congresso de especialidades em pediatria do Brasil: o Congresso Criança 2025\, promovido pelo Hospital Pequeno Príncipe e que será realizado de 23 a 27 de maio de 2025 no Viasoft Experience. \nSerão quatro dias dedicados à discussão dos mais importantes e atuais temas da pediatria\, sempre sob a abordagem da saúde integral e da valorização da humanização no atendimento infantojuvenil. A programação científica conta com palestras\, conferências\, simpósios\, painéis\, discussão de casos e mesas-redondas com os maiores especialistas em saúde da criança e do adolescente\, e com representantes dos principais hospitais nacionais e internacionais.
URL:https://visitcuritiba.tur.br/calendario/crianca-2025-v-congresso-internacional-de-especialidades-em-pediatria/
LOCATION:Jockey Club do Paraná\, Avenida Victor Ferreira do Amaral\, Praça Jóquei Pinheiro Filho\, 2299\, Curitiba\, PR\, : 82800-000\, Brazil
CATEGORIES:Congresso
ATTACH;FMTTYPE=image/jpeg:https://visitcuritiba.tur.br/wp-content/uploads/2024/09/crianca-20254.jpg
END:VEVENT
BEGIN:VEVENT
DTSTART;VALUE=DATE:20250518
DTEND;VALUE=DATE:20250519
DTSTAMP:20260423T182609
CREATED:20240906T151925Z
LAST-MODIFIED:20240906T151941Z
UID:5915-1747526400-1747612799@visitcuritiba.tur.br
SUMMARY:Tarja Turunen
DESCRIPTION:Após uma passagem bem sucedida pelo Brasil em 2024\, Tarja Turunen\, está de volta em 2025 com sua turnê ao lado de Marko Hietala\, trazendo muita emoção para o público brasileiro.
URL:https://visitcuritiba.tur.br/calendario/tarja-turunen/
LOCATION:Ópera de Arame\, R. João Gava\, 920 - Abranches\, Curitiba\, Paraná\, 82130-010\, Brasil
CATEGORIES:Show
END:VEVENT
BEGIN:VEVENT
DTSTART;VALUE=DATE:20250516
DTEND;VALUE=DATE:20250518
DTSTAMP:20260423T182609
CREATED:20240906T151640Z
LAST-MODIFIED:20240906T151640Z
UID:5913-1747353600-1747526399@visitcuritiba.tur.br
SUMMARY:CUPOLA Summit
DESCRIPTION:A cada ano\, o CUPOLA Summit promove reflexões críticas que são fundamentais para o avanço e a transformação do mercado imobiliário. O diferencial do nosso evento está na curadoria profunda dos conteúdos\, participação de palestrantes especialistas e na qualidade do público: líderes\, gestores e profissionais de alta performance no mercado.
URL:https://visitcuritiba.tur.br/calendario/cupola-summit-2/
LOCATION:Jockey Club do Paraná\, Avenida Victor Ferreira do Amaral\, Praça Jóquei Pinheiro Filho\, 2299\, Curitiba\, PR\, : 82800-000\, Brazil
CATEGORIES:Conferência,Networking,Palestra
END:VEVENT
BEGIN:VEVENT
DTSTART;VALUE=DATE:20250408
DTEND;VALUE=DATE:20250409
DTSTAMP:20260423T182609
CREATED:20240906T151024Z
LAST-MODIFIED:20240906T151353Z
UID:5907-1744070400-1744156799@visitcuritiba.tur.br
SUMMARY:Incubus - Turnê "Morning View"
DESCRIPTION:Os fãs brasileiros terão a chance de assistir o icônico álbum sendo tocado ao vivo e na íntegra\, além dos maiores sucessos dos mais de trinta anos de carreira. Os shows acontecem em 2025 em Curitiba (8 de abril na Live Curitiba) e em São Paulo (10 de abril no Espaço Unimed).  Um presente do multiplatinado grupo americano de rock Incubus\, que anunciou o seu retorno ao Brasil para abril de 2025 para duas noites especiais e únicas\, onde irão executar na íntegra o clássico álbum “Morning View”\, além dos principais hits de mais de três décadas de carreira\, responsáveis por cativar milhões de fãs ao redor do mundo. A turnê é um dos maiores sucessos do ano\, com datas esgotadas e concorridas nas principais arenas dos Estados Unidos.
URL:https://visitcuritiba.tur.br/calendario/incubus-turne-morning-view/
LOCATION:Live Curitiba\, Rua Itajubá\, 143\, Curitiba\, Paraná\, 81050-040\, Brasil
CATEGORIES:Show
ORGANIZER;CN="Time For Fun":MAILTO:comercial@t4f.com.br
END:VEVENT
BEGIN:VEVENT
DTSTART;VALUE=DATE:20250325
DTEND;VALUE=DATE:20250328
DTSTAMP:20260423T182609
CREATED:20240906T144850Z
LAST-MODIFIED:20240906T145056Z
UID:5899-1742860800-1743119999@visitcuritiba.tur.br
SUMMARY:6° Smart City Expo Curitiba
DESCRIPTION:Criado em parceria com a Fira Barcelona\, organizadora do principal Congresso Mundial de cidades inteligentes\, o Smart City Expo World Congress\, o Smart City Expo Curitiba reúne especialistas de todas as áreas para compartilhar ideias e soluções sobre como criar um futuro melhor e mais sustentável para as cidades e seus cidadãos.
URL:https://visitcuritiba.tur.br/calendario/6-smart-city-expo-curitiba/
LOCATION:Ligga Arena\, R. Buenos Aires\, 1260 - Água Verde\, Curitiba\, Paraná\, 80250-070\, Brasil
CATEGORIES:Congresso,Feira
ATTACH;FMTTYPE=image/png:https://visitcuritiba.tur.br/wp-content/uploads/2024/09/icon-calendar-site.png
END:VEVENT
BEGIN:VEVENT
DTSTART;VALUE=DATE:20250215
DTEND;VALUE=DATE:20250216
DTSTAMP:20260423T182609
CREATED:20240906T144159Z
LAST-MODIFIED:20240906T144345Z
UID:5896-1739577600-1739663999@visitcuritiba.tur.br
SUMMARY:Festival I Wanna Be Tour
DESCRIPTION:A segunda edição da I Wanna Be Tour está marcada para fevereiro de 2025. Em Curitiba o festival que resgata a nostalgia emo dos anos 2000 será apresentado no Estádio do Couto Pereira\, dia 15 de fevereiro.
URL:https://visitcuritiba.tur.br/calendario/festival-i-wanna-be-tour-2/
LOCATION:Estádio Major Antônio Couto Pereira\, R. Ubaldino do Amaral\, 63 - Alto da Glória\, Curitiba\, Paraná\, 80060-195\, Brasil
CATEGORIES:Show
END:VEVENT
BEGIN:VEVENT
DTSTART;VALUE=DATE:20250122
DTEND;VALUE=DATE:20250123
DTSTAMP:20260423T182609
CREATED:20240906T143616Z
LAST-MODIFIED:20240906T143616Z
UID:5893-1737504000-1737590399@visitcuritiba.tur.br
SUMMARY:Twenty One Pilots -  “The Clancy World Tour”
DESCRIPTION:Twenty One Pilots coloca o Brasil na rota da turnê mundial Clancy\nRealizados pela 30e e com patrocínio do Santander Brasil\, os shows no país acontecem em janeiro de 2025 e fazem parte da perna latino-americana da tour. \nA dupla vencedora do GRAMMY® Award Twenty One Pilots anunciou a etapa latino-americana de sua colossal turnê mundial\, The Clancy World Tour. Trata-se da primeira tour própria do grupo pela América Latina\, já que\, anteriormente\, havia se apresentado no território somente em festivais.
URL:https://visitcuritiba.tur.br/calendario/twenty-one-pilots-the-clancy-world-tour/
LOCATION:Pedreira Paulo Leminski\, R. João Gava\, 970 - Abranches\, Curitiba\, Paraná\, 82130-010
CATEGORIES:Show
ATTACH;FMTTYPE=image/png:https://visitcuritiba.tur.br/wp-content/uploads/2024/09/01_TOP_1x1_Admat_Geral_Vermelho.png
END:VEVENT
BEGIN:VEVENT
DTSTART;VALUE=DATE:20241120
DTEND;VALUE=DATE:20241124
DTSTAMP:20260423T182609
CREATED:20240211T011038Z
LAST-MODIFIED:20240211T011038Z
UID:5088-1732060800-1732406399@visitcuritiba.tur.br
SUMMARY:Expo Saudável
DESCRIPTION:
URL:https://visitcuritiba.tur.br/calendario/expo-saudavel-2/
LOCATION:Jockey Club do Paraná\, Avenida Victor Ferreira do Amaral\, Praça Jóquei Pinheiro Filho\, 2299\, Curitiba\, PR\, : 82800-000\, Brazil
CATEGORIES:Feira
END:VEVENT
BEGIN:VEVENT
DTSTART;VALUE=DATE:20241117
DTEND;VALUE=DATE:20241118
DTSTAMP:20260423T182609
CREATED:20240211T011002Z
LAST-MODIFIED:20240211T011002Z
UID:5086-1731801600-1731887999@visitcuritiba.tur.br
SUMMARY:Maratona de Curitiba
DESCRIPTION:
URL:https://visitcuritiba.tur.br/calendario/maratona-de-curitiba/
LOCATION:Praça Nossa Senhora da Salete\, Av. Cândido de Abreu\, 1039\, Curitiba\, PR\, 80050-540\, Brasil
CATEGORIES:Esportivo
END:VEVENT
BEGIN:VEVENT
DTSTART;TZID=UTC:20241114T080000
DTEND;TZID=UTC:20241117T170000
DTSTAMP:20260423T182609
CREATED:20241112T125643Z
LAST-MODIFIED:20241118T131648Z
UID:6114-1731571200-1731862800@visitcuritiba.tur.br
SUMMARY:Virada Sustentável
DESCRIPTION:Considerada uma das capitais mais sustentáveis da América Latina\, a cidade de Curitiba vai sediar pela primeira vez a Virada Sustentável\, de 14 a 17 de novembro\, trazendo uma programação cultural inovadora e colaborativa em torno do tema da sustentabilidade. \nEm 2024 acontece o lançamento do festival WOMAD\, em que haverá uma ação em conjunto com a Maratona de Curitiba no dia 14/11 e um show em parceria com a Virada Sustentável no dia 16/11. \nDia 14/11 o evento acontecerá no Museu Oscar Niemeyer e no dia 16/11 será na Praça Nossa Senhora de Salette\, ambos localizados no Centro Cívico.
URL:https://visitcuritiba.tur.br/calendario/virada-sustentavel/
LOCATION:Diversos Locais\, Curitiba\, Paraná\, Brasil
CATEGORIES:Cultural
ATTACH;FMTTYPE=image/jpeg:https://visitcuritiba.tur.br/wp-content/uploads/2024/11/vs-curitiba-banner-site-v02-mobile-regua-simples.jpg
END:VEVENT
BEGIN:VEVENT
DTSTART;VALUE=DATE:20241110
DTEND;VALUE=DATE:20241115
DTSTAMP:20260423T182609
CREATED:20240211T010823Z
LAST-MODIFIED:20240211T010823Z
UID:5084-1731196800-1731628799@visitcuritiba.tur.br
SUMMARY:17th Small WaterWastewater Sanitation  + 9th Resource Oriented Sanitation
DESCRIPTION:
URL:https://visitcuritiba.tur.br/calendario/17th-small-waterwastewater-sanitation-9th-resource-oriented-sanitation/
LOCATION:UFPR Centro Politécnico\, Av. Cel. Francisco H. dos Santos\, 100 - Jardim das Américas\, Curitiba\, Paraná\, 81530-000\, Brasil
CATEGORIES:Congresso
END:VEVENT
BEGIN:VEVENT
DTSTART;VALUE=DATE:20241108
DTEND;VALUE=DATE:20241111
DTSTAMP:20260423T182609
CREATED:20240211T010732Z
LAST-MODIFIED:20240906T142003Z
UID:5081-1731024000-1731283199@visitcuritiba.tur.br
SUMMARY:Feira da Franquia - Curitiba 2024
DESCRIPTION:
URL:https://visitcuritiba.tur.br/calendario/feira-da-franquia-curitiba-2024/
LOCATION:Espaço Torres\, R. Pergentina Silva Soares\, 159 - Jardim Botânico\, Curitiba\, PR\, 80210-410\, Brasil
CATEGORIES:Feira
ATTACH;FMTTYPE=image/jpeg:https://visitcuritiba.tur.br/wp-content/uploads/2024/02/Feed-CWB-1.jpg
END:VEVENT
BEGIN:VEVENT
DTSTART;TZID=UTC:20241031T080000
DTEND;TZID=UTC:20241102T170000
DTSTAMP:20260423T182609
CREATED:20240205T181916Z
LAST-MODIFIED:20240226T131725Z
UID:4872-1730361600-1730566800@visitcuritiba.tur.br
SUMMARY:XLI Congresso Brasileiro de Arritmias Cardíacas - SOBRAC
DESCRIPTION:
URL:https://visitcuritiba.tur.br/calendario/xli-congresso-brasileiro-de-arritmias-cardiacas-sobrac/
LOCATION:Jockey Club do Paraná\, Avenida Victor Ferreira do Amaral\, Praça Jóquei Pinheiro Filho\, 2299\, Curitiba\, PR\, : 82800-000\, Brazil
CATEGORIES:Congresso
ATTACH;FMTTYPE=image/png:https://visitcuritiba.tur.br/wp-content/uploads/2024/02/af_logo_sobrac_2024_fundo_branco-1.png
END:VEVENT
BEGIN:VEVENT
DTSTART;VALUE=DATE:20241023
DTEND;VALUE=DATE:20241028
DTSTAMP:20260423T182609
CREATED:20240211T010554Z
LAST-MODIFIED:20240211T010554Z
UID:5079-1729641600-1730073599@visitcuritiba.tur.br
SUMMARY:Feira Móveis & Decoração
DESCRIPTION:
URL:https://visitcuritiba.tur.br/calendario/feira-moveis-decoracao-2/
LOCATION:Centro de Eventos Positivo – Barigui\, Alameda Ecologica Burle Marx\, 2518\, Curitiba\, Paraná\, 82305-100
CATEGORIES:Feira
END:VEVENT
BEGIN:VEVENT
DTSTART;VALUE=DATE:20241023
DTEND;VALUE=DATE:20241026
DTSTAMP:20260423T182609
CREATED:20240211T010519Z
LAST-MODIFIED:20240211T010519Z
UID:5076-1729641600-1729900799@visitcuritiba.tur.br
SUMMARY:54ª Reunião Anual da Sociedade Brasileira de Psicologia
DESCRIPTION:
URL:https://visitcuritiba.tur.br/calendario/54a-reuniao-anual-da-sociedade-brasileira-de-psicologia/
LOCATION:UFPR – Santos Andrade\, Universidade Federal do Paraná - Praça Santos Andrade\, 50 - Centro\, Curitiba\, PR\, 80020-300\, Brasil
CATEGORIES:Reunião
END:VEVENT
BEGIN:VEVENT
DTSTART;VALUE=DATE:20241019
DTEND;VALUE=DATE:20241020
DTSTAMP:20260423T182609
CREATED:20240211T010322Z
LAST-MODIFIED:20240211T010322Z
UID:5074-1729296000-1729382399@visitcuritiba.tur.br
SUMMARY:Show de Stand Up 4 Amigos
DESCRIPTION:
URL:https://visitcuritiba.tur.br/calendario/show-de-stand-up-4-amigos/
LOCATION:Teatro Positivo\, R. Prof. Pedro Viriato Parigot de Souza\, 5300\, Curitiba\, PR\, 81280-330\, Brasil
CATEGORIES:Cultural
END:VEVENT
BEGIN:VEVENT
DTSTART;VALUE=DATE:20240924
DTEND;VALUE=DATE:20240925
DTSTAMP:20260423T182609
CREATED:20240211T010245Z
LAST-MODIFIED:20240211T010245Z
UID:5072-1727136000-1727222399@visitcuritiba.tur.br
SUMMARY:Eric Clapton
DESCRIPTION:
URL:https://visitcuritiba.tur.br/calendario/eric-clapton/
LOCATION:Ligga Arena\, R. Buenos Aires\, 1260 - Água Verde\, Curitiba\, Paraná\, 80250-070\, Brasil
CATEGORIES:Show
END:VEVENT
BEGIN:VEVENT
DTSTART;VALUE=DATE:20240921
DTEND;VALUE=DATE:20240924
DTSTAMP:20260423T182609
CREATED:20240211T010131Z
LAST-MODIFIED:20240211T010131Z
UID:5068-1726876800-1727135999@visitcuritiba.tur.br
SUMMARY:Festival Tutano
DESCRIPTION:
URL:https://visitcuritiba.tur.br/calendario/festival-tutano-2/
LOCATION:Museu Oscar Niemeyer\, R. Mal. Hermes\, 999\, Curitiba\, PR\, 80530-230\, Brasil
CATEGORIES:Fórum,Gastronomia
END:VEVENT
BEGIN:VEVENT
DTSTART;VALUE=DATE:20240920
DTEND;VALUE=DATE:20240924
DTSTAMP:20260423T182609
CREATED:20240211T010202Z
LAST-MODIFIED:20240211T010202Z
UID:5070-1726790400-1727135999@visitcuritiba.tur.br
SUMMARY:12ª Edição - Feira Habitacon
DESCRIPTION:
URL:https://visitcuritiba.tur.br/calendario/12a-edicao-feira-habitacon/
LOCATION:Centro de Eventos Positivo – Barigui\, Alameda Ecologica Burle Marx\, 2518\, Curitiba\, Paraná\, 82305-100
CATEGORIES:Feira
END:VEVENT
BEGIN:VEVENT
DTSTART;VALUE=DATE:20240918
DTEND;VALUE=DATE:20240921
DTSTAMP:20260423T182609
CREATED:20240211T010052Z
LAST-MODIFIED:20240211T010052Z
UID:5066-1726617600-1726876799@visitcuritiba.tur.br
SUMMARY:XV Jornadas Brasileiras de Direito Processual
DESCRIPTION:
URL:https://visitcuritiba.tur.br/calendario/xv-jornadas-brasileiras-de-direito-processual/
LOCATION:Teatro Guaíra\, R. XV de Novembro\, 971 - Centro\, Curitiba\, Paraná\, 80060-000\, Brasil
CATEGORIES:Jornada
END:VEVENT
BEGIN:VEVENT
DTSTART;VALUE=DATE:20240824
DTEND;VALUE=DATE:20240825
DTSTAMP:20260423T182609
CREATED:20240211T005913Z
LAST-MODIFIED:20240211T005913Z
UID:5062-1724457600-1724543999@visitcuritiba.tur.br
SUMMARY:Zeca Pagodinho 40 Anos
DESCRIPTION:
URL:https://visitcuritiba.tur.br/calendario/zeca-pagodinho-40-anos/
LOCATION:Expotrade Convention Center\, Rodovia Deputado Leopoldo Jacomel\, 10454 - Vila Amelia\, Pinhais\, Paraná\, 83320-005\, Brasil
CATEGORIES:Show
END:VEVENT
BEGIN:VEVENT
DTSTART;VALUE=DATE:20240821
DTEND;VALUE=DATE:20240825
DTSTAMP:20260423T182609
CREATED:20240211T005838Z
LAST-MODIFIED:20240211T005838Z
UID:5060-1724198400-1724543999@visitcuritiba.tur.br
SUMMARY:Congresso Paranaense de Cardiologia - SPC 2024
DESCRIPTION:
URL:https://visitcuritiba.tur.br/calendario/congresso-paranaense-de-cardiologia-spc-2024/
LOCATION:Jockey Club do Paraná\, Avenida Victor Ferreira do Amaral\, Praça Jóquei Pinheiro Filho\, 2299\, Curitiba\, PR\, : 82800-000\, Brazil
CATEGORIES:Congresso
END:VEVENT
BEGIN:VEVENT
DTSTART;VALUE=DATE:20240819
DTEND;VALUE=DATE:20240820
DTSTAMP:20260423T182609
CREATED:20240211T005800Z
LAST-MODIFIED:20240211T005800Z
UID:5058-1724025600-1724111999@visitcuritiba.tur.br
SUMMARY:Forfun - Turnê NÓS
DESCRIPTION:
URL:https://visitcuritiba.tur.br/calendario/forfun-turne-nos/
LOCATION:Pedreira Paulo Leminski\, R. João Gava\, 970 - Abranches\, Curitiba\, Paraná\, 82130-010
CATEGORIES:Show
END:VEVENT
END:VCALENDAR