BEGIN:VCALENDAR
VERSION:2.0
PRODID:-//Curitiba e Região Convention &amp; Visitors Bureau- CCVB - ECPv6.15.20//NONSGML v1.0//EN
CALSCALE:GREGORIAN
METHOD:PUBLISH
X-ORIGINAL-URL:https://visitcuritiba.tur.br
X-WR-CALDESC:Eventos para Curitiba e Região Convention &amp; Visitors Bureau- CCVB
REFRESH-INTERVAL;VALUE=DURATION:PT1H
X-Robots-Tag:noindex
X-PUBLISHED-TTL:PT1H
BEGIN:VTIMEZONE
TZID:UTC
BEGIN:STANDARD
TZOFFSETFROM:+0000
TZOFFSETTO:+0000
TZNAME:UTC
DTSTART:20230101T000000
END:STANDARD
END:VTIMEZONE
BEGIN:VEVENT
DTSTART;VALUE=DATE:20240517
DTEND;VALUE=DATE:20240519
DTSTAMP:20260424T083330
CREATED:20240502T164131Z
LAST-MODIFIED:20240502T164131Z
UID:5405-1715904000-1716076799@visitcuritiba.tur.br
SUMMARY:Orto CWB
DESCRIPTION:
URL:https://visitcuritiba.tur.br/calendario/orto-cwb/
LOCATION:Universidade Positivo\, R. Prof. Pedro Viriato Parigot de Souza\, Curitiba\, PR\, 81280-330\, Brasil
CATEGORIES:Congresso
END:VEVENT
BEGIN:VEVENT
DTSTART;VALUE=DATE:20240517
DTEND;VALUE=DATE:20240519
DTSTAMP:20260424T083330
CREATED:20240210T225956Z
LAST-MODIFIED:20240210T225956Z
UID:4972-1715904000-1716076799@visitcuritiba.tur.br
SUMMARY:33° Jornada Paranaense de Geriatria e Gerontologia
DESCRIPTION:
URL:https://visitcuritiba.tur.br/calendario/33-jornada-paranaense-de-geriatria-e-gerontologia/
LOCATION:Universidade Tuiuti do Paraná\, R. Padre Ladislau Kula\, 395 - Santo Inácio\, Curitiba\, PR\, 82010-210\, Brasil
CATEGORIES:Jornada
END:VEVENT
BEGIN:VEVENT
DTSTART;TZID=UTC:20240516T080000
DTEND;TZID=UTC:20240602T170000
DTSTAMP:20260424T083330
CREATED:20240502T163942Z
LAST-MODIFIED:20240502T163942Z
UID:5403-1715846400-1717347600@visitcuritiba.tur.br
SUMMARY:Festival Brasil Sabor
DESCRIPTION:
URL:https://visitcuritiba.tur.br/calendario/festival-brasil-sabor/
LOCATION:Diversos Locais\, Curitiba\, Paraná\, Brasil
CATEGORIES:Cultural,Gastronomia
END:VEVENT
BEGIN:VEVENT
DTSTART;VALUE=DATE:20240516
DTEND;VALUE=DATE:20240520
DTSTAMP:20260424T083330
CREATED:20240502T163833Z
LAST-MODIFIED:20240502T163833Z
UID:5400-1715817600-1716163199@visitcuritiba.tur.br
SUMMARY:Festival Cinegastroarte Itinerante
DESCRIPTION:
URL:https://visitcuritiba.tur.br/calendario/festival-cinegastroarte-itinerante/
LOCATION:Shopping Pátio Batel\, Av. do Batel\, Curitiba\, PR\, 80420-090\, Brasil
CATEGORIES:Cultural,Gastronomia
END:VEVENT
BEGIN:VEVENT
DTSTART;VALUE=DATE:20240516
DTEND;VALUE=DATE:20240519
DTSTAMP:20260424T083330
CREATED:20240210T225826Z
LAST-MODIFIED:20240210T225826Z
UID:4970-1715817600-1716076799@visitcuritiba.tur.br
SUMMARY:CUPOLA Summit
DESCRIPTION:
URL:https://visitcuritiba.tur.br/calendario/cupola-summit/
LOCATION:Jockey Club do Paraná\, Avenida Victor Ferreira do Amaral\, Praça Jóquei Pinheiro Filho\, 2299\, Curitiba\, PR\, : 82800-000\, Brazil
END:VEVENT
BEGIN:VEVENT
DTSTART;VALUE=DATE:20240515
DTEND;VALUE=DATE:20240516
DTSTAMP:20260424T083330
CREATED:20240502T163622Z
LAST-MODIFIED:20240502T163622Z
UID:5397-1715731200-1715817599@visitcuritiba.tur.br
SUMMARY:Feira de Franquias
DESCRIPTION:
URL:https://visitcuritiba.tur.br/calendario/feira-de-franquias/
LOCATION:Hotel QOYA\, Av. Sete de Setembro\, Curitiba\, PR\, 80250-205\, Brasil
CATEGORIES:Feira
END:VEVENT
BEGIN:VEVENT
DTSTART;VALUE=DATE:20240514
DTEND;VALUE=DATE:20240518
DTSTAMP:20260424T083330
CREATED:20240502T163314Z
LAST-MODIFIED:20240502T163314Z
UID:5395-1715644800-1715990399@visitcuritiba.tur.br
SUMMARY:2º Fórum Nacional Integrado de Segurança Pública Cidadã\, Defesa Civil e Trânsito
DESCRIPTION:
URL:https://visitcuritiba.tur.br/calendario/2o-forum-nacional-integrado-de-seguranca-publica-cidada-defesa-civil-e-transito/
LOCATION:Centro de Eventos FIEP\, Av. Com. Franco\, 1341 - Jardim Botânico\, Curitiba\, Paraná\, 80215-090
CATEGORIES:Fórum
END:VEVENT
BEGIN:VEVENT
DTSTART;VALUE=DATE:20240514
DTEND;VALUE=DATE:20240517
DTSTAMP:20260424T083330
CREATED:20240210T225733Z
LAST-MODIFIED:20240210T225733Z
UID:4968-1715644800-1715903999@visitcuritiba.tur.br
SUMMARY:7º ConReSol - Congresso Sul-Americano de Resíduos Sólidos e Sustentabilidade
DESCRIPTION:
URL:https://visitcuritiba.tur.br/calendario/7o-conresol-congresso-sul-americano-de-residuos-solidos-e-sustentabilidade/
LOCATION:UFPR Centro Politécnico\, Av. Cel. Francisco H. dos Santos\, 100 - Jardim das Américas\, Curitiba\, Paraná\, 81530-000\, Brasil
CATEGORIES:Congresso
END:VEVENT
BEGIN:VEVENT
DTSTART;VALUE=DATE:20240512
DTEND;VALUE=DATE:20240513
DTSTAMP:20260424T083330
CREATED:20240502T162922Z
LAST-MODIFIED:20240502T163147Z
UID:5391-1715472000-1715558399@visitcuritiba.tur.br
SUMMARY:Meia Maratona Internacional de Curitiba
DESCRIPTION:
URL:https://visitcuritiba.tur.br/calendario/meia-maratona-internacional-de-curitiba-2/
LOCATION:Jardim Botânico\, R. Engo. Ostoja Roguski\, Curitiba\, PR\, 80210-391\, Brasil
CATEGORIES:Esportivo
END:VEVENT
BEGIN:VEVENT
DTSTART;VALUE=DATE:20240512
DTEND;VALUE=DATE:20240513
DTSTAMP:20260424T083330
CREATED:20240210T225542Z
LAST-MODIFIED:20240210T225542Z
UID:4966-1715472000-1715558399@visitcuritiba.tur.br
SUMMARY:Padre Fábio de Melo
DESCRIPTION:
URL:https://visitcuritiba.tur.br/calendario/padre-fabio-de-melo/
LOCATION:Teatro Positivo\, R. Prof. Pedro Viriato Parigot de Souza\, 5300\, Curitiba\, PR\, 81280-330\, Brasil
CATEGORIES:Show
END:VEVENT
BEGIN:VEVENT
DTSTART;VALUE=DATE:20240512
DTEND;VALUE=DATE:20240513
DTSTAMP:20260424T083330
CREATED:20240210T225502Z
LAST-MODIFIED:20240210T225502Z
UID:4964-1715472000-1715558399@visitcuritiba.tur.br
SUMMARY:Louis Tomlinson
DESCRIPTION:
URL:https://visitcuritiba.tur.br/calendario/louis-tomlinson/
LOCATION:Ligga Arena\, R. Buenos Aires\, 1260 - Água Verde\, Curitiba\, Paraná\, 80250-070\, Brasil
CATEGORIES:Show
END:VEVENT
BEGIN:VEVENT
DTSTART;VALUE=DATE:20240511
DTEND;VALUE=DATE:20240512
DTSTAMP:20260424T083330
CREATED:20240502T162647Z
LAST-MODIFIED:20240502T162647Z
UID:5389-1715385600-1715471999@visitcuritiba.tur.br
SUMMARY:Djonga
DESCRIPTION:
URL:https://visitcuritiba.tur.br/calendario/djonga/
LOCATION:Teatro Positivo\, R. Prof. Pedro Viriato Parigot de Souza\, 5300\, Curitiba\, PR\, 81280-330\, Brasil
CATEGORIES:Show
END:VEVENT
BEGIN:VEVENT
DTSTART;VALUE=DATE:20240511
DTEND;VALUE=DATE:20240512
DTSTAMP:20260424T083330
CREATED:20240502T162614Z
LAST-MODIFIED:20240502T162614Z
UID:5387-1715385600-1715471999@visitcuritiba.tur.br
SUMMARY:Francisco\, El Hombre
DESCRIPTION:
URL:https://visitcuritiba.tur.br/calendario/francisco-el-hombre/
LOCATION:CWB Hall\, R. Dr. Claudino dos Santos\, 72 - São Francisco\, Curitiba\, Paraná\, 80020-170\, Brasil
CATEGORIES:Show
END:VEVENT
BEGIN:VEVENT
DTSTART;VALUE=DATE:20240511
DTEND;VALUE=DATE:20240512
DTSTAMP:20260424T083330
CREATED:20240210T225350Z
LAST-MODIFIED:20240210T225350Z
UID:4962-1715385600-1715471999@visitcuritiba.tur.br
SUMMARY:Isadora Pompeo
DESCRIPTION:
URL:https://visitcuritiba.tur.br/calendario/isadora-pompeo/
LOCATION:Teatro Positivo\, R. Prof. Pedro Viriato Parigot de Souza\, 5300\, Curitiba\, PR\, 81280-330\, Brasil
CATEGORIES:Show
END:VEVENT
BEGIN:VEVENT
DTSTART;VALUE=DATE:20240510
DTEND;VALUE=DATE:20240511
DTSTAMP:20260424T083330
CREATED:20240502T162443Z
LAST-MODIFIED:20240502T162443Z
UID:5385-1715299200-1715385599@visitcuritiba.tur.br
SUMMARY:Carol Biazin - "nem tão pouco assim"
DESCRIPTION:
URL:https://visitcuritiba.tur.br/calendario/carol-biazin-nem-tao-pouco-assim/
LOCATION:Teatro Fernanda Montenegro\, Shopping Novo\, R. Cel. Dulcídio\, Curitiba\, PR\, 80420-060\, Brasil
CATEGORIES:Show
END:VEVENT
BEGIN:VEVENT
DTSTART;VALUE=DATE:20240510
DTEND;VALUE=DATE:20240511
DTSTAMP:20260424T083330
CREATED:20240210T225311Z
LAST-MODIFIED:20240210T225311Z
UID:4960-1715299200-1715385599@visitcuritiba.tur.br
SUMMARY:Stand-Up Paul Cabannes - Alma de Brasileiro
DESCRIPTION:
URL:https://visitcuritiba.tur.br/calendario/stand-up-paul-cabannes-alma-de-brasileiro/
LOCATION:Teatro Positivo\, R. Prof. Pedro Viriato Parigot de Souza\, 5300\, Curitiba\, PR\, 81280-330\, Brasil
CATEGORIES:Show
END:VEVENT
BEGIN:VEVENT
DTSTART;VALUE=DATE:20240509
DTEND;VALUE=DATE:20240510
DTSTAMP:20260424T083330
CREATED:20240210T225210Z
LAST-MODIFIED:20240210T225210Z
UID:4958-1715212800-1715299199@visitcuritiba.tur.br
SUMMARY:The Calling
DESCRIPTION:
URL:https://visitcuritiba.tur.br/calendario/the-calling/
LOCATION:Teatro Positivo\, R. Prof. Pedro Viriato Parigot de Souza\, 5300\, Curitiba\, PR\, 81280-330\, Brasil
CATEGORIES:Show
END:VEVENT
BEGIN:VEVENT
DTSTART;VALUE=DATE:20240508
DTEND;VALUE=DATE:20240512
DTSTAMP:20260424T083330
CREATED:20240210T225145Z
LAST-MODIFIED:20240210T225145Z
UID:4956-1715126400-1715471999@visitcuritiba.tur.br
SUMMARY:11ª Feira de Fornecedores da Industria Automotiva - Autopar
DESCRIPTION:
URL:https://visitcuritiba.tur.br/calendario/11a-feira-de-fornecedores-da-industria-automotiva-autopar/
LOCATION:Expotrade Convention Center\, Rodovia Deputado Leopoldo Jacomel\, 10454 - Vila Amelia\, Pinhais\, Paraná\, 83320-005\, Brasil
CATEGORIES:Feira
END:VEVENT
BEGIN:VEVENT
DTSTART;VALUE=DATE:20240507
DTEND;VALUE=DATE:20240509
DTSTAMP:20260424T083330
CREATED:20240210T225006Z
LAST-MODIFIED:20240210T225006Z
UID:4954-1715040000-1715212799@visitcuritiba.tur.br
SUMMARY:Shen Yun
DESCRIPTION:
URL:https://visitcuritiba.tur.br/calendario/shen-yun/
LOCATION:Teatro Positivo\, R. Prof. Pedro Viriato Parigot de Souza\, 5300\, Curitiba\, PR\, 81280-330\, Brasil
CATEGORIES:Cultural
END:VEVENT
BEGIN:VEVENT
DTSTART;VALUE=DATE:20240504
DTEND;VALUE=DATE:20240506
DTSTAMP:20260424T083330
CREATED:20240502T162044Z
LAST-MODIFIED:20240502T162044Z
UID:5383-1714780800-1714953599@visitcuritiba.tur.br
SUMMARY:Barbatuques 25 Anos
DESCRIPTION:
URL:https://visitcuritiba.tur.br/calendario/barbatuques-25-anos/
LOCATION:Guairinha\, R. XV de Novembro\, 971 - Centro\, Curitiba\, Paraná\, 80060-000\, Brasil
CATEGORIES:Cultural,Show
END:VEVENT
BEGIN:VEVENT
DTSTART;VALUE=DATE:20240504
DTEND;VALUE=DATE:20240505
DTSTAMP:20260424T083330
CREATED:20240210T224913Z
LAST-MODIFIED:20240210T224913Z
UID:4952-1714780800-1714867199@visitcuritiba.tur.br
SUMMARY:Fábio JR
DESCRIPTION:
URL:https://visitcuritiba.tur.br/calendario/fabio-jr/
LOCATION:Teatro Positivo\, R. Prof. Pedro Viriato Parigot de Souza\, 5300\, Curitiba\, PR\, 81280-330\, Brasil
CATEGORIES:Show
END:VEVENT
BEGIN:VEVENT
DTSTART;VALUE=DATE:20240504
DTEND;VALUE=DATE:20240505
DTSTAMP:20260424T083330
CREATED:20240210T224838Z
LAST-MODIFIED:20240210T224838Z
UID:4950-1714780800-1714867199@visitcuritiba.tur.br
SUMMARY:Warung Day Festival
DESCRIPTION:
URL:https://visitcuritiba.tur.br/calendario/warung-day-festival-2/
LOCATION:Pedreira Paulo Leminski\, R. João Gava\, 970 - Abranches\, Curitiba\, Paraná\, 82130-010
CATEGORIES:Cultural
END:VEVENT
BEGIN:VEVENT
DTSTART;TZID=UTC:20240503T080000
DTEND;TZID=UTC:20240505T170000
DTSTAMP:20260424T083330
CREATED:20240502T161712Z
LAST-MODIFIED:20240502T161712Z
UID:5380-1714723200-1714928400@visitcuritiba.tur.br
SUMMARY:Vans Old Is Gold 2024
DESCRIPTION:
URL:https://visitcuritiba.tur.br/calendario/vans-old-is-gold-2024/
LOCATION:Curitiba Skate Park\, Tv. da Lapa\, Curitiba\, PR\, 80010-190\, Brasil
CATEGORIES:Cultural,Esportivo
END:VEVENT
BEGIN:VEVENT
DTSTART;VALUE=DATE:20240502
DTEND;VALUE=DATE:20240503
DTSTAMP:20260424T083330
CREATED:20240210T224621Z
LAST-MODIFIED:20240210T224621Z
UID:4948-1714608000-1714694399@visitcuritiba.tur.br
SUMMARY:Yamandú Costa
DESCRIPTION:
URL:https://visitcuritiba.tur.br/calendario/yamandu-costa/
LOCATION:Teatro Positivo\, R. Prof. Pedro Viriato Parigot de Souza\, 5300\, Curitiba\, PR\, 81280-330\, Brasil
CATEGORIES:Show
END:VEVENT
BEGIN:VEVENT
DTSTART;VALUE=DATE:20240501
DTEND;VALUE=DATE:20240513
DTSTAMP:20260424T083330
CREATED:20240210T224526Z
LAST-MODIFIED:20240502T161445Z
UID:4946-1714521600-1715558399@visitcuritiba.tur.br
SUMMARY:Feira Brasil Moda Show
DESCRIPTION:
URL:https://visitcuritiba.tur.br/calendario/feira-brasil-moda-show-2/
LOCATION:Centro de Eventos Positivo – Barigui\, Alameda Ecologica Burle Marx\, 2518\, Curitiba\, Paraná\, 82305-100
CATEGORIES:Feira
END:VEVENT
BEGIN:VEVENT
DTSTART;VALUE=DATE:20240501
DTEND;VALUE=DATE:20240506
DTSTAMP:20260424T083330
CREATED:20240502T161346Z
LAST-MODIFIED:20240502T161346Z
UID:5377-1714521600-1714953599@visitcuritiba.tur.br
SUMMARY:Festival Beerland
DESCRIPTION:
URL:https://visitcuritiba.tur.br/calendario/festival-beerland/
LOCATION:Carrefour Champagnat\, R. Dep. Heitor Alencar Furtado\, Curitiba\, PR\, 81200-110\, Brasil
CATEGORIES:Gastronomia
END:VEVENT
BEGIN:VEVENT
DTSTART;VALUE=DATE:20240427
DTEND;VALUE=DATE:20240428
DTSTAMP:20260424T083330
CREATED:20240210T224412Z
LAST-MODIFIED:20240210T224412Z
UID:4944-1714176000-1714262399@visitcuritiba.tur.br
SUMMARY:Show Roberta Miranda
DESCRIPTION:
URL:https://visitcuritiba.tur.br/calendario/show-roberta-miranda/
LOCATION:Teatro Positivo\, R. Prof. Pedro Viriato Parigot de Souza\, 5300\, Curitiba\, PR\, 81280-330\, Brasil
CATEGORIES:Show
END:VEVENT
BEGIN:VEVENT
DTSTART;VALUE=DATE:20240426
DTEND;VALUE=DATE:20240427
DTSTAMP:20260424T083330
CREATED:20240210T224336Z
LAST-MODIFIED:20240210T224336Z
UID:4942-1714089600-1714175999@visitcuritiba.tur.br
SUMMARY:Menos é Mais e Atitude 67
DESCRIPTION:
URL:https://visitcuritiba.tur.br/calendario/menos-e-mais-e-atitude-67/
LOCATION:Live Curitiba\, Rua Itajubá\, 143\, Curitiba\, Paraná\, 81050-040\, Brasil
CATEGORIES:Show
END:VEVENT
BEGIN:VEVENT
DTSTART;VALUE=DATE:20240426
DTEND;VALUE=DATE:20240427
DTSTAMP:20260424T083330
CREATED:20240210T224249Z
LAST-MODIFIED:20240210T224249Z
UID:4940-1714089600-1714175999@visitcuritiba.tur.br
SUMMARY:ABBA The Show Tour
DESCRIPTION:
URL:https://visitcuritiba.tur.br/calendario/abba-the-show-tour/
LOCATION:Teatro Positivo\, R. Prof. Pedro Viriato Parigot de Souza\, 5300\, Curitiba\, PR\, 81280-330\, Brasil
CATEGORIES:Show
END:VEVENT
BEGIN:VEVENT
DTSTART;VALUE=DATE:20240426
DTEND;VALUE=DATE:20240427
DTSTAMP:20260424T083330
CREATED:20240210T224205Z
LAST-MODIFIED:20240210T224205Z
UID:4938-1714089600-1714175999@visitcuritiba.tur.br
SUMMARY:Carcass e Killswitch Engage
DESCRIPTION:
URL:https://visitcuritiba.tur.br/calendario/carcass-e-killswitch-engage/
LOCATION:Tork ‘n’ Roll\, Av. Mal. Floriano Peixoto\, 1695 - Rebouças\, Curitiba\, Paraná\, 82590-300\, Brasil
CATEGORIES:Show
END:VEVENT
END:VCALENDAR