BEGIN:VCALENDAR
VERSION:2.0
PRODID:-//Curitiba e Região Convention &amp; Visitors Bureau- CCVB - ECPv6.15.20//NONSGML v1.0//EN
CALSCALE:GREGORIAN
METHOD:PUBLISH
X-ORIGINAL-URL:https://visitcuritiba.tur.br
X-WR-CALDESC:Eventos para Curitiba e Região Convention &amp; Visitors Bureau- CCVB
REFRESH-INTERVAL;VALUE=DURATION:PT1H
X-Robots-Tag:noindex
X-PUBLISHED-TTL:PT1H
BEGIN:VTIMEZONE
TZID:UTC
BEGIN:STANDARD
TZOFFSETFROM:+0000
TZOFFSETTO:+0000
TZNAME:UTC
DTSTART:20230101T000000
END:STANDARD
END:VTIMEZONE
BEGIN:VEVENT
DTSTART;VALUE=DATE:20240416
DTEND;VALUE=DATE:20240419
DTSTAMP:20260424T124539
CREATED:20240210T223409Z
LAST-MODIFIED:20240210T223409Z
UID:4924-1713225600-1713484799@visitcuritiba.tur.br
SUMMARY:ExpoApras 2023 - 40ª Feira e Convenção Paranaense de Supermercados
DESCRIPTION:
URL:https://visitcuritiba.tur.br/calendario/expoapras-2023-40a-feira-e-convencao-paranaense-de-supermercados-2/
LOCATION:Expotrade Convention Center\, Rodovia Deputado Leopoldo Jacomel\, 10454 - Vila Amelia\, Pinhais\, Paraná\, 83320-005\, Brasil
CATEGORIES:Feira
END:VEVENT
BEGIN:VEVENT
DTSTART;VALUE=DATE:20240416
DTEND;VALUE=DATE:20240417
DTSTAMP:20260424T124539
CREATED:20240210T223316Z
LAST-MODIFIED:20240210T223316Z
UID:4921-1713225600-1713311999@visitcuritiba.tur.br
SUMMARY:Emblem3
DESCRIPTION:
URL:https://visitcuritiba.tur.br/calendario/emblem3/
LOCATION:Teatro Bom Jesus\, Rua 24 de Maio\, 135 - Centro\, Curitiba\, PR\, 80230-080\, Brasil
CATEGORIES:Show
END:VEVENT
BEGIN:VEVENT
DTSTART;VALUE=DATE:20240415
DTEND;VALUE=DATE:20240416
DTSTAMP:20260424T124539
CREATED:20240210T223203Z
LAST-MODIFIED:20240210T223203Z
UID:4919-1713139200-1713225599@visitcuritiba.tur.br
SUMMARY:Rick Wakeman
DESCRIPTION:
URL:https://visitcuritiba.tur.br/calendario/rick-wakeman/
LOCATION:Ópera de Arame\, R. João Gava\, 920 - Abranches\, Curitiba\, Paraná\, 82130-010\, Brasil
CATEGORIES:Show
END:VEVENT
BEGIN:VEVENT
DTSTART;VALUE=DATE:20240413
DTEND;VALUE=DATE:20240414
DTSTAMP:20260424T124539
CREATED:20240210T223111Z
LAST-MODIFIED:20240210T223111Z
UID:4917-1712966400-1713052799@visitcuritiba.tur.br
SUMMARY:SPC Acústico 2 | O Último Encontro
DESCRIPTION:
URL:https://visitcuritiba.tur.br/calendario/spc-acustico-2-o-ultimo-encontro/
LOCATION:Pedreira Paulo Leminski\, R. João Gava\, 970 - Abranches\, Curitiba\, Paraná\, 82130-010
CATEGORIES:Show
END:VEVENT
BEGIN:VEVENT
DTSTART;VALUE=DATE:20240413
DTEND;VALUE=DATE:20240414
DTSTAMP:20260424T124539
CREATED:20240210T222825Z
LAST-MODIFIED:20240210T222955Z
UID:4915-1712966400-1713052799@visitcuritiba.tur.br
SUMMARY:Barão Vermelho
DESCRIPTION:
URL:https://visitcuritiba.tur.br/calendario/barao-vermelho/
LOCATION:Teatro Positivo\, R. Prof. Pedro Viriato Parigot de Souza\, 5300\, Curitiba\, PR\, 81280-330\, Brasil
CATEGORIES:Show
END:VEVENT
BEGIN:VEVENT
DTSTART;TZID=UTC:20240412T080000
DTEND;TZID=UTC:20240412T170000
DTSTAMP:20260424T124539
CREATED:20240117T182647Z
LAST-MODIFIED:20240117T182647Z
UID:4841-1712908800-1712941200@visitcuritiba.tur.br
SUMMARY:Ian Anderson e Jethro Tull
DESCRIPTION:
URL:https://visitcuritiba.tur.br/calendario/ian-anderson-e-jethro-tull/
LOCATION:Teatro Positivo\, R. Prof. Pedro Viriato Parigot de Souza\, 5300\, Curitiba\, PR\, 81280-330\, Brasil
CATEGORIES:Show
END:VEVENT
BEGIN:VEVENT
DTSTART;VALUE=DATE:20240412
DTEND;VALUE=DATE:20240422
DTSTAMP:20260424T124539
CREATED:20240210T222713Z
LAST-MODIFIED:20240210T222713Z
UID:4913-1712880000-1713743999@visitcuritiba.tur.br
SUMMARY:Feiarte
DESCRIPTION:
URL:https://visitcuritiba.tur.br/calendario/feiarte/
LOCATION:Centro de Eventos Positivo\, Alameda Ecologica Burle Marx\, 2518 - Santo Inácio\, Curitiba\, Paraná\, 82305-100\, Brasil
CATEGORIES:Feira
END:VEVENT
BEGIN:VEVENT
DTSTART;VALUE=DATE:20240412
DTEND;VALUE=DATE:20240413
DTSTAMP:20260424T124539
CREATED:20240210T222604Z
LAST-MODIFIED:20240210T222604Z
UID:4911-1712880000-1712966399@visitcuritiba.tur.br
SUMMARY:Padre Fabio De Melo - Especial Dia das Mães
DESCRIPTION:
URL:https://visitcuritiba.tur.br/calendario/padre-fabio-de-melo-especial-dia-das-maes-2/
LOCATION:Teatro Positivo\, R. Prof. Pedro Viriato Parigot de Souza\, 5300\, Curitiba\, PR\, 81280-330\, Brasil
CATEGORIES:Show
END:VEVENT
BEGIN:VEVENT
DTSTART;VALUE=DATE:20240407
DTEND;VALUE=DATE:20240408
DTSTAMP:20260424T124539
CREATED:20240117T182504Z
LAST-MODIFIED:20240117T182504Z
UID:4839-1712448000-1712534399@visitcuritiba.tur.br
SUMMARY:Ultimo Ato -  Bailarino do Royal Ballet
DESCRIPTION:
URL:https://visitcuritiba.tur.br/calendario/ultimo-ato-bailarino-do-royal-ballet/
LOCATION:Teatro Positivo\, R. Prof. Pedro Viriato Parigot de Souza\, 5300\, Curitiba\, PR\, 81280-330\, Brasil
CATEGORIES:Cultural
END:VEVENT
BEGIN:VEVENT
DTSTART;VALUE=DATE:20240406
DTEND;VALUE=DATE:20240407
DTSTAMP:20260424T124539
CREATED:20240210T222247Z
LAST-MODIFIED:20240210T222247Z
UID:4909-1712361600-1712447999@visitcuritiba.tur.br
SUMMARY:André Abreu - Queen Celebration e Orquestra Greatest Hits Tour
DESCRIPTION:
URL:https://visitcuritiba.tur.br/calendario/andre-abreu-queen-celebration-e-orquestra-greatest-hits-tour/
LOCATION:Teatro Positivo\, R. Prof. Pedro Viriato Parigot de Souza\, 5300\, Curitiba\, PR\, 81280-330\, Brasil
CATEGORIES:Show
END:VEVENT
BEGIN:VEVENT
DTSTART;VALUE=DATE:20240406
DTEND;VALUE=DATE:20240407
DTSTAMP:20260424T124539
CREATED:20240117T182413Z
LAST-MODIFIED:20240117T182413Z
UID:4837-1712361600-1712447999@visitcuritiba.tur.br
SUMMARY:Curitiba Folia
DESCRIPTION:
URL:https://visitcuritiba.tur.br/calendario/curitiba-folia/
LOCATION:Expotrade Convention Center\, Rodovia Deputado Leopoldo Jacomel\, 10454 - Vila Amelia\, Pinhais\, Paraná\, 83320-005\, Brasil
CATEGORIES:Cultural
END:VEVENT
BEGIN:VEVENT
DTSTART;VALUE=DATE:20240405
DTEND;VALUE=DATE:20240406
DTSTAMP:20260424T124539
CREATED:20240210T222038Z
LAST-MODIFIED:20240210T222038Z
UID:4907-1712275200-1712361599@visitcuritiba.tur.br
SUMMARY:Zizi Possi
DESCRIPTION:
URL:https://visitcuritiba.tur.br/calendario/zizi-possi/
LOCATION:Teatro Positivo\, R. Prof. Pedro Viriato Parigot de Souza\, 5300\, Curitiba\, PR\, 81280-330\, Brasil
CATEGORIES:Show
END:VEVENT
BEGIN:VEVENT
DTSTART;VALUE=DATE:20240325
DTEND;VALUE=DATE:20240408
DTSTAMP:20260424T124539
CREATED:20240109T144207Z
LAST-MODIFIED:20240210T221959Z
UID:4734-1711324800-1712534399@visitcuritiba.tur.br
SUMMARY:Festival de Curitiba
DESCRIPTION:
URL:https://visitcuritiba.tur.br/calendario/festival-de-curitiba/
LOCATION:Diversos Locais\, Curitiba\, Paraná\, Brasil
CATEGORIES:Cultural
END:VEVENT
BEGIN:VEVENT
DTSTART;VALUE=DATE:20240324
DTEND;VALUE=DATE:20240325
DTSTAMP:20260424T124539
CREATED:20240109T144323Z
LAST-MODIFIED:20240109T144323Z
UID:4736-1711238400-1711324799@visitcuritiba.tur.br
SUMMARY:Delacruz
DESCRIPTION:
URL:https://visitcuritiba.tur.br/calendario/delacruz/
LOCATION:Teatro Positivo\, R. Prof. Pedro Viriato Parigot de Souza\, 5300\, Curitiba\, PR\, 81280-330\, Brasil
CATEGORIES:Show
END:VEVENT
BEGIN:VEVENT
DTSTART;VALUE=DATE:20240323
DTEND;VALUE=DATE:20240324
DTSTAMP:20260424T124539
CREATED:20240210T221844Z
LAST-MODIFIED:20240210T221844Z
UID:4905-1711152000-1711238399@visitcuritiba.tur.br
SUMMARY:Show Hungria e Veigh
DESCRIPTION:
URL:https://visitcuritiba.tur.br/calendario/show-hungria-e-veigh/
LOCATION:Live Curitiba\, Rua Itajubá\, 143\, Curitiba\, Paraná\, 81050-040\, Brasil
CATEGORIES:Show
END:VEVENT
BEGIN:VEVENT
DTSTART;VALUE=DATE:20240323
DTEND;VALUE=DATE:20240324
DTSTAMP:20260424T124539
CREATED:20240109T144109Z
LAST-MODIFIED:20240109T144109Z
UID:4732-1711152000-1711238399@visitcuritiba.tur.br
SUMMARY:Show Roberto Carlos
DESCRIPTION:
URL:https://visitcuritiba.tur.br/calendario/show-roberto-carlos/
LOCATION:Ligga Arena\, R. Buenos Aires\, 1260 - Água Verde\, Curitiba\, Paraná\, 80250-070\, Brasil
CATEGORIES:Show
END:VEVENT
BEGIN:VEVENT
DTSTART;VALUE=DATE:20240322
DTEND;VALUE=DATE:20240323
DTSTAMP:20260424T124539
CREATED:20240210T221741Z
LAST-MODIFIED:20240210T221741Z
UID:4903-1711065600-1711151999@visitcuritiba.tur.br
SUMMARY:Detonautas Tour 20 Anos - Acústico
DESCRIPTION:
URL:https://visitcuritiba.tur.br/calendario/detonautas-tour-20-anos-acustico/
LOCATION:Teatro Guaíra\, R. XV de Novembro\, 971 - Centro\, Curitiba\, Paraná\, 80060-000\, Brasil
CATEGORIES:Show
END:VEVENT
BEGIN:VEVENT
DTSTART;VALUE=DATE:20240322
DTEND;VALUE=DATE:20240323
DTSTAMP:20260424T124539
CREATED:20240117T151611Z
LAST-MODIFIED:20240117T151611Z
UID:4835-1711065600-1711151999@visitcuritiba.tur.br
SUMMARY:Show Sandy
DESCRIPTION:
URL:https://visitcuritiba.tur.br/calendario/show-sandy/
LOCATION:Teatro Positivo\, R. Prof. Pedro Viriato Parigot de Souza\, 5300\, Curitiba\, PR\, 81280-330\, Brasil
CATEGORIES:Show
END:VEVENT
BEGIN:VEVENT
DTSTART;VALUE=DATE:20240322
DTEND;VALUE=DATE:20240323
DTSTAMP:20260424T124539
CREATED:20240109T144028Z
LAST-MODIFIED:20240109T144028Z
UID:4730-1711065600-1711151999@visitcuritiba.tur.br
SUMMARY:Sepultura - Turnê de Despedida
DESCRIPTION:
URL:https://visitcuritiba.tur.br/calendario/sepultura-turne-de-despedida/
LOCATION:Live Curitiba\, Rua Itajubá\, 143\, Curitiba\, Paraná\, 81050-040\, Brasil
CATEGORIES:Show
END:VEVENT
BEGIN:VEVENT
DTSTART;VALUE=DATE:20240321
DTEND;VALUE=DATE:20240322
DTSTAMP:20260424T124539
CREATED:20240210T221612Z
LAST-MODIFIED:20240210T221612Z
UID:4901-1710979200-1711065599@visitcuritiba.tur.br
SUMMARY:Show Kamaal Williams
DESCRIPTION:
URL:https://visitcuritiba.tur.br/calendario/show-kamaal-williams/
LOCATION:Ópera de Arame\, R. João Gava\, 920 - Abranches\, Curitiba\, Paraná\, 82130-010\, Brasil
CATEGORIES:Show
END:VEVENT
BEGIN:VEVENT
DTSTART;VALUE=DATE:20240320
DTEND;VALUE=DATE:20240416
DTSTAMP:20260424T124539
CREATED:20240322T181650Z
LAST-MODIFIED:20240322T181650Z
UID:5267-1710892800-1713225599@visitcuritiba.tur.br
SUMMARY:Festival do Pão com Bolinho
DESCRIPTION:São 52 estabelecimentos participantes com preço fixo do sanduíche a R$ 22\, e alguns bares ofertam o combo com um drink a R$43. \nEm referência ao Festival de Curitiba\, os sanduíches ganharam nomes de personagens do teatro ou cinema.
URL:https://visitcuritiba.tur.br/calendario/festival-do-pao-com-bolinho/
LOCATION:Diversos Locais\, Curitiba\, Paraná\, Brasil
CATEGORIES:Gastronomia
ATTACH;FMTTYPE=image/jpeg:https://visitcuritiba.tur.br/wp-content/uploads/2024/03/Imagem-do-WhatsApp-de-2023-11-03-as-10.24.22_387fdd60-1024x662-1.jpg
END:VEVENT
BEGIN:VEVENT
DTSTART;VALUE=DATE:20240320
DTEND;VALUE=DATE:20240323
DTSTAMP:20260424T124539
CREATED:20240109T143939Z
LAST-MODIFIED:20240322T182347Z
UID:4728-1710892800-1711151999@visitcuritiba.tur.br
SUMMARY:5º Smart City Expo Curitiba
DESCRIPTION:Criado em parceria com a Fira Barcelona\, organizadora do principal Congresso Mundial de cidades inteligentes\, o Smart City Expo World Congress\, o Smart City Expo Curitiba reúne especialistas de todas as áreas para compartilhar ideias e soluções sobre como criar um futuro melhor e mais sustentável para as cidades e seus cidadãos.
URL:https://visitcuritiba.tur.br/calendario/5o-smart-city-expo-curitiba/
LOCATION:Centro de Eventos Positivo\, Alameda Ecologica Burle Marx\, 2518 - Santo Inácio\, Curitiba\, Paraná\, 82305-100\, Brasil
CATEGORIES:Feira
ATTACH;FMTTYPE=image/jpeg:https://visitcuritiba.tur.br/wp-content/uploads/2024/01/LOGOS-21.jpg
END:VEVENT
BEGIN:VEVENT
DTSTART;VALUE=DATE:20240320
DTEND;VALUE=DATE:20240321
DTSTAMP:20260424T124539
CREATED:20240210T221521Z
LAST-MODIFIED:20240210T221521Z
UID:4899-1710892800-1710979199@visitcuritiba.tur.br
SUMMARY:Conferência Mentes Brilhantes
DESCRIPTION:
URL:https://visitcuritiba.tur.br/calendario/conferencia-mentes-brilhantes/
LOCATION:Teatro Positivo\, R. Prof. Pedro Viriato Parigot de Souza\, 5300\, Curitiba\, PR\, 81280-330\, Brasil
CATEGORIES:Conferência
END:VEVENT
BEGIN:VEVENT
DTSTART;VALUE=DATE:20240319
DTEND;VALUE=DATE:20240322
DTSTAMP:20260424T124539
CREATED:20240210T221145Z
LAST-MODIFIED:20240210T221145Z
UID:4897-1710806400-1711065599@visitcuritiba.tur.br
SUMMARY:EMUPAR - Encontro de Munícipios Paranaenses
DESCRIPTION:
URL:https://visitcuritiba.tur.br/calendario/emupar-encontro-de-municipios-paranaenses/
LOCATION:Jockey Club do Paraná\, Avenida Victor Ferreira do Amaral\, Praça Jóquei Pinheiro Filho\, 2299\, Curitiba\, PR\, : 82800-000\, Brazil
CATEGORIES:Conferência
END:VEVENT
BEGIN:VEVENT
DTSTART;VALUE=DATE:20240317
DTEND;VALUE=DATE:20240320
DTSTAMP:20260424T124539
CREATED:20240109T143849Z
LAST-MODIFIED:20240210T221236Z
UID:4726-1710633600-1710892799@visitcuritiba.tur.br
SUMMARY:FIDI - Feira Internacional de Destinos Inteligentes
DESCRIPTION:
URL:https://visitcuritiba.tur.br/calendario/fidi-feira-internacional-de-destinos-inteligentes/
LOCATION:Centro de Eventos Positivo\, Alameda Ecologica Burle Marx\, 2518 - Santo Inácio\, Curitiba\, Paraná\, 82305-100\, Brasil
CATEGORIES:Feira
END:VEVENT
BEGIN:VEVENT
DTSTART;VALUE=DATE:20240316
DTEND;VALUE=DATE:20240318
DTSTAMP:20260424T124539
CREATED:20240210T221030Z
LAST-MODIFIED:20240210T221030Z
UID:4895-1710547200-1710719999@visitcuritiba.tur.br
SUMMARY:Festival Primavera Sabor e Som
DESCRIPTION:
URL:https://visitcuritiba.tur.br/calendario/festival-primavera-sabor-e-som-2/
LOCATION:White Hall Arena Jockey\, R. Dino Bertoldi\, 740\, Curitiba\, PR\, 82590-300\, Brasil
CATEGORIES:Cultural,Festival musical,Gastronomia
END:VEVENT
BEGIN:VEVENT
DTSTART;VALUE=DATE:20240316
DTEND;VALUE=DATE:20240317
DTSTAMP:20260424T124539
CREATED:20240210T220938Z
LAST-MODIFIED:20240210T220938Z
UID:4893-1710547200-1710633599@visitcuritiba.tur.br
SUMMARY:Djonga em Curitiba
DESCRIPTION:
URL:https://visitcuritiba.tur.br/calendario/djonga-em-curitiba/
LOCATION:Live Curitiba\, Rua Itajubá\, 143\, Curitiba\, Paraná\, 81050-040\, Brasil
CATEGORIES:Show
END:VEVENT
BEGIN:VEVENT
DTSTART;VALUE=DATE:20240315
DTEND;VALUE=DATE:20240316
DTSTAMP:20260424T124539
CREATED:20240109T143630Z
LAST-MODIFIED:20240109T143630Z
UID:4724-1710460800-1710547199@visitcuritiba.tur.br
SUMMARY:Show 2Z
DESCRIPTION:
URL:https://visitcuritiba.tur.br/calendario/show-2z/
LOCATION:CWB Hall\, R. Dr. Claudino dos Santos\, 72 - São Francisco\, Curitiba\, Paraná\, 80020-170\, Brasil
CATEGORIES:Show
END:VEVENT
BEGIN:VEVENT
DTSTART;VALUE=DATE:20240314
DTEND;VALUE=DATE:20240316
DTSTAMP:20260424T124539
CREATED:20240109T131352Z
LAST-MODIFIED:20240109T131352Z
UID:4718-1710374400-1710547199@visitcuritiba.tur.br
SUMMARY:IV Conferência Nacional da Mulher Advogada
DESCRIPTION:
URL:https://visitcuritiba.tur.br/calendario/iv-conferencia-nacional-da-mulher-advogada/
LOCATION:Jockey Club do Paraná\, Avenida Victor Ferreira do Amaral\, Praça Jóquei Pinheiro Filho\, 2299\, Curitiba\, PR\, : 82800-000\, Brazil
CATEGORIES:Conferência
END:VEVENT
BEGIN:VEVENT
DTSTART;VALUE=DATE:20240313
DTEND;VALUE=DATE:20240317
DTSTAMP:20260424T124539
CREATED:20240210T220819Z
LAST-MODIFIED:20240210T220819Z
UID:4891-1710288000-1710633599@visitcuritiba.tur.br
SUMMARY:Congresso Paranaense de Pediatria
DESCRIPTION:
URL:https://visitcuritiba.tur.br/calendario/congresso-paranaense-de-pediatria/
LOCATION:Centro de Eventos FIEP\, Av. Com. Franco\, 1341 - Jardim Botânico\, Curitiba\, Paraná\, 80215-090
CATEGORIES:Congresso
END:VEVENT
END:VCALENDAR