BEGIN:VCALENDAR
VERSION:2.0
PRODID:-//Curitiba e Região Convention &amp; Visitors Bureau- CCVB - ECPv6.15.20//NONSGML v1.0//EN
CALSCALE:GREGORIAN
METHOD:PUBLISH
X-ORIGINAL-URL:https://visitcuritiba.tur.br
X-WR-CALDESC:Eventos para Curitiba e Região Convention &amp; Visitors Bureau- CCVB
REFRESH-INTERVAL;VALUE=DURATION:PT1H
X-Robots-Tag:noindex
X-PUBLISHED-TTL:PT1H
BEGIN:VTIMEZONE
TZID:UTC
BEGIN:STANDARD
TZOFFSETFROM:+0000
TZOFFSETTO:+0000
TZNAME:UTC
DTSTART:20220101T000000
END:STANDARD
END:VTIMEZONE
BEGIN:VEVENT
DTSTART;VALUE=DATE:20240308
DTEND;VALUE=DATE:20240309
DTSTAMP:20260424T170324
CREATED:20240117T151338Z
LAST-MODIFIED:20240117T151338Z
UID:4831-1709856000-1709942399@visitcuritiba.tur.br
SUMMARY:Paula Toller | Turnê de 40 Anos de Sucesso
DESCRIPTION:
URL:https://visitcuritiba.tur.br/calendario/paula-toller-turne-de-40-anos-de-sucesso-2/
LOCATION:Ópera de Arame\, R. João Gava\, 920 - Abranches\, Curitiba\, Paraná\, 82130-010\, Brasil
CATEGORIES:Show
END:VEVENT
BEGIN:VEVENT
DTSTART;VALUE=DATE:20240308
DTEND;VALUE=DATE:20240309
DTSTAMP:20260424T170324
CREATED:20240117T151259Z
LAST-MODIFIED:20240117T151259Z
UID:4829-1709856000-1709942399@visitcuritiba.tur.br
SUMMARY:“Ao Arrepio da Lei” - Chico César e Zeca Baleiro
DESCRIPTION:
URL:https://visitcuritiba.tur.br/calendario/ao-arrepio-da-lei-chico-cesar-e-zeca-baleiro/
LOCATION:Teatro Guaíra\, R. XV de Novembro\, 971 - Centro\, Curitiba\, Paraná\, 80060-000\, Brasil
CATEGORIES:Show
END:VEVENT
BEGIN:VEVENT
DTSTART;VALUE=DATE:20240308
DTEND;VALUE=DATE:20240309
DTSTAMP:20260424T170324
CREATED:20240117T151215Z
LAST-MODIFIED:20240117T151215Z
UID:4827-1709856000-1709942399@visitcuritiba.tur.br
SUMMARY:Zezé di Camargo e Luciano
DESCRIPTION:
URL:https://visitcuritiba.tur.br/calendario/zeze-di-camargo-e-luciano/
LOCATION:Teatro Positivo\, R. Prof. Pedro Viriato Parigot de Souza\, 5300\, Curitiba\, PR\, 81280-330\, Brasil
CATEGORIES:Show
END:VEVENT
BEGIN:VEVENT
DTSTART;VALUE=DATE:20240308
DTEND;VALUE=DATE:20240309
DTSTAMP:20260424T170324
CREATED:20231204T152926Z
LAST-MODIFIED:20231204T152926Z
UID:4686-1709856000-1709942399@visitcuritiba.tur.br
SUMMARY:Paula Toller - Turnê de 40 Anos de Sucesso
DESCRIPTION:
URL:https://visitcuritiba.tur.br/calendario/paula-toller-turne-de-40-anos-de-sucesso/
LOCATION:Ópera de Arame\, R. João Gava\, 920 - Abranches\, Curitiba\, Paraná\, 82130-010\, Brasil
CATEGORIES:Show
END:VEVENT
BEGIN:VEVENT
DTSTART;VALUE=DATE:20240307
DTEND;VALUE=DATE:20240309
DTSTAMP:20260424T170324
CREATED:20231204T152715Z
LAST-MODIFIED:20231204T152715Z
UID:4684-1709769600-1709942399@visitcuritiba.tur.br
SUMMARY:Expo Turismo Paraná
DESCRIPTION:
URL:https://visitcuritiba.tur.br/calendario/expo-turismo-parana-2/
LOCATION:Jockey Club do Paraná\, Avenida Victor Ferreira do Amaral\, Praça Jóquei Pinheiro Filho\, 2299\, Curitiba\, PR\, : 82800-000\, Brazil
CATEGORIES:Networking
END:VEVENT
BEGIN:VEVENT
DTSTART;VALUE=DATE:20240303
DTEND;VALUE=DATE:20240304
DTSTAMP:20260424T170324
CREATED:20231204T152501Z
LAST-MODIFIED:20231204T152501Z
UID:4682-1709424000-1709510399@visitcuritiba.tur.br
SUMMARY:Festival I Wanna Be Tour
DESCRIPTION:
URL:https://visitcuritiba.tur.br/calendario/festival-i-wanna-be-tour/
LOCATION:Estádio Major Antônio Couto Pereira\, R. Ubaldino do Amaral\, 63 - Alto da Glória\, Curitiba\, Paraná\, 80060-195\, Brasil
CATEGORIES:Festival musical
END:VEVENT
BEGIN:VEVENT
DTSTART;TZID=UTC:20240302T210000
DTEND;TZID=UTC:20240302T230000
DTSTAMP:20260424T170324
CREATED:20231204T152250Z
LAST-MODIFIED:20231204T152250Z
UID:4680-1709413200-1709420400@visitcuritiba.tur.br
SUMMARY:Show Di Paullo e Paulino
DESCRIPTION:
URL:https://visitcuritiba.tur.br/calendario/show-di-paullo-e-paulino/
LOCATION:Teatro Positivo\, R. Prof. Pedro Viriato Parigot de Souza\, 5300\, Curitiba\, PR\, 81280-330\, Brasil
CATEGORIES:Show
END:VEVENT
BEGIN:VEVENT
DTSTART;TZID=UTC:20240302T210000
DTEND;TZID=UTC:20240302T230000
DTSTAMP:20260424T170324
CREATED:20231204T151916Z
LAST-MODIFIED:20231204T151916Z
UID:4678-1709413200-1709420400@visitcuritiba.tur.br
SUMMARY:Oswaldo Montenegro
DESCRIPTION:
URL:https://visitcuritiba.tur.br/calendario/oswaldo-montenegro/
LOCATION:Teatro Guaíra\, R. XV de Novembro\, 971 - Centro\, Curitiba\, Paraná\, 80060-000\, Brasil
CATEGORIES:Show
END:VEVENT
BEGIN:VEVENT
DTSTART;VALUE=DATE:20240301
DTEND;VALUE=DATE:20240325
DTSTAMP:20260424T170324
CREATED:20240210T220129Z
LAST-MODIFIED:20240322T182149Z
UID:4882-1709251200-1711324799@visitcuritiba.tur.br
SUMMARY:Festival Bom Gourmet
DESCRIPTION:De 1° a 24 de março\, menus completos com entrada\, prato principal e sobremesa a preços democráticos – R$ 69\,90\, R$ 89\,90 e R$109\,90.
URL:https://visitcuritiba.tur.br/calendario/festival-bom-gourmet/
LOCATION:Diversos Locais\, Curitiba\, Paraná\, Brasil
CATEGORIES:Gastronomia
ATTACH;FMTTYPE=image/jpeg:https://visitcuritiba.tur.br/wp-content/uploads/2024/02/LOGOS-20.jpg
END:VEVENT
BEGIN:VEVENT
DTSTART;VALUE=DATE:20240301
DTEND;VALUE=DATE:20240304
DTSTAMP:20260424T170324
CREATED:20240210T220414Z
LAST-MODIFIED:20240210T220414Z
UID:4884-1709251200-1709510399@visitcuritiba.tur.br
SUMMARY:Irene Ravache - Espetáculo "Alma Despejada"
DESCRIPTION:
URL:https://visitcuritiba.tur.br/calendario/irene-ravache-espetaculo-alma-despejada/
LOCATION:Teatro Fernanda Montenegro\, Shopping Novo\, R. Cel. Dulcídio\, Curitiba\, PR\, 80420-060\, Brasil
CATEGORIES:Teatro
END:VEVENT
BEGIN:VEVENT
DTSTART;VALUE=DATE:20240301
DTEND;VALUE=DATE:20240302
DTSTAMP:20260424T170324
CREATED:20240210T215604Z
LAST-MODIFIED:20240210T215604Z
UID:4880-1709251200-1709337599@visitcuritiba.tur.br
SUMMARY:Regis Danese e Ton Carfi
DESCRIPTION:
URL:https://visitcuritiba.tur.br/calendario/regis-danese-e-ton-carfi/
LOCATION:Teatro Positivo\, R. Prof. Pedro Viriato Parigot de Souza\, 5300\, Curitiba\, PR\, 81280-330\, Brasil
CATEGORIES:Show
END:VEVENT
BEGIN:VEVENT
DTSTART;TZID=UTC:20240227T210000
DTEND;TZID=UTC:20240227T230000
DTSTAMP:20260424T170324
CREATED:20231204T151700Z
LAST-MODIFIED:20231204T151700Z
UID:4675-1709067600-1709074800@visitcuritiba.tur.br
SUMMARY:Elvis Experience com Dean Z
DESCRIPTION:
URL:https://visitcuritiba.tur.br/calendario/elvis-experience-com-dean-z/
LOCATION:Teatro Guaíra\, R. XV de Novembro\, 971 - Centro\, Curitiba\, Paraná\, 80060-000\, Brasil
CATEGORIES:Show
END:VEVENT
BEGIN:VEVENT
DTSTART;VALUE=DATE:20240224
DTEND;VALUE=DATE:20240225
DTSTAMP:20260424T170324
CREATED:20240109T130624Z
LAST-MODIFIED:20240109T130624Z
UID:4712-1708732800-1708819199@visitcuritiba.tur.br
SUMMARY:Elba Ramalho
DESCRIPTION:
URL:https://visitcuritiba.tur.br/calendario/elba-ramalho/
LOCATION:Teatro Guaíra\, R. XV de Novembro\, 971 - Centro\, Curitiba\, Paraná\, 80060-000\, Brasil
CATEGORIES:Show
END:VEVENT
BEGIN:VEVENT
DTSTART;VALUE=DATE:20240224
DTEND;VALUE=DATE:20240225
DTSTAMP:20260424T170324
CREATED:20231204T151437Z
LAST-MODIFIED:20231204T151437Z
UID:4673-1708732800-1708819199@visitcuritiba.tur.br
SUMMARY:Jão SUPERTURNÊ
DESCRIPTION:
URL:https://visitcuritiba.tur.br/calendario/jao-superturne/
LOCATION:Pedreira Paulo Leminski\, R. João Gava\, 970 - Abranches\, Curitiba\, Paraná\, 82130-010
CATEGORIES:Show
END:VEVENT
BEGIN:VEVENT
DTSTART;VALUE=DATE:20240223
DTEND;VALUE=DATE:20240224
DTSTAMP:20260424T170324
CREATED:20240109T142853Z
LAST-MODIFIED:20240109T142853Z
UID:4720-1708646400-1708732799@visitcuritiba.tur.br
SUMMARY:Comeback Kid
DESCRIPTION:
URL:https://visitcuritiba.tur.br/calendario/comeback-kid/
LOCATION:Basement Cultural\, Rua Benvindo Valente\, 260 – São Francisco\, Curitiba\, Paraná\, 80520-020\, Brasil
CATEGORIES:Show
END:VEVENT
BEGIN:VEVENT
DTSTART;VALUE=DATE:20240220
DTEND;VALUE=DATE:20240221
DTSTAMP:20260424T170324
CREATED:20240109T130529Z
LAST-MODIFIED:20240109T130529Z
UID:4710-1708387200-1708473599@visitcuritiba.tur.br
SUMMARY:Men At Work
DESCRIPTION:
URL:https://visitcuritiba.tur.br/calendario/men-at-work/
LOCATION:Live Curitiba\, Rua Itajubá\, 143\, Curitiba\, Paraná\, 81050-040\, Brasil
CATEGORIES:Show
END:VEVENT
BEGIN:VEVENT
DTSTART;TZID=UTC:20240217T210000
DTEND;TZID=UTC:20240217T230000
DTSTAMP:20260424T170324
CREATED:20231204T150221Z
LAST-MODIFIED:20231204T150221Z
UID:4670-1708203600-1708210800@visitcuritiba.tur.br
SUMMARY:Show Gabriela Rocha
DESCRIPTION:
URL:https://visitcuritiba.tur.br/calendario/show-gabriela-rocha/
LOCATION:Teatro Positivo\, R. Prof. Pedro Viriato Parigot de Souza\, 5300\, Curitiba\, PR\, 81280-330\, Brasil
CATEGORIES:Show
END:VEVENT
BEGIN:VEVENT
DTSTART;VALUE=DATE:20240208
DTEND;VALUE=DATE:20240214
DTSTAMP:20260424T170324
CREATED:20240117T151023Z
LAST-MODIFIED:20240117T151023Z
UID:4825-1707350400-1707868799@visitcuritiba.tur.br
SUMMARY:Psycho Carnival
DESCRIPTION:
URL:https://visitcuritiba.tur.br/calendario/psycho-carnival/
LOCATION:Jokers Pub\, R. São Francisco\, 164 - Centro\, Curitiba\, PR\, 80020-190\, Brasil
CATEGORIES:Cultural
END:VEVENT
BEGIN:VEVENT
DTSTART;TZID=UTC:20240203T220000
DTEND;TZID=UTC:20240204T130000
DTSTAMP:20260424T170324
CREATED:20231204T145624Z
LAST-MODIFIED:20231204T145624Z
UID:4668-1706997600-1707051600@visitcuritiba.tur.br
SUMMARY:Ferrugem
DESCRIPTION:
URL:https://visitcuritiba.tur.br/calendario/ferrugem/
LOCATION:Live Curitiba\, Rua Itajubá\, 143\, Curitiba\, Paraná\, 81050-040\, Brasil
CATEGORIES:Show
END:VEVENT
BEGIN:VEVENT
DTSTART;VALUE=DATE:20240203
DTEND;VALUE=DATE:20240204
DTSTAMP:20260424T170324
CREATED:20230112T194150Z
LAST-MODIFIED:20231204T151726Z
UID:2766-1706918400-1707004799@visitcuritiba.tur.br
SUMMARY:Ensaios da Anitta
DESCRIPTION:
URL:https://visitcuritiba.tur.br/calendario/ensaios-da-anitta/
LOCATION:Estádio Durival Britto e Silva\, Rua Engenheiros Rebouças\, 1100\, Curitiba\, PR\, 80215-100\, Brasil
CATEGORIES:Show
END:VEVENT
BEGIN:VEVENT
DTSTART;VALUE=DATE:20240127
DTEND;VALUE=DATE:20240128
DTSTAMP:20260424T170324
CREATED:20240117T150930Z
LAST-MODIFIED:20240117T150930Z
UID:4823-1706313600-1706399999@visitcuritiba.tur.br
SUMMARY:CarnaVibe
DESCRIPTION:
URL:https://visitcuritiba.tur.br/calendario/carnavibe/
LOCATION:Expotrade Convention Center\, Rodovia Deputado Leopoldo Jacomel\, 10454 - Vila Amelia\, Pinhais\, Paraná\, 83320-005\, Brasil
CATEGORIES:Cultural
END:VEVENT
BEGIN:VEVENT
DTSTART;VALUE=DATE:20240125
DTEND;VALUE=DATE:20240205
DTSTAMP:20260424T170324
CREATED:20240117T150608Z
LAST-MODIFIED:20240117T150608Z
UID:4819-1706140800-1707091199@visitcuritiba.tur.br
SUMMARY:41° Oficina de Música de Curitiba
DESCRIPTION:
URL:https://visitcuritiba.tur.br/calendario/41-oficina-de-musica-de-curitiba/
LOCATION:Diversos Locais\, Curitiba\, Paraná\, Brasil
CATEGORIES:Cultural
END:VEVENT
BEGIN:VEVENT
DTSTART;VALUE=DATE:20240119
DTEND;VALUE=DATE:20240121
DTSTAMP:20260424T170324
CREATED:20240117T150717Z
LAST-MODIFIED:20240117T150743Z
UID:4821-1705622400-1705795199@visitcuritiba.tur.br
SUMMARY:Elis\, A Musical
DESCRIPTION:
URL:https://visitcuritiba.tur.br/calendario/elis-a-musical/
LOCATION:Teatro Guaíra\, R. XV de Novembro\, 971 - Centro\, Curitiba\, Paraná\, 80060-000\, Brasil
CATEGORIES:Cultural,Show,Teatro
END:VEVENT
BEGIN:VEVENT
DTSTART;TZID=UTC:20240117T210000
DTEND;TZID=UTC:20240117T230000
DTSTAMP:20260424T170324
CREATED:20231107T182815Z
LAST-MODIFIED:20231107T182912Z
UID:4606-1705525200-1705532400@visitcuritiba.tur.br
SUMMARY:APOCALYPTICA
DESCRIPTION:
URL:https://visitcuritiba.tur.br/calendario/apocalyptica/
LOCATION:Ópera de Arame\, R. João Gava\, 920 - Abranches\, Curitiba\, Paraná\, 82130-010\, Brasil
CATEGORIES:Show
ORGANIZER;CN="Mosh Productions":MAILTO:mosher@moshproductions.com.br
END:VEVENT
BEGIN:VEVENT
DTSTART;VALUE=DATE:20231218
DTEND;VALUE=DATE:20231219
DTSTAMP:20260424T170324
CREATED:20231023T181600Z
LAST-MODIFIED:20231023T181600Z
UID:4537-1702857600-1702943999@visitcuritiba.tur.br
SUMMARY:Show Pastor Cláudio Duarte
DESCRIPTION:
URL:https://visitcuritiba.tur.br/calendario/show-pastor-claudio-duarte/
LOCATION:Teatro Positivo\, R. Prof. Pedro Viriato Parigot de Souza\, 5300\, Curitiba\, PR\, 81280-330\, Brasil
END:VEVENT
BEGIN:VEVENT
DTSTART;VALUE=DATE:20231217
DTEND;VALUE=DATE:20231218
DTSTAMP:20260424T170324
CREATED:20231005T173321Z
LAST-MODIFIED:20231023T173544Z
UID:4455-1702771200-1702857599@visitcuritiba.tur.br
SUMMARY:Show Sidney Magal
DESCRIPTION:
URL:https://visitcuritiba.tur.br/calendario/show-sidney-magal/
LOCATION:Teatro Positivo\, R. Prof. Pedro Viriato Parigot de Souza\, 5300\, Curitiba\, PR\, 81280-330\, Brasil
CATEGORIES:Show
END:VEVENT
BEGIN:VEVENT
DTSTART;VALUE=DATE:20231216
DTEND;VALUE=DATE:20231217
DTSTAMP:20260424T170324
CREATED:20231023T181520Z
LAST-MODIFIED:20231023T181520Z
UID:4535-1702684800-1702771199@visitcuritiba.tur.br
SUMMARY:Show Péricles
DESCRIPTION:
URL:https://visitcuritiba.tur.br/calendario/show-pericles/
LOCATION:Teatro Positivo\, R. Prof. Pedro Viriato Parigot de Souza\, 5300\, Curitiba\, PR\, 81280-330\, Brasil
CATEGORIES:Show
END:VEVENT
BEGIN:VEVENT
DTSTART;VALUE=DATE:20231214
DTEND;VALUE=DATE:20231215
DTSTAMP:20260424T170324
CREATED:20231023T181429Z
LAST-MODIFIED:20231023T181429Z
UID:4533-1702512000-1702598399@visitcuritiba.tur.br
SUMMARY:Maurício Meirelles em Web Bullying
DESCRIPTION:
URL:https://visitcuritiba.tur.br/calendario/mauricio-meirelles-em-web-bullying/
LOCATION:Teatro Positivo\, R. Prof. Pedro Viriato Parigot de Souza\, 5300\, Curitiba\, PR\, 81280-330\, Brasil
END:VEVENT
BEGIN:VEVENT
DTSTART;VALUE=DATE:20231213
DTEND;VALUE=DATE:20231214
DTSTAMP:20260424T170324
CREATED:20231023T181343Z
LAST-MODIFIED:20231023T181343Z
UID:4531-1702425600-1702511999@visitcuritiba.tur.br
SUMMARY:Natal Gashi em Harmonia
DESCRIPTION:
URL:https://visitcuritiba.tur.br/calendario/natal-gashi-em-harmonia/
LOCATION:Teatro Positivo\, R. Prof. Pedro Viriato Parigot de Souza\, 5300\, Curitiba\, PR\, 81280-330\, Brasil
END:VEVENT
BEGIN:VEVENT
DTSTART;VALUE=DATE:20231213
DTEND;VALUE=DATE:20231214
DTSTAMP:20260424T170324
CREATED:20231023T181212Z
LAST-MODIFIED:20231023T181212Z
UID:4529-1702425600-1702511999@visitcuritiba.tur.br
SUMMARY:Show Paul McCartney
DESCRIPTION:
URL:https://visitcuritiba.tur.br/calendario/show-paul-mccartney/
LOCATION:Estádio Major Antônio Couto Pereira\, R. Ubaldino do Amaral\, 63 - Alto da Glória\, Curitiba\, Paraná\, 80060-195\, Brasil
CATEGORIES:Show
END:VEVENT
END:VCALENDAR