BEGIN:VCALENDAR
VERSION:2.0
PRODID:-//Curitiba e Região Convention &amp; Visitors Bureau- CCVB - ECPv6.15.20//NONSGML v1.0//EN
CALSCALE:GREGORIAN
METHOD:PUBLISH
X-WR-CALNAME:Curitiba e Região Convention &amp; Visitors Bureau- CCVB
X-ORIGINAL-URL:https://visitcuritiba.tur.br
X-WR-CALDESC:Eventos para Curitiba e Região Convention &amp; Visitors Bureau- CCVB
REFRESH-INTERVAL;VALUE=DURATION:PT1H
X-Robots-Tag:noindex
X-PUBLISHED-TTL:PT1H
BEGIN:VTIMEZONE
TZID:UTC
BEGIN:STANDARD
TZOFFSETFROM:+0000
TZOFFSETTO:+0000
TZNAME:UTC
DTSTART:20220101T000000
END:STANDARD
END:VTIMEZONE
BEGIN:VEVENT
DTSTART;VALUE=DATE:20231111
DTEND;VALUE=DATE:20231112
DTSTAMP:20260425T021936
CREATED:20231005T162344Z
LAST-MODIFIED:20231005T162344Z
UID:4432-1699660800-1699747199@visitcuritiba.tur.br
SUMMARY:Jorge e Mateus em Curitiba
DESCRIPTION:
URL:https://visitcuritiba.tur.br/calendario/jorge-e-mateus-em-curitiba/
LOCATION:Pedreira Paulo Leminski\, R. João Gava\, 970 - Abranches\, Curitiba\, Paraná\, 82130-010
CATEGORIES:Show
END:VEVENT
BEGIN:VEVENT
DTSTART;VALUE=DATE:20231110
DTEND;VALUE=DATE:20231111
DTSTAMP:20260425T021936
CREATED:20231005T162206Z
LAST-MODIFIED:20231005T162206Z
UID:4428-1699574400-1699660799@visitcuritiba.tur.br
SUMMARY:Show Amado Batista
DESCRIPTION:
URL:https://visitcuritiba.tur.br/calendario/show-amado-batista/
LOCATION:Teatro Positivo\, R. Prof. Pedro Viriato Parigot de Souza\, 5300\, Curitiba\, PR\, 81280-330\, Brasil
CATEGORIES:Show
END:VEVENT
BEGIN:VEVENT
DTSTART;VALUE=DATE:20231109
DTEND;VALUE=DATE:20231211
DTSTAMP:20260425T021936
CREATED:20231023T191350Z
LAST-MODIFIED:20231023T191420Z
UID:4539-1699488000-1702252799@visitcuritiba.tur.br
SUMMARY:Curitiba Restaurant Week - Biomas Brasileiros
DESCRIPTION:
URL:https://visitcuritiba.tur.br/calendario/curitiba-restaurant-week-biomas-brasileiros/
LOCATION:Diversos Locais\, Curitiba\, Paraná\, Brasil
CATEGORIES:Gastronomia
END:VEVENT
BEGIN:VEVENT
DTSTART;VALUE=DATE:20231109
DTEND;VALUE=DATE:20231110
DTSTAMP:20260425T021936
CREATED:20230118T184927Z
LAST-MODIFIED:20230130T200923Z
UID:3127-1699488000-1699574399@visitcuritiba.tur.br
SUMMARY:MB Summit Curitiba 2023
DESCRIPTION:O MB Summit Brazil é um congresso imobiliário que percorrerá mensalmente vários Estados do Brasil. As palestras abordarão temas inovadores e tecnológicos voltados para o aperfeiçoamento do corretor de imóveis.
URL:https://visitcuritiba.tur.br/calendario/mb-summit-curitiba-2023/
LOCATION:Curitiba Trade Center\, Alameda Dr. Carlos de Carvalho\, 417 - sala 3102 - Centro\, Curitiba\, Paraná\, 80410-180\, Brasil
END:VEVENT
BEGIN:VEVENT
DTSTART;VALUE=DATE:20231108
DTEND;VALUE=DATE:20231113
DTSTAMP:20260425T021936
CREATED:20231005T162127Z
LAST-MODIFIED:20231005T162127Z
UID:4426-1699401600-1699833599@visitcuritiba.tur.br
SUMMARY:Expo Motor Home
DESCRIPTION:
URL:https://visitcuritiba.tur.br/calendario/expo-motor-home/
LOCATION:Expotrade Convention Center\, Rodovia Deputado Leopoldo Jacomel\, 10454 - Vila Amelia\, Pinhais\, Paraná\, 83320-005\, Brasil
CATEGORIES:Feira
END:VEVENT
BEGIN:VEVENT
DTSTART;VALUE=DATE:20231108
DTEND;VALUE=DATE:20231112
DTSTAMP:20260425T021936
CREATED:20231005T162017Z
LAST-MODIFIED:20231005T162017Z
UID:4424-1699401600-1699747199@visitcuritiba.tur.br
SUMMARY:22º Congresso Brasileiro de Infectologia Pediátrica e 17º Simpósio Brasileiro de Vacinas
DESCRIPTION:
URL:https://visitcuritiba.tur.br/calendario/22o-congresso-brasileiro-de-infectologia-pediatrica-e-17o-simposio-brasileiro-de-vacinas/
LOCATION:Jockey Club do Paraná\, Avenida Victor Ferreira do Amaral\, Praça Jóquei Pinheiro Filho\, 2299\, Curitiba\, PR\, : 82800-000\, Brazil
CATEGORIES:Congresso
END:VEVENT
BEGIN:VEVENT
DTSTART;VALUE=DATE:20231108
DTEND;VALUE=DATE:20231109
DTSTAMP:20260425T021936
CREATED:20231005T161840Z
LAST-MODIFIED:20231005T161840Z
UID:4422-1699401600-1699487999@visitcuritiba.tur.br
SUMMARY:Show Glenn Hughes
DESCRIPTION:
URL:https://visitcuritiba.tur.br/calendario/show-glenn-hughes/
LOCATION:Teatro Positivo\, R. Prof. Pedro Viriato Parigot de Souza\, 5300\, Curitiba\, PR\, 81280-330\, Brasil
CATEGORIES:Show
END:VEVENT
BEGIN:VEVENT
DTSTART;VALUE=DATE:20231104
DTEND;VALUE=DATE:20231105
DTSTAMP:20260425T021936
CREATED:20231005T161636Z
LAST-MODIFIED:20231005T161636Z
UID:4420-1699056000-1699142399@visitcuritiba.tur.br
SUMMARY:Black Alien | Show
DESCRIPTION:
URL:https://visitcuritiba.tur.br/calendario/black-alien-show/
LOCATION:Ópera de Arame\, R. João Gava\, 920 - Abranches\, Curitiba\, Paraná\, 82130-010\, Brasil
CATEGORIES:Show
END:VEVENT
BEGIN:VEVENT
DTSTART;VALUE=DATE:20231104
DTEND;VALUE=DATE:20231105
DTSTAMP:20260425T021936
CREATED:20231005T161410Z
LAST-MODIFIED:20231005T161410Z
UID:4418-1699056000-1699142399@visitcuritiba.tur.br
SUMMARY:Rogers Waters | Show
DESCRIPTION:
URL:https://visitcuritiba.tur.br/calendario/rogers-waters-show/
LOCATION:Ligga Arena\, R. Buenos Aires\, 1260 - Água Verde\, Curitiba\, Paraná\, 80250-070\, Brasil
CATEGORIES:Show
END:VEVENT
BEGIN:VEVENT
DTSTART;VALUE=DATE:20231103
DTEND;VALUE=DATE:20231104
DTSTAMP:20260425T021936
CREATED:20231005T161307Z
LAST-MODIFIED:20231005T161307Z
UID:4416-1698969600-1699055999@visitcuritiba.tur.br
SUMMARY:RUBEL | Turnê "As Palavras\, Vol 1 & 2" em Curitiba
DESCRIPTION:
URL:https://visitcuritiba.tur.br/calendario/rubel-turne-as-palavras-vol-1-2-em-curitiba/
LOCATION:Ópera de Arame\, R. João Gava\, 920 - Abranches\, Curitiba\, Paraná\, 82130-010\, Brasil
CATEGORIES:Show
END:VEVENT
BEGIN:VEVENT
DTSTART;VALUE=DATE:20231101
DTEND;VALUE=DATE:20231102
DTSTAMP:20260425T021936
CREATED:20231005T161117Z
LAST-MODIFIED:20231005T161117Z
UID:4414-1698796800-1698883199@visitcuritiba.tur.br
SUMMARY:Show | Pitty
DESCRIPTION:
URL:https://visitcuritiba.tur.br/calendario/show-pitty/
LOCATION:Teatro Positivo\, R. Prof. Pedro Viriato Parigot de Souza\, 5300\, Curitiba\, PR\, 81280-330\, Brasil
CATEGORIES:Show
END:VEVENT
BEGIN:VEVENT
DTSTART;TZID=UTC:20231031T080000
DTEND;TZID=UTC:20231105T170000
DTSTAMP:20260425T021936
CREATED:20231005T161030Z
LAST-MODIFIED:20231005T161030Z
UID:4412-1698739200-1699203600@visitcuritiba.tur.br
SUMMARY:Festival da OJA
DESCRIPTION:
URL:https://visitcuritiba.tur.br/calendario/festival-da-oja/
LOCATION:Jockey Club do Paraná\, Avenida Victor Ferreira do Amaral\, Praça Jóquei Pinheiro Filho\, 2299\, Curitiba\, PR\, : 82800-000\, Brazil
END:VEVENT
BEGIN:VEVENT
DTSTART;VALUE=DATE:20231029
DTEND;VALUE=DATE:20231030
DTSTAMP:20260425T021936
CREATED:20231005T160737Z
LAST-MODIFIED:20231005T160737Z
UID:4410-1698537600-1698623999@visitcuritiba.tur.br
SUMMARY:Show Cambotas que a Vida Dá
DESCRIPTION:
URL:https://visitcuritiba.tur.br/calendario/show-cambotas-que-a-vida-da/
LOCATION:Teatro Positivo\, R. Prof. Pedro Viriato Parigot de Souza\, 5300\, Curitiba\, PR\, 81280-330\, Brasil
CATEGORIES:Cultural
END:VEVENT
BEGIN:VEVENT
DTSTART;VALUE=DATE:20231028
DTEND;VALUE=DATE:20231029
DTSTAMP:20260425T021936
CREATED:20231005T160627Z
LAST-MODIFIED:20231005T160627Z
UID:4408-1698451200-1698537599@visitcuritiba.tur.br
SUMMARY:Dubdogz
DESCRIPTION:
URL:https://visitcuritiba.tur.br/calendario/dubdogz/
LOCATION:Pedreira Paulo Leminski\, R. João Gava\, 970 - Abranches\, Curitiba\, Paraná\, 82130-010
CATEGORIES:Show
END:VEVENT
BEGIN:VEVENT
DTSTART;VALUE=DATE:20231026
DTEND;VALUE=DATE:20231027
DTSTAMP:20260425T021936
CREATED:20231005T160602Z
LAST-MODIFIED:20231005T160602Z
UID:4406-1698278400-1698364799@visitcuritiba.tur.br
SUMMARY:Grande Suíte do Ballet Don Quixote
DESCRIPTION:
URL:https://visitcuritiba.tur.br/calendario/grande-suite-do-ballet-don-quixote/
LOCATION:Teatro Positivo\, R. Prof. Pedro Viriato Parigot de Souza\, 5300\, Curitiba\, PR\, 81280-330\, Brasil
CATEGORIES:Cultural
END:VEVENT
BEGIN:VEVENT
DTSTART;VALUE=DATE:20231025
DTEND;VALUE=DATE:20231028
DTSTAMP:20260425T021936
CREATED:20231005T160523Z
LAST-MODIFIED:20231005T160523Z
UID:4404-1698192000-1698451199@visitcuritiba.tur.br
SUMMARY:Conferência da Advocacia Paranaense
DESCRIPTION:
URL:https://visitcuritiba.tur.br/calendario/conferencia-da-advocacia-paranaense/
LOCATION:Teatro Positivo\, R. Prof. Pedro Viriato Parigot de Souza\, 5300\, Curitiba\, PR\, 81280-330\, Brasil
CATEGORIES:Conferência
END:VEVENT
BEGIN:VEVENT
DTSTART;VALUE=DATE:20231025
DTEND;VALUE=DATE:20231027
DTSTAMP:20260425T021936
CREATED:20231005T160452Z
LAST-MODIFIED:20231005T160452Z
UID:4402-1698192000-1698364799@visitcuritiba.tur.br
SUMMARY:Summit Ademicon 2023
DESCRIPTION:
URL:https://visitcuritiba.tur.br/calendario/summit-ademicon-2023/
LOCATION:Jockey Club do Paraná\, Avenida Victor Ferreira do Amaral\, Praça Jóquei Pinheiro Filho\, 2299\, Curitiba\, PR\, : 82800-000\, Brazil
CATEGORIES:Reunião
END:VEVENT
BEGIN:VEVENT
DTSTART;VALUE=DATE:20231022
DTEND;VALUE=DATE:20231023
DTSTAMP:20260425T021936
CREATED:20231005T160410Z
LAST-MODIFIED:20231005T160410Z
UID:4400-1697932800-1698019199@visitcuritiba.tur.br
SUMMARY:Show | Marcelo Falcão
DESCRIPTION:
URL:https://visitcuritiba.tur.br/calendario/show-marcelo-falcao/
LOCATION:Teatro Positivo\, R. Prof. Pedro Viriato Parigot de Souza\, 5300\, Curitiba\, PR\, 81280-330\, Brasil
CATEGORIES:Show
END:VEVENT
BEGIN:VEVENT
DTSTART;VALUE=DATE:20231021
DTEND;VALUE=DATE:20231023
DTSTAMP:20260425T021936
CREATED:20230911T180926Z
LAST-MODIFIED:20230911T180926Z
UID:4323-1697846400-1698019199@visitcuritiba.tur.br
SUMMARY:Festival Tutano
DESCRIPTION:A Tutano Gastronomia surgiu em 2012 como uma revista impressa que queria se comunicar com os empresários e profissionais da gastronomia curitibana. Com uma comunicação irreverente e que atingia em cheio este público\, a Tutano cresceu. Virou um portal\, que virou um grande evento\, o Fórum Tutano\, e veio finalmente a se tornar um grande movimento que ecoou pelo Brasil e até além de suas fronteiras. \nCom uma curadoria especial de conteúdo temperada por jornalistas\, produtores\, turismólogos e profissionais da gastronomia\, a Tutano tem o propósito de unir\, conectar e formar uma rede com toda a cadeia da Gastronomia desde a terra até a mesa\, propagando conteúdo relevante\, promovendo conexões\, experiências\, ideias e negócios. \nEm 2023\, o Fórum Tutano\, evento que foi um grande sucesso em 2018\, 2019 e 2020\, está se transformando num Festival. \nAgora em novo local – no Museu Oscar Niemeyer\, o Festival Tutano será realizado nos dias 21 e 22 de outubro de 2023 e vai movimentar\, integrar e envolver bares e restaurantes da cidade\, gestores de negócios\, chefs de cozinha\, empresários\, instituições de ensino\, produtores de alimentos e bebidas e os apreciadores da gastronomia. \nNa programação do evento vai ter feira de alimentos\, bebidas\, produtos e produtores\, palestras\, aulas show de gastronomia\, painéis de debate\, expedições gastronômicas por Curitiba\, arte\, música\, cultura e muito mais.\nVenha fazer parte deste movimento!
URL:https://visitcuritiba.tur.br/calendario/festival-tutano/
LOCATION:Museu Oscar Niemeyer\, R. Mal. Hermes\, 999\, Curitiba\, PR\, 80530-230\, Brasil
CATEGORIES:Cultural,Gastronomia
ATTACH;FMTTYPE=image/png:https://visitcuritiba.tur.br/wp-content/uploads/2023/09/logo_tutano.png
END:VEVENT
BEGIN:VEVENT
DTSTART;VALUE=DATE:20231021
DTEND;VALUE=DATE:20231022
DTSTAMP:20260425T021936
CREATED:20231005T160315Z
LAST-MODIFIED:20231005T160315Z
UID:4398-1697846400-1697932799@visitcuritiba.tur.br
SUMMARY:Show Supercombo
DESCRIPTION:
URL:https://visitcuritiba.tur.br/calendario/show-supercombo/
LOCATION:CWB Hall\, R. Dr. Claudino dos Santos\, 72 - São Francisco\, Curitiba\, Paraná\, 80020-170\, Brasil
CATEGORIES:Show
END:VEVENT
BEGIN:VEVENT
DTSTART;VALUE=DATE:20231021
DTEND;VALUE=DATE:20231022
DTSTAMP:20260425T021936
CREATED:20231005T160159Z
LAST-MODIFIED:20231005T160159Z
UID:4396-1697846400-1697932799@visitcuritiba.tur.br
SUMMARY:Wanessa Camargo | Show
DESCRIPTION:
URL:https://visitcuritiba.tur.br/calendario/wanessa-camargo-show/
LOCATION:Teatro Positivo\, R. Prof. Pedro Viriato Parigot de Souza\, 5300\, Curitiba\, PR\, 81280-330\, Brasil
CATEGORIES:Show
END:VEVENT
BEGIN:VEVENT
DTSTART;VALUE=DATE:20231020
DTEND;VALUE=DATE:20231021
DTSTAMP:20260425T021936
CREATED:20231005T160129Z
LAST-MODIFIED:20231005T160129Z
UID:4394-1697760000-1697846399@visitcuritiba.tur.br
SUMMARY:Show Matogroso e Mathias
DESCRIPTION:
URL:https://visitcuritiba.tur.br/calendario/show-matogroso-e-mathias/
LOCATION:Teatro Positivo\, R. Prof. Pedro Viriato Parigot de Souza\, 5300\, Curitiba\, PR\, 81280-330\, Brasil
CATEGORIES:Show
END:VEVENT
BEGIN:VEVENT
DTSTART;VALUE=DATE:20231020
DTEND;VALUE=DATE:20231021
DTSTAMP:20260425T021936
CREATED:20231005T160100Z
LAST-MODIFIED:20231005T160100Z
UID:4392-1697760000-1697846399@visitcuritiba.tur.br
SUMMARY:Papo Reto Festival
DESCRIPTION:
URL:https://visitcuritiba.tur.br/calendario/papo-reto-festival/
LOCATION:Live Curitiba\, Rua Itajubá\, 143\, Curitiba\, Paraná\, 81050-040\, Brasil
CATEGORIES:Festival musical
END:VEVENT
BEGIN:VEVENT
DTSTART;VALUE=DATE:20231019
DTEND;VALUE=DATE:20231020
DTSTAMP:20260425T021936
CREATED:20231005T155338Z
LAST-MODIFIED:20231005T155338Z
UID:4390-1697673600-1697759999@visitcuritiba.tur.br
SUMMARY:Evanescence em Curitiba
DESCRIPTION:
URL:https://visitcuritiba.tur.br/calendario/evanescence-em-curitiba/
LOCATION:Live Curitiba\, Rua Itajubá\, 143\, Curitiba\, Paraná\, 81050-040\, Brasil
CATEGORIES:Show
END:VEVENT
BEGIN:VEVENT
DTSTART;VALUE=DATE:20231019
DTEND;VALUE=DATE:20231020
DTSTAMP:20260425T021936
CREATED:20231005T155213Z
LAST-MODIFIED:20231005T155213Z
UID:4388-1697673600-1697759999@visitcuritiba.tur.br
SUMMARY:Alceu Valença em Curitiba
DESCRIPTION:
URL:https://visitcuritiba.tur.br/calendario/alceu-valenca-em-curitiba/
LOCATION:Teatro Positivo\, R. Prof. Pedro Viriato Parigot de Souza\, 5300\, Curitiba\, PR\, 81280-330\, Brasil
CATEGORIES:Show
END:VEVENT
BEGIN:VEVENT
DTSTART;VALUE=DATE:20231018
DTEND;VALUE=DATE:20231019
DTSTAMP:20260425T021936
CREATED:20231005T155129Z
LAST-MODIFIED:20231005T155129Z
UID:4386-1697587200-1697673599@visitcuritiba.tur.br
SUMMARY:Vocalfest Curitiba 2023
DESCRIPTION:
URL:https://visitcuritiba.tur.br/calendario/vocalfest-curitiba-2023/
LOCATION:Teatro UP Experience\, Bloco da Reitoria - R. Prof. Pedro Viriato Parigot de Souza\, 5.300 - 2º andar - Ecoville\, Curitiba\, Paraná\, 81280-330\, Brasil
CATEGORIES:Cultural
END:VEVENT
BEGIN:VEVENT
DTSTART;VALUE=DATE:20231017
DTEND;VALUE=DATE:20231020
DTSTAMP:20260425T021936
CREATED:20230516T193212Z
LAST-MODIFIED:20230719T142551Z
UID:4001-1697500800-1697759999@visitcuritiba.tur.br
SUMMARY:4º Congresso IUFRO Latin America
DESCRIPTION:A União Internacional de Organizações de Pesquisa Florestal (IUFRO) e a Empresa Brasileira de Pesquisa Agropecuária (Embrapa)\, por meio de sua Unidade Embrapa Florestas\, convidam para a Conferência IUFRO LA-2023\, que vai apresentar e discutir diferentes iniciativas que visam criar paisagens futuras mais resilientes para benefício das pessoas e da natureza. \nO evento acontece tanto em formato presencial (para 250 pessoas) quanto on-line; e prevê apresentações de convidados e de trabalhos voluntários\, painéis de discussão\, além de momentos de networking e socialização entre os participantes presenciais. \nA Conferência vai reunir uma ampla gama de stakeholders: de formuladores de políticas públicas e cientistas\, ao setor privado e comunidades rurais.
URL:https://visitcuritiba.tur.br/calendario/4o-congresso-iufro-latin-america/
LOCATION:Auditório do Instituto de Engenharia do Paraná\, Rua Emiliano Perneta\, 174 - Centro\, Curitiba\, PR\, 80010-050\, Brasil
CATEGORIES:Congresso
ATTACH;FMTTYPE=image/png:https://visitcuritiba.tur.br/wp-content/uploads/2023/05/Logo-1_0.png
END:VEVENT
BEGIN:VEVENT
DTSTART;VALUE=DATE:20231014
DTEND;VALUE=DATE:20231015
DTSTAMP:20260425T021936
CREATED:20231005T155026Z
LAST-MODIFIED:20231005T155026Z
UID:4384-1697241600-1697327999@visitcuritiba.tur.br
SUMMARY:Rock Sessions
DESCRIPTION:
URL:https://visitcuritiba.tur.br/calendario/rock-sessions/
LOCATION:Live Curitiba\, Rua Itajubá\, 143\, Curitiba\, Paraná\, 81050-040\, Brasil
CATEGORIES:Show
END:VEVENT
BEGIN:VEVENT
DTSTART;VALUE=DATE:20231014
DTEND;VALUE=DATE:20231015
DTSTAMP:20260425T021936
CREATED:20231005T154929Z
LAST-MODIFIED:20231005T154929Z
UID:4382-1697241600-1697327999@visitcuritiba.tur.br
SUMMARY:"Cabaré" - Leonardo e Bruno & Marrone
DESCRIPTION:
URL:https://visitcuritiba.tur.br/calendario/cabare-leonardo-e-bruno-marrone/
LOCATION:Pedreira Paulo Leminski\, R. João Gava\, 970 - Abranches\, Curitiba\, Paraná\, 82130-010
CATEGORIES:Show
END:VEVENT
BEGIN:VEVENT
DTSTART;VALUE=DATE:20231012
DTEND;VALUE=DATE:20231016
DTSTAMP:20260425T021936
CREATED:20231005T154746Z
LAST-MODIFIED:20231005T154746Z
UID:4379-1697068800-1697414399@visitcuritiba.tur.br
SUMMARY:Festival Primavera Sabor e Som
DESCRIPTION:
URL:https://visitcuritiba.tur.br/calendario/festival-primavera-sabor-e-som/
LOCATION:White Hall Arena Jockey\, R. Dino Bertoldi\, 740\, Curitiba\, PR\, 82590-300\, Brasil
CATEGORIES:Festival musical,Gastronomia
END:VEVENT
END:VCALENDAR