BEGIN:VCALENDAR
VERSION:2.0
PRODID:-//Curitiba e Região Convention &amp; Visitors Bureau- CCVB - ECPv6.15.20//NONSGML v1.0//EN
CALSCALE:GREGORIAN
METHOD:PUBLISH
X-WR-CALNAME:Curitiba e Região Convention &amp; Visitors Bureau- CCVB
X-ORIGINAL-URL:https://visitcuritiba.tur.br
X-WR-CALDESC:Eventos para Curitiba e Região Convention &amp; Visitors Bureau- CCVB
REFRESH-INTERVAL;VALUE=DURATION:PT1H
X-Robots-Tag:noindex
X-PUBLISHED-TTL:PT1H
BEGIN:VTIMEZONE
TZID:UTC
BEGIN:STANDARD
TZOFFSETFROM:+0000
TZOFFSETTO:+0000
TZNAME:UTC
DTSTART:20220101T000000
END:STANDARD
END:VTIMEZONE
BEGIN:VEVENT
DTSTART;VALUE=DATE:20230812
DTEND;VALUE=DATE:20230813
DTSTAMP:20260425T111545
CREATED:20230726T143615Z
LAST-MODIFIED:20230726T143615Z
UID:4227-1691798400-1691884799@visitcuritiba.tur.br
SUMMARY:O Rei Leão - Musical
DESCRIPTION:O musical é inspirado no espetáculo da Broadway e ganhou adaptação independente do clássico e é cantado ao vivo. \nCom uma grande estrutura de equipe e figurinos\, o musical é feito para públicos de todas as idades. Durante a peça\, os animais ganham vida na representação do “Ciclo Sem Fim”. O musical conta com um recurso de projeção mapeada em 3D\, que se traduz em uma imersão no reino de Simba e Mufasa.
URL:https://visitcuritiba.tur.br/calendario/o-rei-leao-musical/
LOCATION:Teatro Positivo\, R. Prof. Pedro Viriato Parigot de Souza\, 5300\, Curitiba\, PR\, 81280-330\, Brasil
CATEGORIES:Show
END:VEVENT
BEGIN:VEVENT
DTSTART;VALUE=DATE:20230812
DTEND;VALUE=DATE:20230813
DTSTAMP:20260425T111545
CREATED:20230726T143354Z
LAST-MODIFIED:20230726T143354Z
UID:4225-1691798400-1691884799@visitcuritiba.tur.br
SUMMARY:Amigos 2023 - De Volta À Estrada
DESCRIPTION:
URL:https://visitcuritiba.tur.br/calendario/amigos-2023-de-volta-a-estrada/
LOCATION:Ligga Arena\, R. Buenos Aires\, 1260 - Água Verde\, Curitiba\, Paraná\, 80250-070\, Brasil
CATEGORIES:Show
END:VEVENT
BEGIN:VEVENT
DTSTART;VALUE=DATE:20230809
DTEND;VALUE=DATE:20230811
DTSTAMP:20260425T111545
CREATED:20230726T142849Z
LAST-MODIFIED:20230726T142849Z
UID:4220-1691539200-1691711999@visitcuritiba.tur.br
SUMMARY:Candlelight Concert
DESCRIPTION:Desfrute de uma série de concertos iluminados sob a luz de velas e realizados por músicos ao vivo em alguns dos lugares mais sublimes de Curitiba. \nUma experiência única! Depois de ganhar o mundo\, chega a Curitiba nos dias 9 e 10 de agosto o Candlelight Concert. O formato já conquistou o público de mais de 100 cidades ao redor do mundo e aqui na capital serão quatro apresentações à luz de velas que passeiam entre a música clássica e contemporânea.
URL:https://visitcuritiba.tur.br/calendario/candlelight-concert/
LOCATION:Ópera de Arame\, R. João Gava\, 920 - Abranches\, Curitiba\, Paraná\, 82130-010\, Brasil
CATEGORIES:Show
END:VEVENT
BEGIN:VEVENT
DTSTART;VALUE=DATE:20230805
DTEND;VALUE=DATE:20230807
DTSTAMP:20260425T111545
CREATED:20230726T141813Z
LAST-MODIFIED:20230726T141837Z
UID:4218-1691193600-1691366399@visitcuritiba.tur.br
SUMMARY:Lulu Santos
DESCRIPTION:Com realização da Prime\, o ícone do pop rock nacional desembarca em Curitiba\, nos dias 05 e 06 de agosto\, para duas apresentações no Teatro Positivo – Grande Auditório (R: Pedro Viriato Parigot de Souza\, 5.300). Além da apresentação de sábado (05.08) às 21h15\, a sessão extra já está marcada para domingo (06.08) às 19h15.
URL:https://visitcuritiba.tur.br/calendario/lulu-santos/
LOCATION:Teatro Positivo\, R. Prof. Pedro Viriato Parigot de Souza\, 5300\, Curitiba\, PR\, 81280-330\, Brasil
CATEGORIES:Show
END:VEVENT
BEGIN:VEVENT
DTSTART;VALUE=DATE:20230805
DTEND;VALUE=DATE:20230806
DTSTAMP:20260425T111545
CREATED:20230726T140725Z
LAST-MODIFIED:20230726T140725Z
UID:4216-1691193600-1691279999@visitcuritiba.tur.br
SUMMARY:A Banda Mais Bonita da Cidade
DESCRIPTION:A Banda mais Bonita da Cidade volta para Curitiba em um show que serão apresentados clássicos e sucessos que não podem faltar\, como: “Oração”\, “Se eu Corro”\, “Uma Atriz” e “A Balada da Contramão”\, e também músicas do seu último lançamento\, o EP “Maré alta\, enfim.”
URL:https://visitcuritiba.tur.br/calendario/a-banda-mais-bonita-da-cidade/
LOCATION:Guairinha\, R. XV de Novembro\, 971 - Centro\, Curitiba\, Paraná\, 80060-000\, Brasil
CATEGORIES:Show
END:VEVENT
BEGIN:VEVENT
DTSTART;VALUE=DATE:20230804
DTEND;VALUE=DATE:20230805
DTSTAMP:20260425T111545
CREATED:20230726T134442Z
LAST-MODIFIED:20230726T134442Z
UID:4213-1691107200-1691193599@visitcuritiba.tur.br
SUMMARY:Frejat Trio
DESCRIPTION:Em 2022\, Frejat Trio emocionou a capital paranaense e\, em agosto deste ano\, o grupo promete repetir a dose. O show acontece no dia 4 de agosto no Teatro Guaíra\, e mais uma vez\, o cantor se apresenta ao lado de seu filho\, Rafael\, e seu guitarrista Maurício Almeida.
URL:https://visitcuritiba.tur.br/calendario/frejat-trio/
LOCATION:Teatro Guaíra\, R. XV de Novembro\, 971 - Centro\, Curitiba\, Paraná\, 80060-000\, Brasil
CATEGORIES:Show
ORGANIZER;CN="Plateia Entretenimento":MAILTO:contato@plateiaentretenimento.com.br
END:VEVENT
BEGIN:VEVENT
DTSTART;VALUE=DATE:20230802
DTEND;VALUE=DATE:20230806
DTSTAMP:20260425T111545
CREATED:20230118T175139Z
LAST-MODIFIED:20230726T133614Z
UID:3101-1690934400-1691279999@visitcuritiba.tur.br
SUMMARY:XIII Congresso Brasileiro de Asma e X Congressos Brasileiros de DPOC e Tabagismo
DESCRIPTION:Os Congressos Brasileiros de Asma em sua 13ª edição e DPOC e Tabagismo em sua 10ª edição em conjunto\, compõem o segundo maior evento da SBPT. Este ano serão realizados na cidade de Curitiba\, juntamente com o II Congresso Paranaense de Pneumologia. Asma\, DPOC e Tabagismo são as doenças pulmonares prevalentes\, motivando a existência de congressos para estas áreas\, a cada dois anos.
URL:https://visitcuritiba.tur.br/calendario/xiii-congresso-brasileiro-de-asma-e-x-congressos-brasileiros-de-dpoc-e-tabagismo/
LOCATION:UP Expo\, R. Prof. Pedro Viriato Parigot de Souza\, 5300\, Curitiba\, Paraná\, 81280-330\, Brasil
CATEGORIES:Congresso
ATTACH;FMTTYPE=image/png:https://visitcuritiba.tur.br/wp-content/uploads/2023/01/LOGO-CONGRESSO-2023-horizontal_local_alterado_02-e1688755239852.png
END:VEVENT
BEGIN:VEVENT
DTSTART;VALUE=DATE:20230802
DTEND;VALUE=DATE:20230803
DTSTAMP:20260425T111545
CREATED:20230726T133121Z
LAST-MODIFIED:20230726T133121Z
UID:4210-1690934400-1691020799@visitcuritiba.tur.br
SUMMARY:Eli Soares em Curitiba
DESCRIPTION:
URL:https://visitcuritiba.tur.br/calendario/eli-soares-em-curitiba/
LOCATION:Teatro UP Experience\, Bloco da Reitoria - R. Prof. Pedro Viriato Parigot de Souza\, 5.300 - 2º andar - Ecoville\, Curitiba\, Paraná\, 81280-330\, Brasil
CATEGORIES:Show
END:VEVENT
BEGIN:VEVENT
DTSTART;VALUE=DATE:20230726
DTEND;VALUE=DATE:20230730
DTSTAMP:20260425T111545
CREATED:20230118T165618Z
LAST-MODIFIED:20230329T173304Z
UID:3087-1690329600-1690675199@visitcuritiba.tur.br
SUMMARY:37º Congresso Brasileiro de Espeleologia
DESCRIPTION:Em 36 edições do Congresso Brasileiro de Espeleologia\, apenas duas vezes o evento foi sediado na região Sul do Brasil: em 1991\, em Curitiba\, organizado pelo GEEP-Açungui\, e no ano de 2011\, em Ponta Grossa\, organizado pelo GUPE. Muita coisa mudou desde então: novos espeleólogos e espeleólogas\, a descoberta de novas cavernas\, o uso de novos métodos e técnicas de investigação e a ampliação do conhecimento espeleológico\, seja na região metropolitana de Curitiba e nos Campos Gerais\, seja no Paraná como um todo. Concomitantemente\, o crescimento das áreas urbanas e de diferentes atividades econômicas\, demandando a ampliação da infraestrutura do estado\, tem pressionado cada vez mais os ambientes cársticos e espeleológicos. Tais fatos evidenciam a importância de uma nova edição do CBE na região Sul\, especificamente em Curitiba\, de modo a promover o patrimônio espeleológico e cárstico local e regional e dar visibilidade à realidade espeleológica fora do eixo tradicional\, centrado na região Sudeste do país.
URL:https://visitcuritiba.tur.br/calendario/37o-congresso-brasileiro-de-espeleologia/
LOCATION:Centro de Eventos FIEP\, Av. Com. Franco\, 1341 - Jardim Botânico\, Curitiba\, Paraná\, 80215-090
CATEGORIES:Congresso
ATTACH;FMTTYPE=image/png:https://visitcuritiba.tur.br/wp-content/uploads/2023/01/Logomarca-por-extenso-e-data-37CBE-reduzido.png
END:VEVENT
BEGIN:VEVENT
DTSTART;VALUE=DATE:20230726
DTEND;VALUE=DATE:20230728
DTSTAMP:20260425T111545
CREATED:20230118T162119Z
LAST-MODIFIED:20230606T151410Z
UID:3037-1690329600-1690502399@visitcuritiba.tur.br
SUMMARY:IWTW with Dmytro Chumak
DESCRIPTION:
URL:https://visitcuritiba.tur.br/calendario/iwtw-with-dmytro-chumak/
LOCATION:Montano Fitness & Performance\, R. Dr. Manoel Linhares de Lacerda\, 447 - Capão Raso\, Curitiba\, Paraná\, 81110-100\, Brasil
CATEGORIES:Treinamento
END:VEVENT
BEGIN:VEVENT
DTSTART;VALUE=DATE:20230724
DTEND;VALUE=DATE:20230725
DTSTAMP:20260425T111545
CREATED:20230719T134743Z
LAST-MODIFIED:20230719T134743Z
UID:4190-1690156800-1690243199@visitcuritiba.tur.br
SUMMARY:Show Fernandinho em Curitiba
DESCRIPTION:
URL:https://visitcuritiba.tur.br/calendario/show-fernandinho-em-curitiba/
LOCATION:Teatro Positivo\, R. Prof. Pedro Viriato Parigot de Souza\, 5300\, Curitiba\, PR\, 81280-330\, Brasil
CATEGORIES:Show
END:VEVENT
BEGIN:VEVENT
DTSTART;TZID=UTC:20230723T080000
DTEND;TZID=UTC:20230729T170000
DTSTAMP:20260425T111545
CREATED:20230118T165248Z
LAST-MODIFIED:20230130T190839Z
UID:3082-1690099200-1690650000@visitcuritiba.tur.br
SUMMARY:75º Reunião Anual da Sociedade Brasileira para o Progresso da Ciência
DESCRIPTION:O tema desta edição é “Ciência e democracia para um Brasil justo e desenvolvido”. \nAs atividades da Reunião Anual\, como conferências\, mesas-redondas\, painéis\, atividades culturais\, exposições e atividades para estudantes do ensino básico e/ou técnico\, são de acesso livre e gratuito. Porém\, devem se inscrever para o evento os que pretendem submeter um trabalho para a Sessão de Pôsteres\, ou obter o certificado online de participação geral (sem carga horária e sem descrição das atividades)\, mediante credenciamento no evento. Se o participante também desejar receber o material da RA (programação impressa\, bolsa e crachá) ou matricular-se nos webminicursos\, também precisará formalizar sua inscrição.
URL:https://visitcuritiba.tur.br/calendario/75o-reuniao-anual-da-sociedade-brasileira-para-o-progresso-da-ciencia/
LOCATION:UFPR Centro Politécnico\, Av. Cel. Francisco H. dos Santos\, 100 - Jardim das Américas\, Curitiba\, Paraná\, 81530-000\, Brasil
CATEGORIES:Reunião
END:VEVENT
BEGIN:VEVENT
DTSTART;VALUE=DATE:20230721
DTEND;VALUE=DATE:20230722
DTSTAMP:20260425T111545
CREATED:20230719T134419Z
LAST-MODIFIED:20230719T134419Z
UID:4188-1689897600-1689983999@visitcuritiba.tur.br
SUMMARY:Show | Sepultura
DESCRIPTION:
URL:https://visitcuritiba.tur.br/calendario/show-sepultura/
LOCATION:Ópera de Arame\, R. João Gava\, 920 - Abranches\, Curitiba\, Paraná\, 82130-010\, Brasil
CATEGORIES:Show
END:VEVENT
BEGIN:VEVENT
DTSTART;VALUE=DATE:20230720
DTEND;VALUE=DATE:20230724
DTSTAMP:20260425T111545
CREATED:20230719T134029Z
LAST-MODIFIED:20230719T134029Z
UID:4186-1689811200-1690156799@visitcuritiba.tur.br
SUMMARY:Espetáculo Circo da China
DESCRIPTION:
URL:https://visitcuritiba.tur.br/calendario/espetaculo-circo-da-china/
LOCATION:Teatro Positivo\, R. Prof. Pedro Viriato Parigot de Souza\, 5300\, Curitiba\, PR\, 81280-330\, Brasil
CATEGORIES:Cultural
END:VEVENT
BEGIN:VEVENT
DTSTART;VALUE=DATE:20230715
DTEND;VALUE=DATE:20230716
DTSTAMP:20260425T111545
CREATED:20230118T164911Z
LAST-MODIFIED:20230511T153938Z
UID:3077-1689379200-1689465599@visitcuritiba.tur.br
SUMMARY:Festival Crossroads do Dia Mundial do Rock 2023
DESCRIPTION:O Festival Crossroads do Dia Mundial do Rock\, que se tornou um dos festivais mais aguardados pelos curitibanos e um dos principais eventos de rock do Sul do Brasil\, surgiu pela persistência e resistência do Bar Crossroads. A casa\, que foi fundada por Alessandro Reis\, se tornou referência pelos apreciadores do estilo musical. E recebeu grandes nomes da música nacional e internacional\, como Blues Etílicos\, Celso Blues Boy\, Guy King\, Blues Man (de Chicago)\, entre outros.
URL:https://visitcuritiba.tur.br/calendario/festival-crossroads-do-dia-mundial-do-rock-2023/
LOCATION:Pedreira Paulo Leminski\, R. João Gava\, 970 - Abranches\, Curitiba\, Paraná\, 82130-010
CATEGORIES:Festival musical
END:VEVENT
BEGIN:VEVENT
DTSTART;VALUE=DATE:20230710
DTEND;VALUE=DATE:20230711
DTSTAMP:20260425T111545
CREATED:20230118T164703Z
LAST-MODIFIED:20230127T174354Z
UID:3075-1688947200-1689033599@visitcuritiba.tur.br
SUMMARY:Curitiba Show Car
DESCRIPTION:Novidades e surpresas para os apaixonados pelo universo automobilístico\, com atrações voltadas para toda a família.
URL:https://visitcuritiba.tur.br/calendario/curitiba-show-car/
LOCATION:Expotrade Convention Center\, Rodovia Deputado Leopoldo Jacomel\, 10454 - Vila Amelia\, Pinhais\, Paraná\, 83320-005\, Brasil
END:VEVENT
BEGIN:VEVENT
DTSTART;VALUE=DATE:20230707
DTEND;VALUE=DATE:20230717
DTSTAMP:20260425T111545
CREATED:20230710T160511Z
LAST-MODIFIED:20230710T160511Z
UID:4177-1688688000-1689551999@visitcuritiba.tur.br
SUMMARY:11ª Festival de Inverno do Centro Histórico
DESCRIPTION:Destaque da programação do Inverno Curitiba 2023\, a programação vai até 16 de julho e irá oferecer espetáculos\, oficinas de artesanato\, workshops\, passeios guiados pela região e circuito de sopas a preço fixo.
URL:https://visitcuritiba.tur.br/calendario/11a-festival-de-inverno-do-centro-historico/
LOCATION:Largo da Ordem\, R. Cel. Enéas - São Francisco\, Curitiba\, Paraná\, 82510-070\, Brasil
CATEGORIES:Cultural
END:VEVENT
BEGIN:VEVENT
DTSTART;VALUE=DATE:20230701
DTEND;VALUE=DATE:20230703
DTSTAMP:20260425T111545
CREATED:20230710T155158Z
LAST-MODIFIED:20230710T155158Z
UID:4173-1688169600-1688342399@visitcuritiba.tur.br
SUMMARY:Knife Show
DESCRIPTION:
URL:https://visitcuritiba.tur.br/calendario/knife-show/
LOCATION:Antigo “Cassino Ahú”\, R. Cel. Brasilino Moura\, 474 - Ahú\, Curitiba\, PR\, 80540-340\, Brasil
END:VEVENT
BEGIN:VEVENT
DTSTART;VALUE=DATE:20230701
DTEND;VALUE=DATE:20230702
DTSTAMP:20260425T111545
CREATED:20230710T150306Z
LAST-MODIFIED:20230710T150306Z
UID:4168-1688169600-1688255999@visitcuritiba.tur.br
SUMMARY:Show | Sérgio Malandro
DESCRIPTION:
URL:https://visitcuritiba.tur.br/calendario/show-sergio-malandro/
LOCATION:Teatro Positivo\, R. Prof. Pedro Viriato Parigot de Souza\, 5300\, Curitiba\, PR\, 81280-330\, Brasil
CATEGORIES:Show
END:VEVENT
BEGIN:VEVENT
DTSTART;VALUE=DATE:20230625
DTEND;VALUE=DATE:20230626
DTSTAMP:20260425T111545
CREATED:20230607T194904Z
LAST-MODIFIED:20230607T194904Z
UID:4096-1687651200-1687737599@visitcuritiba.tur.br
SUMMARY:Paulinho da Viola em Curitiba
DESCRIPTION:
URL:https://visitcuritiba.tur.br/calendario/paulinho-da-viola-em-curitiba/
LOCATION:Teatro Positivo\, R. Prof. Pedro Viriato Parigot de Souza\, 5300\, Curitiba\, PR\, 81280-330\, Brasil
CATEGORIES:Show
END:VEVENT
BEGIN:VEVENT
DTSTART;VALUE=DATE:20230624
DTEND;VALUE=DATE:20230626
DTSTAMP:20260425T111545
CREATED:20230607T200028Z
LAST-MODIFIED:20230607T200028Z
UID:4099-1687564800-1687737599@visitcuritiba.tur.br
SUMMARY:31ª Imin Matsuri
DESCRIPTION:
URL:https://visitcuritiba.tur.br/calendario/31a-imin-matsuri/
LOCATION:Centro de Eventos Positivo\, Alameda Ecologica Burle Marx\, 2518 - Santo Inácio\, Curitiba\, Paraná\, 82305-100\, Brasil
CATEGORIES:Cultural,Festival musical,Gastronomia,Religioso
END:VEVENT
BEGIN:VEVENT
DTSTART;VALUE=DATE:20230624
DTEND;VALUE=DATE:20230625
DTSTAMP:20260425T111545
CREATED:20230607T193942Z
LAST-MODIFIED:20230607T193942Z
UID:4093-1687564800-1687651199@visitcuritiba.tur.br
SUMMARY:Péricles em Curitiba
DESCRIPTION:
URL:https://visitcuritiba.tur.br/calendario/pericles-em-curitiba/
LOCATION:Sociedade Hípica Paranaense\, BR-116 - Tarumã\, Curitiba\, PR\, 82590-100\, Brasil
CATEGORIES:Show
END:VEVENT
BEGIN:VEVENT
DTSTART;VALUE=DATE:20230624
DTEND;VALUE=DATE:20230625
DTSTAMP:20260425T111545
CREATED:20230118T162913Z
LAST-MODIFIED:20230607T192812Z
UID:3052-1687564800-1687651199@visitcuritiba.tur.br
SUMMARY:CPM 22 em Curitiba
DESCRIPTION:
URL:https://visitcuritiba.tur.br/calendario/cpm-22-em-curitiba/
LOCATION:Teatro Positivo\, R. Prof. Pedro Viriato Parigot de Souza\, 5300\, Curitiba\, PR\, 81280-330\, Brasil
CATEGORIES:Show
END:VEVENT
BEGIN:VEVENT
DTSTART;VALUE=DATE:20230622
DTEND;VALUE=DATE:20230625
DTSTAMP:20260425T111545
CREATED:20230606T171244Z
LAST-MODIFIED:20230606T171244Z
UID:4064-1687392000-1687651199@visitcuritiba.tur.br
SUMMARY:5° Congresso Sul-Brasileiro de Cirurgia e Traumatologia Buco-Maxilo-Facial
DESCRIPTION:
URL:https://visitcuritiba.tur.br/calendario/5-congresso-sul-brasileiro-de-cirurgia-e-traumatologia-buco-maxilo-facial/
LOCATION:Bourbon Curitiba Hotel & Suites\, Av\, R. Cândido Lopes\, 102 - Centro\, Curitiba\, PR\, 80020-060\, Brasil
CATEGORIES:Congresso
END:VEVENT
BEGIN:VEVENT
DTSTART;VALUE=DATE:20230621
DTEND;VALUE=DATE:20230624
DTSTAMP:20260425T111545
CREATED:20230118T162639Z
LAST-MODIFIED:20230607T191016Z
UID:3045-1687305600-1687564799@visitcuritiba.tur.br
SUMMARY:Viasoft Connect
DESCRIPTION:No Viasoft Connect você encontra as maiores empresas do mercado expondo seus produtos e tendências\, além de ser a oportunidade de negociar com profissionais de todo o Brasil.
URL:https://visitcuritiba.tur.br/calendario/viasoft-connect/
LOCATION:UP Expo\, R. Prof. Pedro Viriato Parigot de Souza\, 5300\, Curitiba\, Paraná\, 81280-330\, Brasil
CATEGORIES:Networking
ATTACH;FMTTYPE=image/webp:https://visitcuritiba.tur.br/wp-content/uploads/2023/01/logo.webp
END:VEVENT
BEGIN:VEVENT
DTSTART;VALUE=DATE:20230618
DTEND;VALUE=DATE:20230619
DTSTAMP:20260425T111545
CREATED:20230607T190840Z
LAST-MODIFIED:20230607T190840Z
UID:4089-1687046400-1687132799@visitcuritiba.tur.br
SUMMARY:Paul Cabannes | Show
DESCRIPTION:
URL:https://visitcuritiba.tur.br/calendario/paul-cabannes-show/
LOCATION:Teatro Positivo\, R. Prof. Pedro Viriato Parigot de Souza\, 5300\, Curitiba\, PR\, 81280-330\, Brasil
END:VEVENT
BEGIN:VEVENT
DTSTART;VALUE=DATE:20230617
DTEND;VALUE=DATE:20230618
DTSTAMP:20260425T111545
CREATED:20230607T175916Z
LAST-MODIFIED:20230607T175916Z
UID:4087-1686960000-1687046399@visitcuritiba.tur.br
SUMMARY:Melim | Show
DESCRIPTION:
URL:https://visitcuritiba.tur.br/calendario/melim-show/
LOCATION:Teatro Guaíra\, R. XV de Novembro\, 971 - Centro\, Curitiba\, Paraná\, 80060-000\, Brasil
CATEGORIES:Show
END:VEVENT
BEGIN:VEVENT
DTSTART;VALUE=DATE:20230617
DTEND;VALUE=DATE:20230618
DTSTAMP:20260425T111545
CREATED:20230607T175644Z
LAST-MODIFIED:20230607T175644Z
UID:4085-1686960000-1687046399@visitcuritiba.tur.br
SUMMARY:Alcione | Show
DESCRIPTION:
URL:https://visitcuritiba.tur.br/calendario/alcione-show/
LOCATION:Teatro Positivo\, R. Prof. Pedro Viriato Parigot de Souza\, 5300\, Curitiba\, PR\, 81280-330\, Brasil
CATEGORIES:Show
END:VEVENT
BEGIN:VEVENT
DTSTART;VALUE=DATE:20230617
DTEND;VALUE=DATE:20230618
DTSTAMP:20260425T111545
CREATED:20230606T204127Z
LAST-MODIFIED:20230606T204127Z
UID:4082-1686960000-1687046399@visitcuritiba.tur.br
SUMMARY:Souldelas Music Festival
DESCRIPTION:Mais um festival em Curitiba! Com data marcada para o dia 17 de junho\, O Souldelas Music Festival chega a capital paranaense com um line up de peso. Com quatro atrações confirmadas\, o evento acontece no Piazza Notte\, às 21h. Os ingressos já estão disponíveis via Go Ingressos a partir de R$ 55.
URL:https://visitcuritiba.tur.br/calendario/souldelas-music-festival/
LOCATION:Piazza Notte\, BR-116\, 14934 - Fanny\, Curitiba\, PR\, 81690-200\, Brasil
CATEGORIES:Festival musical
END:VEVENT
BEGIN:VEVENT
DTSTART;VALUE=DATE:20230615
DTEND;VALUE=DATE:20230617
DTSTAMP:20260425T111545
CREATED:20230118T160341Z
LAST-MODIFIED:20230606T203745Z
UID:3023-1686787200-1686959999@visitcuritiba.tur.br
SUMMARY:Expo Turismo Paraná
DESCRIPTION:A Expo Turismo Paraná é organizada e promovida pela Associação Brasileira de Agências de Viagens do Paraná (ABAV-PR). Por ser realizada na capital do Paraná\, a Expo Turismo Paraná recebe as principais entidades do Turismo regional e nacional em formato de eventos paralelos\, sediando encontros de secretários de turismo\, divulgando tendências\, acolhendo fóruns e premiações\, além de promover uma importante agenda de capacitação profissional voltada para os agentes de viagens. Trata-se de um evento completo\, pois conta com: \n\nFeira de negócios e de networking\nMostra das Regiões Turísticas do Paraná\, realizada pela Paraná Turismo\nCapacitação para profissionais do trade turístico\nEventos paralelos e rodadas de negócios\nCaravanas de agentes de viagens\nAtrações para agentes de viagens de Curitiba e região metropolitana\nChancela e participação ativa das principais entidades do Turismo Estadual e Nacional.\n\nEm 2023\, a Expo Turismo Paraná manterá seu layout aberto\, favorável aos contatos\, além de receber todos os tamanhos de negócios\, praticando valores diferenciados e imbatíveis.
URL:https://visitcuritiba.tur.br/calendario/expo-turismo-parana/
LOCATION:Jockey Club do Paraná\, Avenida Victor Ferreira do Amaral\, Praça Jóquei Pinheiro Filho\, 2299\, Curitiba\, PR\, : 82800-000\, Brazil
CATEGORIES:Feira
ATTACH;FMTTYPE=image/png:https://visitcuritiba.tur.br/wp-content/uploads/2023/01/expoparana-logo-2.png
END:VEVENT
END:VCALENDAR