BEGIN:VCALENDAR
VERSION:2.0
PRODID:-//Curitiba e Região Convention &amp; Visitors Bureau- CCVB - ECPv6.15.20//NONSGML v1.0//EN
CALSCALE:GREGORIAN
METHOD:PUBLISH
X-ORIGINAL-URL:https://visitcuritiba.tur.br
X-WR-CALDESC:Eventos para Curitiba e Região Convention &amp; Visitors Bureau- CCVB
REFRESH-INTERVAL;VALUE=DURATION:PT1H
X-Robots-Tag:noindex
X-PUBLISHED-TTL:PT1H
BEGIN:VTIMEZONE
TZID:UTC
BEGIN:STANDARD
TZOFFSETFROM:+0000
TZOFFSETTO:+0000
TZNAME:UTC
DTSTART:20220101T000000
END:STANDARD
END:VTIMEZONE
BEGIN:VEVENT
DTSTART;VALUE=DATE:20230518
DTEND;VALUE=DATE:20230605
DTSTAMP:20260425T172058
CREATED:20230508T172632Z
LAST-MODIFIED:20230508T172632Z
UID:3975-1684368000-1685923199@visitcuritiba.tur.br
SUMMARY:Brasil Sabor
DESCRIPTION:A 17º edição do Brasil Sabor\, o maior festival gastronômico do mundo\, está chegando! Entre os dias 18 de maio e 04 de junho\, centenas de restaurantes se reúnem para valorizar as raízes brasileiras com pratos que enaltecem ingredientes e técnicas de preparo originais do nosso país. \nO Festival é realizado em formato híbrido\, ou seja\, os clientes poderão experimentar os pratos nos restaurantes ou em casa\, e o melhor: por um valor promocional durante o período do evento.
URL:https://visitcuritiba.tur.br/calendario/brasil-sabor/
LOCATION:Diversos Locais\, Curitiba\, Paraná\, Brasil
CATEGORIES:Gastronomia
END:VEVENT
BEGIN:VEVENT
DTSTART;VALUE=DATE:20230518
DTEND;VALUE=DATE:20230521
DTSTAMP:20260425T172058
CREATED:20230117T194840Z
LAST-MODIFIED:20230329T182654Z
UID:2967-1684368000-1684627199@visitcuritiba.tur.br
SUMMARY:6º Neodent International Congress
DESCRIPTION:Congresso Neodent\, cujo tema deste ano é 'Celebrar a Evolução'. Celebraremos a evolução da implantodontia\, da tecnologia\, do mercado\, da estética\, dos pacientes e da Neodent\, que comemora 3 décadas criando novos sorrisos todos os dias.
URL:https://visitcuritiba.tur.br/calendario/6o-neodent-internacional-congress/
LOCATION:UP Expo\, R. Prof. Pedro Viriato Parigot de Souza\, 5300\, Curitiba\, Paraná\, 81280-330\, Brasil
CATEGORIES:Congresso
END:VEVENT
BEGIN:VEVENT
DTSTART;VALUE=DATE:20230518
DTEND;VALUE=DATE:20230520
DTSTAMP:20260425T172058
CREATED:20230418T191717Z
LAST-MODIFIED:20230418T191844Z
UID:3927-1684368000-1684540799@visitcuritiba.tur.br
SUMMARY:SDF Summit 2ª edição
DESCRIPTION:Um evento de imersão no franchising\, onde você aprenderá com quem entende do mercado\, na prática. \nUma abordagem completa do setor de franquias pelos melhores profissionais da área: vendas\, jurídico\, expansão\, gestão e cases de sucesso. \nAlém disso\, muitas conexões e networking entre empreendedores\, franqueadores\, empreendedores e interessados na área.
URL:https://visitcuritiba.tur.br/calendario/sdf-summit-2a-edicao/
LOCATION:Sesc da Esquina\, R. Visc. do Rio Branco\, 969 - Mercês\, Curitiba\, Paraná\, 80410-001\, Brasil
CATEGORIES:Networking,Treinamento
END:VEVENT
BEGIN:VEVENT
DTSTART;VALUE=DATE:20230517
DTEND;VALUE=DATE:20230521
DTSTAMP:20260425T172058
CREATED:20230117T194450Z
LAST-MODIFIED:20230418T172808Z
UID:2964-1684281600-1684627199@visitcuritiba.tur.br
SUMMARY:VIIª Reunião Brasileira de Citogenética e Citogenômica
DESCRIPTION:A RBCC 2023 reunirá pesquisadores brasileiros e estrangeiros dedicados ao estudo da biologia dos cromossomos\, discutindo temas como: estrutura cromossômica e arquitetura nuclear; cromossomos especializados; cromatina e dinâmica cromossômica\, citogenética evolutiva; divisão celular; genômica comparativa e organização dos genomas; DNAs repetitivos; diagnóstico citogenético e inovações; citogenética aplicada ao melhoramento e produção; novas tecnologias em pesquisa citogenética e citogenômica; e divulgação científica.
URL:https://visitcuritiba.tur.br/calendario/viia-reuniao-brasileira-de-citogenetica-e-citogenomica/
LOCATION:UFPR – Campus Jardim Botânico\, Av. Prefeito Lothário Meissner\, 623 - Jardim Botânico\, Curitiba\, Paraná\, 80210-170\, Brasil
CATEGORIES:Evento técnico científico
END:VEVENT
BEGIN:VEVENT
DTSTART;VALUE=DATE:20230514
DTEND;VALUE=DATE:20230515
DTSTAMP:20260425T172058
CREATED:20230418T190553Z
LAST-MODIFIED:20230418T190553Z
UID:3925-1684022400-1684108799@visitcuritiba.tur.br
SUMMARY:Padre Fábio de Melo - Especial Dia das Mães
DESCRIPTION:No dia 14 de maio\, o Padre Fábio de Melo se apresenta na capital paranaense com show especial no Dia das Mães\, no Teatro Positivo\, a partir das 19h.
URL:https://visitcuritiba.tur.br/calendario/padre-fabio-de-melo-especial-dia-das-maes/
LOCATION:Teatro Positivo\, R. Prof. Pedro Viriato Parigot de Souza\, 5300\, Curitiba\, PR\, 81280-330\, Brasil
CATEGORIES:Show
END:VEVENT
BEGIN:VEVENT
DTSTART;TZID=UTC:20230513T211500
DTEND;TZID=UTC:20230513T211500
DTSTAMP:20260425T172058
CREATED:20230403T165046Z
LAST-MODIFIED:20230418T172911Z
UID:3859-1684012500-1684012500@visitcuritiba.tur.br
SUMMARY:Paula Fernandes | Show
DESCRIPTION:
URL:https://visitcuritiba.tur.br/calendario/paula-fernandes-show/
LOCATION:Teatro Positivo\, R. Prof. Pedro Viriato Parigot de Souza\, 5300\, Curitiba\, PR\, 81280-330\, Brasil
CATEGORIES:Show
ORGANIZER;CN="RW7 / Move Concerts":MAILTO:producao@rw7.com.br
END:VEVENT
BEGIN:VEVENT
DTSTART;VALUE=DATE:20230508
DTEND;VALUE=DATE:20230510
DTSTAMP:20260425T172058
CREATED:20230418T185227Z
LAST-MODIFIED:20230508T163901Z
UID:3923-1683504000-1683676799@visitcuritiba.tur.br
SUMMARY:Roberto Carlos | Show
DESCRIPTION:Curitiba recebe de braços abertos o Rei! Nos dias 08 e 09 de maio o Teatro Positivo recebe uma apresentação mais que especial de Roberto Carlos. O show faz parte das comemorações de 330 anos da capital e mata a saudade de quase quatro anos que os curitibanos estavam do cantor que fez seu último show na cidade em 2019. Os ingressos estarão à venda a partir do dia 20 de abril\, pelo site da Eventim. \n 
URL:https://visitcuritiba.tur.br/calendario/roberto-carlos-show/
LOCATION:Teatro Positivo\, R. Prof. Pedro Viriato Parigot de Souza\, 5300\, Curitiba\, PR\, 81280-330\, Brasil
CATEGORIES:Show
END:VEVENT
BEGIN:VEVENT
DTSTART;TZID=UTC:20230506T211500
DTEND;TZID=UTC:20230506T211500
DTSTAMP:20260425T172058
CREATED:20230403T162609Z
LAST-MODIFIED:20230403T162620Z
UID:3855-1683407700-1683407700@visitcuritiba.tur.br
SUMMARY:Fábio Jr. | Show
DESCRIPTION:
URL:https://visitcuritiba.tur.br/calendario/fabio-jr-show/
LOCATION:Teatro Positivo\, R. Prof. Pedro Viriato Parigot de Souza\, 5300\, Curitiba\, PR\, 81280-330\, Brasil
CATEGORIES:Show
ORGANIZER;CN="RW7 / Move Concerts":MAILTO:producao@rw7.com.br
END:VEVENT
BEGIN:VEVENT
DTSTART;VALUE=DATE:20230506
DTEND;VALUE=DATE:20230508
DTSTAMP:20260425T172058
CREATED:20230117T193141Z
LAST-MODIFIED:20230329T182533Z
UID:2950-1683331200-1683503999@visitcuritiba.tur.br
SUMMARY:14ª Curitiba Country Festival
DESCRIPTION:Criado em 2007\, o CCF se consolidou como o maior evento do Paraná e um dos maiores do Brasil no gênero sertanejo. Com o passar dos anos\, o festival ampliou o conjunto de gêneros musicais\, a fim de atender os diversos públicos. Após uma pausa de três anos devido ao distanciamento social\, o evento voltou a acontecer em 2022\, com realização da Opus Entretenimento\, em parceria com AME e Like Entretenimento. Com mais de 30 horas de duração e um grupo de artistas consolidado na indústria fonográfica\, 30 mil pessoas curtiram a 13ª edição do festival. \nA tão aguardada 14ª edição do CCF acontecerá nos dias 6 e 7 de maio de 2023\, no Expotrade Convention Center\, em Pinhais\, região metropolitana de Curitiba (RMC). Com o objetivo de proporcionar uma verdadeira experiência musical de altíssima qualidade\, trazendo grandes nomes do sertanejo e de diversos segmentos à capital paranaense\, o CCF 23 terá grande infraestrutura e ainda mais conforto ao público\, com quatro setores: Arena\, Arena Vip\, Camarote e Backstage. Ainda\, existe a possibilidade de garantir a presença através de um passaporte\, opção pensada para quem quer curtir os dois dias de festival. \nAlém do importante papel de fomentar e enaltecer a cultura sertaneja\, o CCF também é responsável em aquecer o mercado de trabalho e turismo da região.
URL:https://visitcuritiba.tur.br/calendario/14a-curitiba-country-festival/
LOCATION:Expotrade Convention Center\, Rodovia Deputado Leopoldo Jacomel\, 10454 - Vila Amelia\, Pinhais\, Paraná\, 83320-005\, Brasil
CATEGORIES:Festival musical
END:VEVENT
BEGIN:VEVENT
DTSTART;VALUE=DATE:20230506
DTEND;VALUE=DATE:20230507
DTSTAMP:20260425T172058
CREATED:20230418T184123Z
LAST-MODIFIED:20230418T184123Z
UID:3918-1683331200-1683417599@visitcuritiba.tur.br
SUMMARY:78ª Jornada Paranaense de Dermatologia
DESCRIPTION:Gostaríamos de fazer um convite muito especial para vocês. No dia 06 de maio iremos realizar a nossa 78ª Jornada Paranaense de Dermatologia. \nNo formato presencial\, contando com um espaço muito agradável no Victoria Villa Hotel\, em Curitiba\, preparamos com muito cuidado uma programação que contará com grandes nomes de nossa especialidade \nCertamente teremos um ambiente de profunda discussão científica e atualização na área\, principalmente se contarmos com a sua participação. \nFicaremos muito felizes em recebê-los em nossa 78ª Jornada da SBD-PR!!! \n\nDra. Flavia Costa Prevedello e Dra. Karina Bittencourt Medeiros\nOrganizadoras do Evento
URL:https://visitcuritiba.tur.br/calendario/78a-jornada-paranaense-de-dermatologia/
LOCATION:Hotel Victoria Villa\, Av. Sete de Setembro\, 2448 - Cristo Rei\, Curitiba\, Paraná\, 80230-010\, Brasil
CATEGORIES:Evento técnico científico
END:VEVENT
BEGIN:VEVENT
DTSTART;VALUE=DATE:20230506
DTEND;VALUE=DATE:20230507
DTSTAMP:20260425T172058
CREATED:20230117T191451Z
LAST-MODIFIED:20230329T182457Z
UID:2937-1683331200-1683417599@visitcuritiba.tur.br
SUMMARY:Warung Day Festival
DESCRIPTION:Curitiba te espera no dia 6 de maio\, em nossa tradicional Pedreira Paulo Leminski e o retorno do fenômeno sonoro na Ópera de Arame. \nA 8ª edição está repleta de novidades em sua estrutura\, contemplando a maior mudança organizacional que já tivemos. Ainda\, apresentações com mais tempo para desenvolvimento musical dos artistas\, uma sonorização e layout dos 3 palcos totalmente nova. \n Line-up oficial: \n♦ ADRIATIQUE (4 H SET) \n♦ ANNA \n♦ BEDOUIN \n♦ BONOBO (DJ SET) \n♦ CAMELPHAT \n♦ CHLOÉ CAILLET \n♦ DOP (LIVE) \n♦ VINTAGE CULTURE \ne Muito mais!
URL:https://visitcuritiba.tur.br/calendario/warung-day-festival/
LOCATION:Pedreira Paulo Leminski\, R. João Gava\, 970 - Abranches\, Curitiba\, Paraná\, 82130-010
CATEGORIES:Festival musical
END:VEVENT
BEGIN:VEVENT
DTSTART;VALUE=DATE:20230505
DTEND;VALUE=DATE:20230515
DTSTAMP:20260425T172058
CREATED:20230117T192916Z
LAST-MODIFIED:20230329T182432Z
UID:2946-1683244800-1684108799@visitcuritiba.tur.br
SUMMARY:Feira Brasil Moda Show
DESCRIPTION:A Feira Brasil Moda Show é sempre realizada final de abril e no início de maio\, quando em Curitiba já está fazendo frio e coincide com o Dia das Mães\, época de alta nas vendas. \nEm 2019 ela bateu mais um recorde de público e de faturamento\, fato que se repete pelo 5º ano consecutivo.\nA feira expõe os mais variados produtos\, abrangendo moda feminina e masculina\, lã\, couro\, móveis\, decoração\, artesanato\, acessórios em geral e calçados. \nEste ano a feira se tornará um grandioso evento\, com divulgação nos maiores canais de TV\, Outdoors\, Rádios e Social Media para os expositores.
URL:https://visitcuritiba.tur.br/calendario/feira-brasil-moda-show/
LOCATION:Centro de Eventos Positivo – Barigui\, Alameda Ecologica Burle Marx\, 2518\, Curitiba\, Paraná\, 82305-100
CATEGORIES:Feira
END:VEVENT
BEGIN:VEVENT
DTSTART;VALUE=DATE:20230505
DTEND;VALUE=DATE:20230507
DTSTAMP:20260425T172058
CREATED:20230117T192320Z
LAST-MODIFIED:20230331T172433Z
UID:2941-1683244800-1683417599@visitcuritiba.tur.br
SUMMARY:49° Congresso Paranaense e International Cardiology Meeting
DESCRIPTION:
URL:https://visitcuritiba.tur.br/calendario/49-congresso-paranaense-e-international-cardiology-meeting/
LOCATION:UP Expo\, R. Prof. Pedro Viriato Parigot de Souza\, 5300\, Curitiba\, Paraná\, 81280-330\, Brasil
CATEGORIES:Congresso
ATTACH;FMTTYPE=image/webp:https://visitcuritiba.tur.br/wp-content/uploads/2023/01/49o-Cardio-site-hospeda-1.webp
ORGANIZER;CN="Mark Messe":MAILTO:contato@markmesse.com.br
END:VEVENT
BEGIN:VEVENT
DTSTART;VALUE=DATE:20230503
DTEND;VALUE=DATE:20230504
DTSTAMP:20260425T172058
CREATED:20230331T171757Z
LAST-MODIFIED:20230331T202007Z
UID:3850-1683072000-1683158399@visitcuritiba.tur.br
SUMMARY:Dire Straits Legacy
DESCRIPTION:No primeiro semestre\, a Dire Straits Legacy volta a América do Sul com seu novo show\, Tour 2019. As apresentações acontecerão entre os dias 29 de março a 14 de abril\, incluindo sete shows no Brasil. A banda chega a Curitiba\, na quarta-feira\, 03 de abril\, para única apresentação no palco do Teatro Positivo\, às 21h. Dire Straits Legacy trará um show único e emocional que revive a inesquecível e mágica atmosfera da banda britânica formada na década de 1970.
URL:https://visitcuritiba.tur.br/calendario/dire-straits-legacy/
LOCATION:Teatro Positivo\, R. Prof. Pedro Viriato Parigot de Souza\, 5300\, Curitiba\, PR\, 81280-330\, Brasil
CATEGORIES:Show
END:VEVENT
BEGIN:VEVENT
DTSTART;TZID=UTC:20230429T180000
DTEND;TZID=UTC:20230429T180000
DTSTAMP:20260425T172058
CREATED:20230330T183149Z
LAST-MODIFIED:20230331T173533Z
UID:3804-1682791200-1682791200@visitcuritiba.tur.br
SUMMARY:Enaldinho em: O Mistério do Circo
DESCRIPTION:
URL:https://visitcuritiba.tur.br/calendario/enaldinho-em-o-misterio-do-circo/
LOCATION:Teatro Positivo\, R. Prof. Pedro Viriato Parigot de Souza\, 5300\, Curitiba\, PR\, 81280-330\, Brasil
CATEGORIES:Show
END:VEVENT
BEGIN:VEVENT
DTSTART;VALUE=DATE:20230429
DTEND;VALUE=DATE:20230430
DTSTAMP:20260425T172058
CREATED:20230418T182721Z
LAST-MODIFIED:20230418T182721Z
UID:3916-1682726400-1682812799@visitcuritiba.tur.br
SUMMARY:Napalm Death | Show
DESCRIPTION:Uma das mais importantes bandas do metal extremo\, responsável pela consolidação de todo um gênero musical\, o grindcore\, o Napalm Death retorna à América Latina em abril. Atração de grandes festivais no continente\, como o The Metal Fest (Chile) e Summer Breeze (Brasil)\, o quinteto adiciona mais uma parada na sua rota: Curitiba. O grupo retorna a capital paranaense dia 29 de abril\, sábado\, dessa vez no palco do Basement Cultural.
URL:https://visitcuritiba.tur.br/calendario/napalm-death-show/
LOCATION:Tork ‘n’ Roll\, Av. Mal. Floriano Peixoto\, 1695 - Rebouças\, Curitiba\, Paraná\, 82590-300\, Brasil
CATEGORIES:Show
END:VEVENT
BEGIN:VEVENT
DTSTART;VALUE=DATE:20230429
DTEND;VALUE=DATE:20230430
DTSTAMP:20260425T172058
CREATED:20230117T191040Z
LAST-MODIFIED:20230331T192759Z
UID:2935-1682726400-1682812799@visitcuritiba.tur.br
SUMMARY:Tardezinha - Thiaguinho
DESCRIPTION:A ‘Tardezinha’ de Thiaguinho será em 29 de abril de 2023\, em Curitiba\, na Pedreira Paulo Leminski. \nO projeto ‘Tardezinha’ existe há seis anos e é um mergulho na história do pagode brasileiro. O cantor de Presidente Prudente\, no interior de São Paulo\, revisita os pagodes dos anos 90 e 2000.
URL:https://visitcuritiba.tur.br/calendario/tardezinha-thiaguinho/
LOCATION:Pedreira Paulo Leminski\, R. João Gava\, 970 - Abranches\, Curitiba\, Paraná\, 82130-010
CATEGORIES:Show
END:VEVENT
BEGIN:VEVENT
DTSTART;VALUE=DATE:20230428
DTEND;VALUE=DATE:20230429
DTSTAMP:20260425T172058
CREATED:20230117T190832Z
LAST-MODIFIED:20230331T201807Z
UID:2933-1682640000-1682726399@visitcuritiba.tur.br
SUMMARY:Piaf\, por Anne Carrere
DESCRIPTION:A cantora francesa Anne Carrere chega em breve a Curitiba e traz consigo um musical sobre a vida e obra de Édith Piaf\, uma das mais ilustres cantoras francesas. A apresentação acontece no dia 28 de abril de\, no palco da Ópera de Arame. \nAnne Carrere\, a intérprete de Édith Piaf mais ouvida nos últimos tempos\, dirige um novo projeto com músicos escolhidos à dedo; todos eles experts em Édith Piaf e música francesa. \nOs músicos possuem um histórico impressionante quando o assunto é a música de Édith Piaf. Com mais de 300 shows em 50 países e mais de 500.000 ingressos vendidos\, o grupo está pronto para ampliar  a experiência de Édith Piaf durante 90 minutos de tirar o fôlego\, com sublimes arranjos de Guy Giuliano\, um setlist deslumbrante acompanhado por luzes e atuação cativante.
URL:https://visitcuritiba.tur.br/calendario/piaf-por-anne-carrere/
LOCATION:Ópera de Arame\, R. João Gava\, 920 - Abranches\, Curitiba\, Paraná\, 82130-010\, Brasil
CATEGORIES:Show
END:VEVENT
BEGIN:VEVENT
DTSTART;TZID=UTC:20230427T210000
DTEND;TZID=UTC:20230427T210000
DTSTAMP:20260425T172058
CREATED:20230330T174453Z
LAST-MODIFIED:20230331T201645Z
UID:3792-1682629200-1682629200@visitcuritiba.tur.br
SUMMARY:Johnny Hooker em Clube da Sofrência - Uma Homenagem a Marília Mendonça
DESCRIPTION:
URL:https://visitcuritiba.tur.br/calendario/johnny-hooker-em-clube-da-sofrencia-uma-homenagem-a-marilia-mendonca/
LOCATION:Teatro Positivo\, R. Prof. Pedro Viriato Parigot de Souza\, 5300\, Curitiba\, PR\, 81280-330\, Brasil
END:VEVENT
BEGIN:VEVENT
DTSTART;VALUE=DATE:20230427
DTEND;VALUE=DATE:20230430
DTSTAMP:20260425T172058
CREATED:20230330T182253Z
LAST-MODIFIED:20230418T172513Z
UID:3800-1682553600-1682812799@visitcuritiba.tur.br
SUMMARY:38ª Jornada Sul-Brasileira de Cirurgia Plástica
DESCRIPTION:Com imensa alegria sediaremos 38º Jornada Sul-Brasileira de Cirurgia Plástica em Curitiba entre 27-29 de abril de 2023. Estamos trabalhando intensamente para trazer um evento de alto padrão científico\, com os assuntos mais atuais da cirurgia mamária.  Receberemos os grandes nomes nacionais e internacionais da Cirurgia Plástica Mamária. \nConvidamos todos a conhecer a nossa cidade\, famosa por seus parques\, restaurantes\, qualidade de vida e muito mais. \nPrograme-se para ficar um dia a mais na cidade para poder aproveitar pontos turísticos próximos\, como o passeio de trem para Morretes\, considerado um dos mais bonitos do mundo. \nEstamos ansiosos por recebe-los e fazer deste o evento de 2023 que você não pode perder. \nAté breve \nAnne Karoline Groth\nPresidente da Regional Paraná
URL:https://visitcuritiba.tur.br/calendario/38a-jornada-sul-brasileira-de-cirurgia-plastica/
LOCATION:Bourbon Curitiba Hotel & Suites\, Av\, R. Cândido Lopes\, 102 - Centro\, Curitiba\, PR\, 80020-060\, Brasil
CATEGORIES:Congresso
ORGANIZER;CN="Sociedade Brasileira de Cirurgia Pl%C3%A1stica":MAILTO:desc@cirurgiaplastica.org.br
END:VEVENT
BEGIN:VEVENT
DTSTART;VALUE=DATE:20230427
DTEND;VALUE=DATE:20230430
DTSTAMP:20260425T172058
CREATED:20230330T180615Z
LAST-MODIFIED:20230418T172438Z
UID:3795-1682553600-1682812799@visitcuritiba.tur.br
SUMMARY:2º Congresso Brasileiro de Ortopedia Veterinária
DESCRIPTION:Sejam bem-vindos ao maior congresso do ortopedia veterinária já realizado no Brasil! \nEstamos preparando uma grade com os maiores nomes do Brasil e do exterior. Serão 3 salas simultâneas e uma expectativa de público superior a 1.000 congressistas! Sem dúvida será um dos maiores eventos do ano no Brasil\, e um dos maiores desta especialidade no mundo! E você não pode ficar de fora! \nSerá um importante capítulo na história da ortopedia veterinária nacional e fica aqui nosso convite para você ajudar a escrever. \nParticipe! \nComissão Científica CBORTOVET 2023.
URL:https://visitcuritiba.tur.br/calendario/2o-congresso-brasileiro-de-ortopedia-veterinaria/
LOCATION:Jockey Club do Paraná\, Avenida Victor Ferreira do Amaral\, Praça Jóquei Pinheiro Filho\, 2299\, Curitiba\, PR\, : 82800-000\, Brazil
CATEGORIES:Congresso
ORGANIZER;CN="Mark Messe":MAILTO:contato@markmesse.com.br
END:VEVENT
BEGIN:VEVENT
DTSTART;VALUE=DATE:20230424
DTEND;VALUE=DATE:20230425
DTSTAMP:20260425T172058
CREATED:20230117T190253Z
LAST-MODIFIED:20230331T201723Z
UID:2930-1682294400-1682380799@visitcuritiba.tur.br
SUMMARY:Show | Joss Stone
DESCRIPTION:Em 2023\, a diva britânica Joss Stone vai comemorar 20 anos de uma celebrada carreira internacional. Para tal celebração\, a cantora vem a Curitiba\, no dia 24 de abril\, às 21h\, no palco do Teatro Positivo\, com a turnê “20 Yeras Of Soul”.  A produção da turnê fica por conta da MCA Concerts. \n 
URL:https://visitcuritiba.tur.br/calendario/show-joss-stone/
LOCATION:Teatro Positivo\, R. Prof. Pedro Viriato Parigot de Souza\, 5300\, Curitiba\, PR\, 81280-330\, Brasil
CATEGORIES:Show
END:VEVENT
BEGIN:VEVENT
DTSTART;TZID=UTC:20230423T200000
DTEND;TZID=UTC:20230423T200000
DTSTAMP:20260425T172058
CREATED:20230329T200702Z
LAST-MODIFIED:20230331T201940Z
UID:3788-1682280000-1682280000@visitcuritiba.tur.br
SUMMARY:Deep Purple em Curitiba
DESCRIPTION:O Deep Purple\, um dos maiores nomes da história do rock mundial\, está de volta ao Brasil pela 13º vez e Curitiba acaba de ser confirmada na rota da mais nova turnê do grupo pela América do Sul. \nA banda inglesa se apresentará no dia 23 de abril\, na Live Curitiba. As lendas Ian Gillan (vocal)\, Roger Glover (baixo)\, Ian Paice (bateria)\, Don Airey (teclado) e Simon McBride (guitarra) prometem mostrar que estão longe da aposentadoria e executar irretocável performance na capital paranaense. \nNo repertório\, não devem faltar hinos como “Perfect Strangers”\, “Smoke on the Water”\, “Black Night”\, “Highway Star”\, “Lazy”\, “Space Truckin”\, entre outros. Esta é mais uma realização da Opus Entretenimento e tour assinada pela Mercury Concerts.
URL:https://visitcuritiba.tur.br/calendario/deep-purple-em-curitiba-2/
LOCATION:Live Curitiba\, Rua Itajubá\, 143\, Curitiba\, Paraná\, 81050-040\, Brasil
CATEGORIES:Show
END:VEVENT
BEGIN:VEVENT
DTSTART;TZID=UTC:20230423T190000
DTEND;TZID=UTC:20230423T190000
DTSTAMP:20260425T172058
CREATED:20230330T162754Z
LAST-MODIFIED:20230331T202817Z
UID:3790-1682276400-1682276400@visitcuritiba.tur.br
SUMMARY:Di Paullo e Paulino e Teodoro e Sampaio - Encontro Sertanejo
DESCRIPTION:
URL:https://visitcuritiba.tur.br/calendario/di-paullo-e-paulino-e-teodoro-e-sampaio-encontro-sertanejo/
LOCATION:Teatro Positivo\, R. Prof. Pedro Viriato Parigot de Souza\, 5300\, Curitiba\, PR\, 81280-330\, Brasil
CATEGORIES:Show
END:VEVENT
BEGIN:VEVENT
DTSTART;VALUE=DATE:20230422
DTEND;VALUE=DATE:20230423
DTSTAMP:20260425T172058
CREATED:20230418T181347Z
LAST-MODIFIED:20230418T181347Z
UID:3914-1682121600-1682207999@visitcuritiba.tur.br
SUMMARY:Zé Felipe | Show
DESCRIPTION:Zé Felipe volta à capital paranaense com show em palco 360º\, no sábado\, dia 22 de abril. Após o sucesso do artista no último evento neste formato\, ele retorna ao palco da Live Curitiba (Rua Itajubá\, 143) para mais uma apresentação com essa configuração singular que proporciona mais proximidade com os fãs. \n 
URL:https://visitcuritiba.tur.br/calendario/ze-felipe-show/
LOCATION:Live Curitiba\, Rua Itajubá\, 143\, Curitiba\, Paraná\, 81050-040\, Brasil
CATEGORIES:Show
END:VEVENT
BEGIN:VEVENT
DTSTART;VALUE=DATE:20230421
DTEND;VALUE=DATE:20230502
DTSTAMP:20260425T172058
CREATED:20230117T185226Z
LAST-MODIFIED:20230425T173744Z
UID:2920-1682035200-1682985599@visitcuritiba.tur.br
SUMMARY:44ª Feiarte - Feira Internacional de Artesanato
DESCRIPTION:A Feiarte chega em sua 44ª edição registrando a cada ano um número crescente de expositores de diversos países e estados brasileiros\, sendo reconhecida como incentivadora e investidora do intercâmbio cultural entre artesãos e visitantes. \nCriada com o objetivo de promover o trabalho de artesãos\, que confeccionam artigos de rara qualidade\, criatividade e bom gosto. \nContato (Whatsapp) – 41 98471-0281
URL:https://visitcuritiba.tur.br/calendario/42a-feiarte-feira-internacional-de-artesanato-2/
LOCATION:Centro de Eventos Positivo\, Alameda Ecologica Burle Marx\, 2518 - Santo Inácio\, Curitiba\, Paraná\, 82305-100\, Brasil
CATEGORIES:Feira
END:VEVENT
BEGIN:VEVENT
DTSTART;TZID=UTC:20230420T210000
DTEND;TZID=UTC:20230420T210000
DTSTAMP:20260425T172058
CREATED:20230329T195306Z
LAST-MODIFIED:20230329T195344Z
UID:3783-1682024400-1682024400@visitcuritiba.tur.br
SUMMARY:Helloween - Pumpkins United World Tour
DESCRIPTION:A banda alemã Helloween\, um dos maiores expoentes do heavy metal melódico mundial\, confirmou recentemente nova passagem pelo Brasil com a “Pumpkins United World Tour”. \nO grupo se apresentará no dia 20 de abril\, na Live\, em Curitiba. A pré-venda para assinantes Clube Opus começa em 28 de fevereiro\, às 10h e\, ao público em geral\, a partir de 1 de março\, às 10h\, e a abertura de venda para o público em geral acontece no dia 1 de março\, às 10h. Esta é mais uma realização da Opus Entretenimento e tour assinada pela Mercury Concerts. \nNo repertório\, o grupo promete executar clássicos como “Eagle Fly Free”\, “Power”\, “Forever and One”\, “Dr. Stein”\, “I Want Out”\, “Future World” e “How Many Tears”\, além de novas composições como “Skyfall”\, “Fear of the Fallen” e “Best Time”.
URL:https://visitcuritiba.tur.br/calendario/helloween-pumpkins-united-world-tour/
LOCATION:Live Curitiba\, Rua Itajubá\, 143\, Curitiba\, Paraná\, 81050-040\, Brasil
CATEGORIES:Show
END:VEVENT
BEGIN:VEVENT
DTSTART;VALUE=DATE:20230420
DTEND;VALUE=DATE:20230424
DTSTAMP:20260425T172058
CREATED:20230117T183516Z
LAST-MODIFIED:20230321T180240Z
UID:2913-1681948800-1682294399@visitcuritiba.tur.br
SUMMARY:XIX LATS - Latin American Thyroid Congress
DESCRIPTION:
URL:https://visitcuritiba.tur.br/calendario/xix-lats-latin-american-thyroid-congress/
LOCATION:UP Expo\, R. Prof. Pedro Viriato Parigot de Souza\, 5300\, Curitiba\, Paraná\, 81280-330\, Brasil
CATEGORIES:Congresso
ATTACH;FMTTYPE=image/png:https://visitcuritiba.tur.br/wp-content/uploads/2023/01/Design-sem-nome-34.png
END:VEVENT
BEGIN:VEVENT
DTSTART;VALUE=DATE:20230419
DTEND;VALUE=DATE:20230420
DTSTAMP:20260425T172058
CREATED:20230117T182744Z
LAST-MODIFIED:20230331T202235Z
UID:2910-1681862400-1681948799@visitcuritiba.tur.br
SUMMARY:THE MUSIC OF JON LORD AND DEEP PURPLE
DESCRIPTION:Bruce Dickinson\, vocalista do Iron Maiden e um dos maiores nomes do Rock Mundial\, estará de volta ao Brasil em 2023 para apresentações especiais. \nO cantor apresentará um show em cima do álbum de 1969 do Deep Purple Concerto For Group And Orchestra e os maiores sucessos de Jon Lord em uma turnê inédita que passará por São Paulo\, Curitiba\, Rio de Janeiro e Porto Alegre. \nEm sua passagem pelo país\, o espetáculo será apresentado por Bruce Dickinson (Iron Maiden) nos vocais\, que volta ao país especialmente para o show e que comanda uma banda formada por John O’Hara (Jethro Tull) nos teclados\, Tanya O’Callaghan (Whitesnake) no baixo\, Kaitner Z Doka (Jon Lord\, Ian Paice) na guitarra\, Bernard Welz (Jon Lord\, Don Airey) na bateria e Mario Argandonia (Scorpions…) na percussão. \nAlém disso\, o show terá no palco uma orquestra sinfônica de mais de 80 instrumentistas conduzida por Paul Mann\, montada especialmente para a ocasião com integrantes da OSESP (Orquestra Sinfônica do Estado de São Paulo) e de algumas das principais sinfônicas do país.
URL:https://visitcuritiba.tur.br/calendario/the-music-of-jon-lord-and-deep-purple/
LOCATION:Teatro Positivo\, R. Prof. Pedro Viriato Parigot de Souza\, 5300\, Curitiba\, PR\, 81280-330\, Brasil
CATEGORIES:Show
END:VEVENT
BEGIN:VEVENT
DTSTART;TZID=UTC:20230418T140000
DTEND;TZID=UTC:20230420T210000
DTSTAMP:20260425T172058
CREATED:20230117T172327Z
LAST-MODIFIED:20230330T200623Z
UID:2887-1681826400-1682024400@visitcuritiba.tur.br
SUMMARY:ExpoApras 2023 - 40ª Feira e Convenção Paranaense de Supermercados
DESCRIPTION:Principais Tendências do Setor Supermercadista.
URL:https://visitcuritiba.tur.br/calendario/expoapras-2023-40a-feira-e-convencao-paranaense-de-supermercados/
LOCATION:Expotrade Convention Center\, Rodovia Deputado Leopoldo Jacomel\, 10454 - Vila Amelia\, Pinhais\, Paraná\, 83320-005\, Brasil
CATEGORIES:Feira
ATTACH;FMTTYPE=image/png:https://visitcuritiba.tur.br/wp-content/uploads/2023/01/img-destaque-1.png
END:VEVENT
END:VCALENDAR