BEGIN:VCALENDAR
VERSION:2.0
PRODID:-//Curitiba e Região Convention &amp; Visitors Bureau- CCVB - ECPv6.15.20//NONSGML v1.0//EN
CALSCALE:GREGORIAN
METHOD:PUBLISH
X-WR-CALNAME:Curitiba e Região Convention &amp; Visitors Bureau- CCVB
X-ORIGINAL-URL:https://visitcuritiba.tur.br
X-WR-CALDESC:Eventos para Curitiba e Região Convention &amp; Visitors Bureau- CCVB
REFRESH-INTERVAL;VALUE=DURATION:PT1H
X-Robots-Tag:noindex
X-PUBLISHED-TTL:PT1H
BEGIN:VTIMEZONE
TZID:UTC
BEGIN:STANDARD
TZOFFSETFROM:+0000
TZOFFSETTO:+0000
TZNAME:UTC
DTSTART:20210101T000000
END:STANDARD
END:VTIMEZONE
BEGIN:VEVENT
DTSTART;TZID=UTC:20230327T080000
DTEND;TZID=UTC:20230409T170000
DTSTAMP:20260425T232305
CREATED:20230112T203729Z
LAST-MODIFIED:20230331T164143Z
UID:2810-1679904000-1681059600@visitcuritiba.tur.br
SUMMARY:31º Festival de Curitiba 2023
DESCRIPTION:O Festival de Teatro de Curitiba é um festival brasileiro de teatro\, realizado anualmente em Curitiba\, capital do estado do Paraná. Com produções teatrais nacionais e internacionais\, tornou-se referência nas artes cênicas do Brasil\, sempre apresentando estréias entre as peças inscritas a cada ano.\n\n\nFoi idealizado por Leandro Knopfholz e Carlos Eduardo Bittencourt\, na época com 18 e 22 anos\, e organizado com a ajuda de Cássio Chamecki e Victor Aronis. A primeira edição\, em 1992\, contou com a participação de grandes nomes do teatro brasileiro\, como José Celso Martinez Corrêa\, Antunes Filho\, Gerald Thomas\, Cacá Rosset e Gabriel Vilela.
URL:https://visitcuritiba.tur.br/calendario/31o-festival-de-curitiba-2022/
LOCATION:Diversos Locais\, Curitiba\, Paraná\, Brasil
CATEGORIES:Cultural
END:VEVENT
BEGIN:VEVENT
DTSTART;VALUE=DATE:20230324
DTEND;VALUE=DATE:20230326
DTSTAMP:20260425T232305
CREATED:20230112T202621Z
LAST-MODIFIED:20230329T180515Z
UID:2807-1679616000-1679788799@visitcuritiba.tur.br
SUMMARY:Shen Yun Performing Arts
DESCRIPTION:O Shen Yun é um renascimento artístico brilhante e uma celebração da rica herança cultural da China. \nCada performance consiste em cerca de 20 peças\, movendo-se rapidamente de uma lenda\, região ou dinastia para a próxima. Os temas variam da elegância delicada das damas da corte Tang ao heroísmo no campo de batalha de valentes generais\, das obras filosóficas atemporais de Lao-Tzu a cenas espetaculares de reinos mágicos. Algumas peças também abordam o tema da China de hoje\, lançando luz sobre a opressão que muitos experimentam por suas crenças espirituais\, como o Falun Dafa. Essas histórias de coragem costumam ser o que os membros da audiência consideram mais comoventes e edificantes.\nAs obras do Shen Yun transmitem a extraordinária profundidade e amplitude da genuína cultura chinesa e trazem a magnificência de cinco mil anos de civilização de volta ao palco.
URL:https://visitcuritiba.tur.br/calendario/shen-yun-performing-arts/
LOCATION:Teatro Guaíra\, R. XV de Novembro\, 971 - Centro\, Curitiba\, Paraná\, 80060-000\, Brasil
CATEGORIES:Cultural
END:VEVENT
BEGIN:VEVENT
DTSTART;VALUE=DATE:20230324
DTEND;VALUE=DATE:20230325
DTSTAMP:20260425T232305
CREATED:20230317T140322Z
LAST-MODIFIED:20230329T180444Z
UID:3659-1679616000-1679702399@visitcuritiba.tur.br
SUMMARY:"Esperança"\, por Yamandu Costa
DESCRIPTION:
URL:https://visitcuritiba.tur.br/calendario/esperanca-por-yamandu-costa/
LOCATION:Teatro Positivo\, R. Prof. Pedro Viriato Parigot de Souza\, 5300\, Curitiba\, PR\, 81280-330\, Brasil
CATEGORIES:Show
END:VEVENT
BEGIN:VEVENT
DTSTART;VALUE=DATE:20230324
DTEND;VALUE=DATE:20230325
DTSTAMP:20260425T232305
CREATED:20230112T202022Z
LAST-MODIFIED:20230329T180423Z
UID:2802-1679616000-1679702399@visitcuritiba.tur.br
SUMMARY:Festival We Are One
DESCRIPTION:A maior turnê de Punk Rock\, We Are One\, finalmente está de volta!\n\nRealizada pela primeira vez em 2016 na América do Sul\, contornou 6 países e 9 capitais\, levando mais de 30 mil pessoas nas três edições. \nJá passaram pela We Are One grandes nomes do Punk Rock e Hardcore mundial.\nA turnê além de extensa\, também é baseada na união não só dos promotores\, apoiadores e amigos\, mas também de quem faz tudo isso acontecer: o público!\nEsse ano apresenta os monstros do Punk Rock Sueco Millencolin e Satanic Surfers\, Cigar e a descoberta do Pop Punk\, MakeWar.
URL:https://visitcuritiba.tur.br/calendario/festival-we-are-one/
LOCATION:CWB Hall\, R. Dr. Claudino dos Santos\, 72 - São Francisco\, Curitiba\, Paraná\, 80020-170\, Brasil
CATEGORIES:Festival musical
END:VEVENT
BEGIN:VEVENT
DTSTART;VALUE=DATE:20230323
DTEND;VALUE=DATE:20230420
DTSTAMP:20260425T232305
CREATED:20230316T170947Z
LAST-MODIFIED:20230331T164111Z
UID:3654-1679529600-1681948799@visitcuritiba.tur.br
SUMMARY:11° Festival Comédia EnCena
DESCRIPTION:O Festival Comédia EnCena está de volta para sua 11ª edição! Depois de todos os contratempos dos últimos anos\, o Teatro Barracão Encena e Barracão EnCena Produções vão mostrar ao público curitibano várias maneiras de dar risada! \nCom início no dia 23 de março\, o Festival contará com seis espetáculos em mais de vinte apresentações até o dia 9 de abril. A programação vai contar com o retorno de alguns clássicos para público tanto adulto quanto infantil\, além de uma estreia mais que especial abrindo o Festival!
URL:https://visitcuritiba.tur.br/calendario/11-festival-comedia-encena/
LOCATION:Teatro Barracão Encena\, R. Treze de Maio\, 160 - Centro\, Curitiba\, PR\, 80020-270\, Brasil
CATEGORIES:Cultural
END:VEVENT
BEGIN:VEVENT
DTSTART;VALUE=DATE:20230322
DTEND;VALUE=DATE:20230325
DTSTAMP:20260425T232305
CREATED:20230112T202148Z
LAST-MODIFIED:20230314T142020Z
UID:2805-1679443200-1679702399@visitcuritiba.tur.br
SUMMARY:4º Smart City Expo Curitiba
DESCRIPTION:Criado em parceria com a Fira Barcelona\, organizadora do principal Congresso Mundial de cidades inteligentes\, o Smart City Expo World Congress\, o Smart City Expo Curitiba reúne especialistas de todas as áreas para compartilhar ideias e soluções sobre como criar um futuro melhor e mais sustentável para as cidades e seus cidadãos.
URL:https://visitcuritiba.tur.br/calendario/4o-smart-city-expo-curitiba/
LOCATION:Centro de Eventos Positivo – Barigui\, Alameda Ecologica Burle Marx\, 2518\, Curitiba\, Paraná\, 82305-100
CATEGORIES:Congresso
ATTACH;FMTTYPE=image/jpeg:https://visitcuritiba.tur.br/wp-content/uploads/2023/01/Logo-SCECWB-2.jpg
END:VEVENT
BEGIN:VEVENT
DTSTART;VALUE=DATE:20230321
DTEND;VALUE=DATE:20230323
DTSTAMP:20260425T232305
CREATED:20230112T201645Z
LAST-MODIFIED:20230314T141851Z
UID:2799-1679356800-1679529599@visitcuritiba.tur.br
SUMMARY:Show | Coldplay
DESCRIPTION:Após anos de especulação\, finalmente o Coldplay anunciou seu primeiro show em Curitiba! A banda que está com passagem marcada para o Brasil em março de 2023\, chegará à capital paranaense nos dias 21 e 22 de março\, para duas apresentações no Estádio Couto Pereira.
URL:https://visitcuritiba.tur.br/calendario/show-coldplay/
LOCATION:Estádio Major Antônio Couto Pereira\, R. Ubaldino do Amaral\, 63 - Alto da Glória\, Curitiba\, Paraná\, 80060-195\, Brasil
CATEGORIES:Show
ATTACH;FMTTYPE=image/jpeg:https://visitcuritiba.tur.br/wp-content/uploads/2023/01/Screenshot_20221020-134930_Instagram.jpg
END:VEVENT
BEGIN:VEVENT
DTSTART;VALUE=DATE:20230319
DTEND;VALUE=DATE:20230320
DTSTAMP:20260425T232305
CREATED:20230314T135407Z
LAST-MODIFIED:20230329T180342Z
UID:3567-1679184000-1679270399@visitcuritiba.tur.br
SUMMARY:A Pequena Sereia in Concert
DESCRIPTION:
URL:https://visitcuritiba.tur.br/calendario/a-pequena-sereia-in-concert/
LOCATION:Teatro Positivo\, R. Prof. Pedro Viriato Parigot de Souza\, 5300\, Curitiba\, PR\, 81280-330\, Brasil
END:VEVENT
BEGIN:VEVENT
DTSTART;VALUE=DATE:20230319
DTEND;VALUE=DATE:20230320
DTSTAMP:20260425T232305
CREATED:20230112T201407Z
LAST-MODIFIED:20230314T155754Z
UID:2797-1679184000-1679270399@visitcuritiba.tur.br
SUMMARY:Abba Experience in Concert
DESCRIPTION:Uma megaprodução\, com 30 integrantes no palco\, num espetáculo totalmente cantado e tocado ao vivo\, com ballet\, banda e orquestra\, além dos quatro cantores. Abba Experience In Concert conta a história de uma das maiores bandas de todos os tempos\, através de seus maiores sucessos.
URL:https://visitcuritiba.tur.br/calendario/abba-experience-in-concert/
LOCATION:Teatro Positivo\, R. Prof. Pedro Viriato Parigot de Souza\, 5300\, Curitiba\, PR\, 81280-330\, Brasil
ATTACH;FMTTYPE=image/jpeg:https://visitcuritiba.tur.br/wp-content/uploads/2023/01/abba.jpeg
END:VEVENT
BEGIN:VEVENT
DTSTART;VALUE=DATE:20230317
DTEND;VALUE=DATE:20230318
DTSTAMP:20260425T232305
CREATED:20230112T201319Z
LAST-MODIFIED:20230329T180319Z
UID:2795-1679011200-1679097599@visitcuritiba.tur.br
SUMMARY:Show Fafá de Belém
DESCRIPTION:Artista com uma das carreiras mais marcantes na música brasileira\, Fafá de Belém anuncia um show super especial em Curitiba. A apresentação acontecerá no dia 17 de março\, às 21h\, no Teatro Positivo. \nA cantora já vendeu mais de 15 milhões de álbuns\, entre Brasil e Portugal\, e sempre cantou o que quis e gosta. Suas canções fizeram e fazem parte da vida dos brasileiros\, seja em trilha sonora de novelas\, seja nas rádios ou por intermédio de seus CDs e DVDs. O repertório do show é formado por esses principais sucessos da sua carreira\, que já completou mais de 45 anos. O público poderá ouvir músicas como “Abandonada”\, “Foi Assim”\, “Nuvem de Lágrima”\, “Vermelhou” e “Coração do Agreste” e “Filho da Bahia”. \nFafá se apresenta ao lado da banda completa (guitarra\, baixo\, bateria\, piano\, percussão e metais)\, que tocam suas músicas nos arranjos tradicionais.
URL:https://visitcuritiba.tur.br/calendario/show-fafa-de-belem/
LOCATION:Teatro Positivo\, R. Prof. Pedro Viriato Parigot de Souza\, 5300\, Curitiba\, PR\, 81280-330\, Brasil
CATEGORIES:Show
END:VEVENT
BEGIN:VEVENT
DTSTART;VALUE=DATE:20230312
DTEND;VALUE=DATE:20230313
DTSTAMP:20260425T232305
CREATED:20230112T201239Z
LAST-MODIFIED:20230329T180304Z
UID:2793-1678579200-1678665599@visitcuritiba.tur.br
SUMMARY:Elvis Experience com Dean Z
DESCRIPTION:ELVIS EXPERIENCE promove uma imersão completa na vida e na obra do artista mais icônico de todos os tempos. Desde sua ascensão à fama\, na década de 1950\, até suas lendárias performances em Las Vegas\, nos anos 70\, o show revisita os maiores sucessos de ELVIS PRESLEY\, num formato totalmente ao vivo. Figurinos idênticos aos originais\, projeções que remontam os cenários dos clipes de Elvis e uma poderosa banda formatada para reproduzir fielmente a formação clássica que acompanhava o Rei do Rock\, são algumas das atrações do espetáculo\, que chega pela primeira vez ao Brasil.\nO show é protagonizado pelo cantor norte-americano DEAN Z\, reconhecido pela Elvis Presley Enterprises – empresa que administra o espólio do Rei – como O MAIOR E MAIS PREMIADO ARTISTA DE TRIBUTO A ELVIS PRESLEY DO MUNDO.
URL:https://visitcuritiba.tur.br/calendario/tributo-elvis-turne-internacinal/
LOCATION:Teatro Positivo\, R. Prof. Pedro Viriato Parigot de Souza\, 5300\, Curitiba\, PR\, 81280-330\, Brasil
CATEGORIES:Show
END:VEVENT
BEGIN:VEVENT
DTSTART;VALUE=DATE:20230312
DTEND;VALUE=DATE:20230313
DTSTAMP:20260425T232305
CREATED:20230112T201111Z
LAST-MODIFIED:20230329T180243Z
UID:2790-1678579200-1678665599@visitcuritiba.tur.br
SUMMARY:Heloisa Perissé - A Iluminada
DESCRIPTION:O espetáculo traz inspiração dos formatos de palestrantes do TEDx (palestras sobre experiências vividas). A peça apresenta Doroteia das Dores\, uma mulher com uma história de superação única que tenta passar por meio da palestra como chegar a iluminação.
URL:https://visitcuritiba.tur.br/calendario/heloisa-perrise-a-iluminada/
LOCATION:Teatro Guaíra\, R. XV de Novembro\, 971 - Centro\, Curitiba\, Paraná\, 80060-000\, Brasil
CATEGORIES:Teatro
END:VEVENT
BEGIN:VEVENT
DTSTART;VALUE=DATE:20230311
DTEND;VALUE=DATE:20230312
DTSTAMP:20260425T232305
CREATED:20230316T165737Z
LAST-MODIFIED:20230329T180219Z
UID:3644-1678492800-1678579199@visitcuritiba.tur.br
SUMMARY:Cabaré - Leonardo e Bruno e Marrone
DESCRIPTION:Três grandes nomes da música sertaneja se uniram\, em 2022\, para protagonizarem uma grande festa. Neste sábado (8)\, a partir das 23h\, Leonardo e Bruno & Marrone fazem o show Cabaré\, com os maiores clássicos do sertanejo para o Viasoft Experience\, centro de convenções que fica na Universidade Positivo. \nO sucesso do grande encontro “Cabaré́” ultrapassou as expectativas e o que era para ser um projeto isolado de satisfação pessoal e brindando uma grande amizade se tornou um dos projetos mais bem-sucedidos da música brasileira.
URL:https://visitcuritiba.tur.br/calendario/cabare-leonardo-e-bruno-e-marrone/
LOCATION:Jockey Club do Paraná\, Avenida Victor Ferreira do Amaral\, Praça Jóquei Pinheiro Filho\, 2299\, Curitiba\, PR\, : 82800-000\, Brazil
CATEGORIES:Show
END:VEVENT
BEGIN:VEVENT
DTSTART;VALUE=DATE:20230311
DTEND;VALUE=DATE:20230312
DTSTAMP:20260425T232305
CREATED:20230316T165211Z
LAST-MODIFIED:20230329T180111Z
UID:3640-1678492800-1678579199@visitcuritiba.tur.br
SUMMARY:Marco Luque em "Dilatados"
DESCRIPTION:O Ator \, humorista e palhaço\, Marco Luque traz “o sérumaninho Mustafary e o motoboy Jackson Faive\, para trocar aquela ideia sobre tudo de mais dilatado que vem ocorrendo em nossa biosfera terrestre. Em “Dilatados”\, Marco Luque conta as façanhas de Jackson Faive – o motoboy paulistano mais famoso do Brasil – Mustafáry – um vegetariano irônico e controverso\, que prega a sustentabilidade do Planeta\, diz amar a natureza e os animais (especialmente o serumaninho\, cachorro que encontrou na praia). O universo destes personagens é certeza de diversão garantida. A versatilidade de Marco Luque\, comprovada desde a bancada do CQC (TV Band) \, Altas Horas \, na Nova Escolinha do Professor Raimundo \, Cinema\, Mini-séries etc mostram outras peculiaridades do artista\, com momentos inesquecíveis para o público. “Marco Luque em: Dilatados” tem 70 minutos de duração\, produção de Macatranja Produções com criação e Direção de Luque e Guilherme Rocha.
URL:https://visitcuritiba.tur.br/calendario/marco-luque-em-dilatados/
LOCATION:Teatro Positivo\, R. Prof. Pedro Viriato Parigot de Souza\, 5300\, Curitiba\, PR\, 81280-330\, Brasil
CATEGORIES:Teatro
END:VEVENT
BEGIN:VEVENT
DTSTART;VALUE=DATE:20230306
DTEND;VALUE=DATE:20230309
DTSTAMP:20260425T232305
CREATED:20230112T200739Z
LAST-MODIFIED:20230329T180034Z
UID:2785-1678060800-1678319999@visitcuritiba.tur.br
SUMMARY:Revolution Congresso e Feira - 4º Edição
DESCRIPTION:
URL:https://visitcuritiba.tur.br/calendario/revolution-congresso-e-feira-4o-edicao/
LOCATION:Piu José Eventos\, R. Virgínia Dalabona\, 700 - Salão 2 - Orleans\, Curitiba\, Paraná\, 82310-390\, Brasil
CATEGORIES:Congresso,Feira
END:VEVENT
BEGIN:VEVENT
DTSTART;VALUE=DATE:20230305
DTEND;VALUE=DATE:20230306
DTSTAMP:20260425T232305
CREATED:20230112T200414Z
LAST-MODIFIED:20230329T180008Z
UID:2780-1677974400-1678060799@visitcuritiba.tur.br
SUMMARY:Corrida de 60 anos da Apae Curitiba
DESCRIPTION:A Corrida de 60 anos da Apae Curitiba: Running for a Goal\, é um evento de comemoração dos 60 anos da instituição\, que atende Pessoas com Deficiência Intelectual e Múltipla.\nPara participar\, basta realizar uma doação no valor de R$120 que da direito a inscrição + Kit participante.\nAlém da comemoração\, o principal objetivo\, é arrecadar valores para que a instituição continuem prestando atendimento nas áreas de educação\, saúde e assistência social.\nSão quase 500 Pessoas com Deficiência Intelectual e suas famílias\, que são atendidas pela Apae Curitiba. Só na área da saúde\, são quase 50 mil atendimentos/ano.\nCorra por um objetivo\, corra com a Apae. Faça o bem sem olhar a quem!
URL:https://visitcuritiba.tur.br/calendario/corrida-de-60-anos-da-apae-curitiba/
LOCATION:Palácio Iguaçu\, Praça Nossa Senhora de Salette s/n - Centro Cívico\, Curitiba\, Paraná\, 80530-909\, Brasil
CATEGORIES:Corrida
END:VEVENT
BEGIN:VEVENT
DTSTART;VALUE=DATE:20230304
DTEND;VALUE=DATE:20230305
DTSTAMP:20260425T232305
CREATED:20230112T195833Z
LAST-MODIFIED:20230329T175947Z
UID:2778-1677888000-1677974399@visitcuritiba.tur.br
SUMMARY:Show | Daniel
DESCRIPTION:
URL:https://visitcuritiba.tur.br/calendario/show-daniel/
LOCATION:Teatro Positivo\, R. Prof. Pedro Viriato Parigot de Souza\, 5300\, Curitiba\, PR\, 81280-330\, Brasil
CATEGORIES:Show
END:VEVENT
BEGIN:VEVENT
DTSTART;VALUE=DATE:20230302
DTEND;VALUE=DATE:20230303
DTSTAMP:20260425T232305
CREATED:20230112T195736Z
LAST-MODIFIED:20230329T175928Z
UID:2776-1677715200-1677801599@visitcuritiba.tur.br
SUMMARY:Call The Police - The Police Greatest Hits
DESCRIPTION:A banda Call The Police\, formada por João Barone\, Rodrigo Santos e o ex-The Police Andy Summers\, se apresenta no palco do Teatro Guaíra no dia 2 de março. O repertório é recheado de hits atemporais como “Every Breath You Take”\, “Synchronicity II”\, “Message in a Bottle”\, “So Lonely”\, “Roxanne”\, “Every Little Thing She Does Is Magic”\, entre outras surpresas que o trio prepara para esta próxima turnê.
URL:https://visitcuritiba.tur.br/calendario/call-the-police-the-police-greatest-hits/
LOCATION:Teatro Guaíra\, R. XV de Novembro\, 971 - Centro\, Curitiba\, Paraná\, 80060-000\, Brasil
CATEGORIES:Show
END:VEVENT
BEGIN:VEVENT
DTSTART;VALUE=DATE:20230302
DTEND;VALUE=DATE:20230303
DTSTAMP:20260425T232305
CREATED:20230112T195630Z
LAST-MODIFIED:20230316T162150Z
UID:2774-1677715200-1677801599@visitcuritiba.tur.br
SUMMARY:Imagine Dragons
DESCRIPTION:A banda vencedora do GRAMMY® e multiplatinada Imagine Dragons anuncia datas remarcadas para sua Mercury World Tour na América Latina. A turnê\, que celebra o lançamento de seu tão aguardado álbum duplo\, Mercury — Acts 1 & 2 (KIDinaKORNER/Interscope)\, começará em São Paulo no dia 28 de fevereiro de 2023\, no Allianz Parque\, seguindo para Curitiba no dia 02 de março na Pedreira Paulo Leminski e dia 4 de março de 2023 no Rio de Janeiro\, na Área Externa da Jeunesse Arena\, com paradas também em Santiago\, Buenos Aires e Bogotá. A banda retornará à Cidade do México no dia 17 de maio. \nImagine Dragons abriu o caminho para seu novo álbum com o lançamento de uma série de singles recentes no topo das paradas. Até agora\, “Bones” reuniu mais de 331 milhões de streams até o momento e o videoclipe que o acompanha marcou mais de 31 milhões de visualizações no YouTube. A música também atingiu o Billboard Hot 100 e atraiu muitos elogios. Seu single anterior\, o sucesso global “Enemy”\, acumulou 4\,6 bilhões de streams combinados em duas versões (incluindo uma colaboração com o rapper J.I.D\, de East Atlanta\, indicado ao GRAMMY). “Enemy”\, que foi escolhido para a série animada da Riot Games “Arcane”\, foi o número 1 na Alternative Radio e o número 1 no Top 40 Radio.
URL:https://visitcuritiba.tur.br/calendario/imagine-dragons-2/
LOCATION:Pedreira Paulo Leminski\, R. João Gava\, 970 - Abranches\, Curitiba\, Paraná\, 82130-010
CATEGORIES:Show
ATTACH;FMTTYPE=image/png:https://visitcuritiba.tur.br/wp-content/uploads/2023/01/ID_LandingPage.png
END:VEVENT
BEGIN:VEVENT
DTSTART;TZID=UTC:20230219T110000
DTEND;TZID=UTC:20230219T180000
DTSTAMP:20260425T232305
CREATED:20230112T195005Z
LAST-MODIFIED:20230329T175843Z
UID:2771-1676804400-1676829600@visitcuritiba.tur.br
SUMMARY:Zombie Walk Curitiba 2023
DESCRIPTION:O evento\, que retorna após dois anos de suspensão por conta da pandemia\, acontecerá na Praça Osório\, das 11h às 18h. \nA versão de 2023 deve repetir o percurso que passa pela Rua XV\, Paço Municipal de Curitiba\, na praça Generoso Marques\, e termina na Praça Santos Andrade. Haverá barracas de maquiagem e shows de bandas locais\, além de apresentação de bailarinos com a música “Thriller”\, de Michael Jackson. A última edição\, em 2020\, contou com 20 mil pessoas.
URL:https://visitcuritiba.tur.br/calendario/zombie-walk-curitiba-2023/
LOCATION:Praça General Osório\, Praça Gen. Osório - Centro\, Curitiba\, Paraná\, 82590-300\, Brasil
CATEGORIES:Cultural
END:VEVENT
BEGIN:VEVENT
DTSTART;VALUE=DATE:20230204
DTEND;VALUE=DATE:20230205
DTSTAMP:20260425T232305
CREATED:20230112T190653Z
LAST-MODIFIED:20230316T161031Z
UID:2751-1675468800-1675555199@visitcuritiba.tur.br
SUMMARY:Carnavibe 2023
DESCRIPTION:Conhecido como o maior pré-carnaval eletrônico do Brasil\, o CarnaVibe já virou tradição\, reunindo alguns dos principais DJs do país e convidados para um dia de muita música e diversão. \n\n\n\n\nA 6ª edição do festival está confirmada para o dia 04 de fevereiro de 2023 no Expotrade.
URL:https://visitcuritiba.tur.br/calendario/carnavibe-2023/
LOCATION:Expotrade Convention Center\, Rodovia Deputado Leopoldo Jacomel\, 10454 - Vila Amelia\, Pinhais\, Paraná\, 83320-005\, Brasil
CATEGORIES:Festival musical
ATTACH;FMTTYPE=image/jpeg:https://visitcuritiba.tur.br/wp-content/uploads/2023/01/carnavibe-google-logo.jpg
END:VEVENT
BEGIN:VEVENT
DTSTART;VALUE=DATE:20230128
DTEND;VALUE=DATE:20230129
DTSTAMP:20260425T232305
CREATED:20230125T183418Z
LAST-MODIFIED:20230329T175745Z
UID:3351-1674864000-1674950399@visitcuritiba.tur.br
SUMMARY:Show | Tuyo
DESCRIPTION:Com o novo lançamento\, o grupo curitibano Tuyo se apresenta na capital no 28 de janeiro. O show do EP Depois da Festa\, que foi produzido pelo trio e lançado em novembro do ano passado\, acontece no Sesc da Esquina às 19h30. Os ingressos já estão disponíveis na bilheteria do local. \n  \n 
URL:https://visitcuritiba.tur.br/calendario/show-tuyo/
LOCATION:Sesc da Esquina\, R. Visc. do Rio Branco\, 969 - Mercês\, Curitiba\, Paraná\, 80410-001\, Brasil
CATEGORIES:Show
END:VEVENT
BEGIN:VEVENT
DTSTART;TZID=UTC:20230126T200000
DTEND;TZID=UTC:20230126T220000
DTSTAMP:20260425T232305
CREATED:20230125T165957Z
LAST-MODIFIED:20230329T175719Z
UID:3343-1674763200-1674770400@visitcuritiba.tur.br
SUMMARY:Show | Vanessa da Mata
DESCRIPTION:Nesse concerto\, a Orquestra À Base de Corda convida Vanessa da Mata\, uma das mais importantes cantoras/compositoras da Música Brasileira. No repertório alguns de seus maiores sucessos: “Boa Sorte”\, “Não me deixe só”\, “Amado”\, assim como algumas pequenas surpresas!  Os arranjos foram especialmente elaborados para esse concerto. Na abertura\, estreia da peça “Um abraço pra Waldir”\, escrita pela compositora Elodie Bouny em homenagem ao centenário de Waldir Azevedo\, o virtuoso cavaquinista e compositor de “Brasileirinho”. \nPara essa celebração\, a OABC une-se à Orquestra de Câmara da Cidade de Curitiba e mais cinco solistas de cavaquinho: Henrique Cazes\, Julião Boêmio\, Marcio Marinho\, Messias Britto e Nilze Carvalho. O espetáculo ainda conta com a participação especial de Maurício Pacheco (violão e guitarra). O concerto ainda conta com a regência de Natália Larangeira e direção artística de João Egashira. \nA 40ª Oficina de Música de Curitiba acontece de 25 de janeiro a 5 de fevereiro de 2023 e reune mais de 90 cursos ofertados\, divididos nas áreas de Música Antiga\, Erudita\, MPB e Música e Tecnologia\, que serão realizados na  Pontifícia Universidade Católica do Paraná – Campus Prado Velho.
URL:https://visitcuritiba.tur.br/calendario/show-vanessa-da-mata/
LOCATION:Teatro Guaíra\, R. XV de Novembro\, 971 - Centro\, Curitiba\, Paraná\, 80060-000\, Brasil
CATEGORIES:Show
END:VEVENT
BEGIN:VEVENT
DTSTART;VALUE=DATE:20230126
DTEND;VALUE=DATE:20230130
DTSTAMP:20260425T232305
CREATED:20230112T190158Z
LAST-MODIFIED:20230316T155919Z
UID:2745-1674691200-1675036799@visitcuritiba.tur.br
SUMMARY:11º Campeonato Mundial aberto de Capoeira Muzenza 2023
DESCRIPTION:Mais de 20.000 alunos já passaram pelo Grupo Muzenza de Curitiba e\, hoje\, o Grupo se faz presente em 26 estados brasileiros e em 47 países\, buscando sempre os fundamentos e as raízes da capoeira através de muita pesquisa. \nNão fique de fora\, venha beber a água da fonte\, local onde você poderá ter contato com a História VIVA da Muzenza!
URL:https://visitcuritiba.tur.br/calendario/11o-campeonato-mundial-aberto-de-capoeira-muzenda-2023/
LOCATION:Diversos Locais\, Curitiba\, Paraná\, Brasil
CATEGORIES:Campeonato
ATTACH;FMTTYPE=image/png:https://visitcuritiba.tur.br/wp-content/uploads/2023/01/slide2023-04titulo.png
END:VEVENT
BEGIN:VEVENT
DTSTART;VALUE=DATE:20230125
DTEND;VALUE=DATE:20230206
DTSTAMP:20260425T232305
CREATED:20230112T185829Z
LAST-MODIFIED:20230329T175644Z
UID:2740-1674604800-1675641599@visitcuritiba.tur.br
SUMMARY:40ª Oficina de Música de Curitiba
DESCRIPTION:O mês de janeiro em Curitiba é sinônimo de Oficina de Música. Desde 1983\, a cidade inicia o ano ao som dos acordes de um dos mais importantes encontros de música da América Latina. Em todos esses anos\, a Oficina realizou milhares de concertos\, multiplicou o número de cursos e alunos\, atraiu renomados professores e firmou-se como espaço para o desenvolvimento acadêmico e profissional de músicos brasileiros e estrangeiros.
URL:https://visitcuritiba.tur.br/calendario/40a-oficina-de-musica-de-curitiba/
LOCATION:Diversos Locais\, Curitiba\, Paraná\, Brasil
CATEGORIES:Cultural
END:VEVENT
BEGIN:VEVENT
DTSTART;VALUE=DATE:20230125
DTEND;VALUE=DATE:20230126
DTSTAMP:20260425T232305
CREATED:20230112T184840Z
LAST-MODIFIED:20230329T175613Z
UID:2732-1674604800-1674691199@visitcuritiba.tur.br
SUMMARY:Show | Backstreet Boys
DESCRIPTION:Por 29 anos\, os Backstreet Boys entregaram a melhor música pop que se pode oferecer\, tornando-os um dos artistas mais influentes do pop. Com inúmeros #1s\, turnês recordes\, diversos prêmios e vendas mundiais superiores a 130 milhões\, o BSB foi reconhecido como a boy band mais vendida da história. \nNo início de 2019\, o BSB lançou seu 10º álbum de estúdio indicado ao GRAMMY “DNA” pela RCA Records. O álbum estreou em primeiro lugar e apresenta o hit Top 10 “Don’t Go Breaking My Heart”. O single aclamado pela crítica e no topo das paradas\, foi indicado para o “Pop Duo / Group Performance” 2019 GRAMMY e foi o primeiro sucesso da banda na Billboard Hot 100 em 10 anos. Após seu lançamento\, o single foi direto para o primeiro lugar no iTunes Top Songs e nas paradas globais e alcançou mais de 22 países. \nEm maio de 2019\, os Backstreet Boys deram início à “The DNA World Tour” – a maior turnê de arena do grupo em 18 anos\, graças ao sucesso global de seu novo álbum nº 1. A DNA World Tour viu o grupo esgotar arenas em toda a América do Norte\, Europa\, Ásia e América do Sul. \nAo longo dos anos\, os Backstreet Boys cativaram continuamente milhões de pessoas com seu impressionante catálogo de canções de sucesso e parcerias criativas.
URL:https://visitcuritiba.tur.br/calendario/backstreet-boys/
LOCATION:Pedreira Paulo Leminski\, R. João Gava\, 970 - Abranches\, Curitiba\, Paraná\, 82130-010
CATEGORIES:Show
END:VEVENT
BEGIN:VEVENT
DTSTART;TZID=UTC:20230117T080000
DTEND;TZID=UTC:20230117T170000
DTSTAMP:20260425T232305
CREATED:20230117T170454Z
LAST-MODIFIED:20230329T175543Z
UID:2878-1673942400-1673974800@visitcuritiba.tur.br
SUMMARY:Meia Maratona Internacional de Curitiba
DESCRIPTION:
URL:https://visitcuritiba.tur.br/calendario/meia-maratona-internacional-de-curitiba/
LOCATION:Paraná
CATEGORIES:Corrida
END:VEVENT
BEGIN:VEVENT
DTSTART;TZID=UTC:20221210T000000
DTEND;TZID=UTC:20221210T000000
DTSTAMP:20260425T232305
CREATED:20221015T004758Z
LAST-MODIFIED:20230316T155135Z
UID:868-1670630400-1670630400@visitcuritiba.tur.br
SUMMARY:Show | Harry Styles
DESCRIPTION:
URL:https://visitcuritiba.tur.br/calendario/show-harry-styles/
LOCATION:Pedreira Paulo Leminski\, R. João Gava\, 970 - Abranches\, Curitiba\, Paraná\, 82130-010
CATEGORIES:Show
ATTACH;FMTTYPE=image/webp:https://visitcuritiba.tur.br/wp-content/uploads/2022/10/26f5cf417ab37318bf24bdd99435a599.webp
END:VEVENT
BEGIN:VEVENT
DTSTART;TZID=UTC:20221125T000000
DTEND;TZID=UTC:20221126T000000
DTSTAMP:20260425T232305
CREATED:20221015T004521Z
LAST-MODIFIED:20230316T154241Z
UID:866-1669334400-1669420800@visitcuritiba.tur.br
SUMMARY:Expo Saudável
DESCRIPTION:
URL:https://visitcuritiba.tur.br/calendario/expo-saudavel/
LOCATION:UP Expo\, R. Prof. Pedro Viriato Parigot de Souza\, 5300\, Curitiba\, Paraná\, 81280-330\, Brasil
CATEGORIES:Feira
ATTACH;FMTTYPE=image/png:https://visitcuritiba.tur.br/wp-content/uploads/2022/10/246467106_4690897544296119_3194213407878019494_n.png
ORGANIZER;CN="Alvo Eventos e SATWA Consultoria e Eventos":MAILTO:comercial@alvoeventos.com.br; comercial@alvoeventos.com.br
END:VEVENT
BEGIN:VEVENT
DTSTART;TZID=UTC:20221123T000000
DTEND;TZID=UTC:20221223T000000
DTSTAMP:20260425T232305
CREATED:20221015T004354Z
LAST-MODIFIED:20230329T175458Z
UID:870-1669161600-1671753600@visitcuritiba.tur.br
SUMMARY:Natal de Curitiba | Luz dos Pinhais 2022
DESCRIPTION:
URL:https://visitcuritiba.tur.br/calendario/luz-dos-pinhais-2022/
LOCATION:Paraná
CATEGORIES:Cultural
END:VEVENT
END:VCALENDAR