BEGIN:VCALENDAR
VERSION:2.0
PRODID:-//Curitiba e Região Convention &amp; Visitors Bureau- CCVB - ECPv6.15.20//NONSGML v1.0//EN
CALSCALE:GREGORIAN
METHOD:PUBLISH
X-ORIGINAL-URL:https://visitcuritiba.tur.br
X-WR-CALDESC:Eventos para Curitiba e Região Convention &amp; Visitors Bureau- CCVB
REFRESH-INTERVAL;VALUE=DURATION:PT1H
X-Robots-Tag:noindex
X-PUBLISHED-TTL:PT1H
BEGIN:VTIMEZONE
TZID:UTC
BEGIN:STANDARD
TZOFFSETFROM:+0000
TZOFFSETTO:+0000
TZNAME:UTC
DTSTART:20230101T000000
END:STANDARD
END:VTIMEZONE
BEGIN:VEVENT
DTSTART;VALUE=DATE:20240727
DTEND;VALUE=DATE:20240728
DTSTAMP:20260424T004606
CREATED:20240211T004536Z
LAST-MODIFIED:20240211T004536Z
UID:5040-1722038400-1722124799@visitcuritiba.tur.br
SUMMARY:Di Ferrero - Outra Dose Tour
DESCRIPTION:
URL:https://visitcuritiba.tur.br/calendario/di-ferrero-outra-dose-tour/
LOCATION:Ópera de Arame\, R. João Gava\, 920 - Abranches\, Curitiba\, Paraná\, 82130-010\, Brasil
CATEGORIES:Show
END:VEVENT
BEGIN:VEVENT
DTSTART;VALUE=DATE:20240725
DTEND;VALUE=DATE:20240728
DTSTAMP:20260424T004606
CREATED:20240211T004458Z
LAST-MODIFIED:20240211T004458Z
UID:5038-1721865600-1722124799@visitcuritiba.tur.br
SUMMARY:Comdev - Congresso Medvep Internacional de Especialidades Veterinárias 2024
DESCRIPTION:
URL:https://visitcuritiba.tur.br/calendario/comdev-congresso-medvep-internacional-de-especialidades-veterinarias-2024/
LOCATION:Jockey Club do Paraná\, Avenida Victor Ferreira do Amaral\, Praça Jóquei Pinheiro Filho\, 2299\, Curitiba\, PR\, : 82800-000\, Brazil
CATEGORIES:Congresso
END:VEVENT
BEGIN:VEVENT
DTSTART;VALUE=DATE:20240720
DTEND;VALUE=DATE:20240721
DTSTAMP:20260424T004606
CREATED:20240211T004353Z
LAST-MODIFIED:20240211T004353Z
UID:5036-1721433600-1721519999@visitcuritiba.tur.br
SUMMARY:Daniel 40 Anos - Celebra João Paulo & Daniel
DESCRIPTION:
URL:https://visitcuritiba.tur.br/calendario/daniel-40-anos-celebra-joao-paulo-daniel/
LOCATION:Teatro Positivo\, R. Prof. Pedro Viriato Parigot de Souza\, 5300\, Curitiba\, PR\, 81280-330\, Brasil
CATEGORIES:Show
END:VEVENT
BEGIN:VEVENT
DTSTART;VALUE=DATE:20240719
DTEND;VALUE=DATE:20240720
DTSTAMP:20260424T004606
CREATED:20240211T004305Z
LAST-MODIFIED:20240211T004305Z
UID:5034-1721347200-1721433599@visitcuritiba.tur.br
SUMMARY:Amazin Tenors In Concert
DESCRIPTION:
URL:https://visitcuritiba.tur.br/calendario/amazin-tenors-in-concert/
LOCATION:Teatro Positivo\, R. Prof. Pedro Viriato Parigot de Souza\, 5300\, Curitiba\, PR\, 81280-330\, Brasil
CATEGORIES:Show
END:VEVENT
BEGIN:VEVENT
DTSTART;VALUE=DATE:20240630
DTEND;VALUE=DATE:20240701
DTSTAMP:20260424T004606
CREATED:20240502T200423Z
LAST-MODIFIED:20240502T200423Z
UID:5481-1719705600-1719791999@visitcuritiba.tur.br
SUMMARY:7ª Marcha pela Diversidade de Curitiba
DESCRIPTION:
URL:https://visitcuritiba.tur.br/calendario/7a-marcha-pela-diversidade-de-curitiba/
LOCATION:Av. Cândido de Abreu\, Av. Cândido de Abreu - Centro Cívico\, Curitiba\, PR\, 82590-300\, Brasil
CATEGORIES:Cultural
END:VEVENT
BEGIN:VEVENT
DTSTART;VALUE=DATE:20240629
DTEND;VALUE=DATE:20240701
DTSTAMP:20260424T004606
CREATED:20240502T200311Z
LAST-MODIFIED:20240502T200311Z
UID:5479-1719619200-1719791999@visitcuritiba.tur.br
SUMMARY:Imin Matsuri - Festival da Imigração Japonesa de Curitiba
DESCRIPTION:
URL:https://visitcuritiba.tur.br/calendario/imin-matsuri-festival-da-imigracao-japonesa-de-curitiba/
LOCATION:Centro de Eventos Positivo – Barigui\, Alameda Ecologica Burle Marx\, 2518\, Curitiba\, Paraná\, 82305-100
CATEGORIES:Cultural
END:VEVENT
BEGIN:VEVENT
DTSTART;VALUE=DATE:20240629
DTEND;VALUE=DATE:20240630
DTSTAMP:20260424T004606
CREATED:20240502T200203Z
LAST-MODIFIED:20240502T200203Z
UID:5477-1719619200-1719705599@visitcuritiba.tur.br
SUMMARY:Embalos de Sábado à Noite - O Musical
DESCRIPTION:
URL:https://visitcuritiba.tur.br/calendario/embalos-de-sabado-a-noite-o-musical/
LOCATION:Teatro Positivo\, R. Prof. Pedro Viriato Parigot de Souza\, 5300\, Curitiba\, PR\, 81280-330\, Brasil
CATEGORIES:Cultural,Teatro
END:VEVENT
BEGIN:VEVENT
DTSTART;TZID=UTC:20240628T080000
DTEND;TZID=UTC:20240630T170000
DTSTAMP:20260424T004606
CREATED:20240502T200015Z
LAST-MODIFIED:20240502T200015Z
UID:5475-1719561600-1719766800@visitcuritiba.tur.br
SUMMARY:27º Congresso Brasileiro de Psicoterapias Corporais
DESCRIPTION:
URL:https://visitcuritiba.tur.br/calendario/27o-congresso-brasileiro-de-psicoterapias-corporais/
LOCATION:Nacional Inn Curitiba Santa Felicidade\, Av. Manoel Ribas\, 5480 - Santa Felicidade\, Curitiba\, PR\, 82020-000\, Brasil
CATEGORIES:Congresso
END:VEVENT
BEGIN:VEVENT
DTSTART;VALUE=DATE:20240628
DTEND;VALUE=DATE:20240629
DTSTAMP:20260424T004606
CREATED:20240502T195719Z
LAST-MODIFIED:20240502T195719Z
UID:5468-1719532800-1719619199@visitcuritiba.tur.br
SUMMARY:Samba 90 Graus
DESCRIPTION:
URL:https://visitcuritiba.tur.br/calendario/samba-90-graus/
LOCATION:Teatro Positivo\, R. Prof. Pedro Viriato Parigot de Souza\, 5300\, Curitiba\, PR\, 81280-330\, Brasil
CATEGORIES:Show
END:VEVENT
BEGIN:VEVENT
DTSTART;TZID=UTC:20240627T080000
DTEND;TZID=UTC:20240630T170000
DTSTAMP:20260424T004606
CREATED:20240502T195946Z
LAST-MODIFIED:20240502T195946Z
UID:5473-1719475200-1719766800@visitcuritiba.tur.br
SUMMARY:Festival de Inverno do Centro Histórico
DESCRIPTION:
URL:https://visitcuritiba.tur.br/calendario/festival-de-inverno-do-centro-historico/
LOCATION:Diversos Locais\, Curitiba\, Paraná\, Brasil
CATEGORIES:Cultural,Gastronomia
END:VEVENT
BEGIN:VEVENT
DTSTART;TZID=UTC:20240627T080000
DTEND;TZID=UTC:20240629T170000
DTSTAMP:20260424T004606
CREATED:20240502T195903Z
LAST-MODIFIED:20240502T195903Z
UID:5470-1719475200-1719680400@visitcuritiba.tur.br
SUMMARY:IDD SUMMIT 15 ANOS
DESCRIPTION:
URL:https://visitcuritiba.tur.br/calendario/idd-summit-15-anos/
LOCATION:Salão de Eventos do Instituto de Engenharia do Paraná\, Rua Emiliano Perneta\, 174 - Centro\, Centro\, PR\, 80010-050\, Brasil
CATEGORIES:Conferência
END:VEVENT
BEGIN:VEVENT
DTSTART;VALUE=DATE:20240627
DTEND;VALUE=DATE:20240630
DTSTAMP:20260424T004606
CREATED:20240211T004122Z
LAST-MODIFIED:20240211T004122Z
UID:5030-1719446400-1719705599@visitcuritiba.tur.br
SUMMARY:XXV Congresso da Sociedade Brasileira de Uveítes e Inflamações Intraoculares
DESCRIPTION:
URL:https://visitcuritiba.tur.br/calendario/xxv-congresso-da-sociedade-brasileira-de-uveites-e-inflamacoes-intraoculares/
LOCATION:Bourbon Curitiba Hotel & Suites\, Av\, R. Cândido Lopes\, 102 - Centro\, Curitiba\, PR\, 80020-060\, Brasil
CATEGORIES:Congresso
END:VEVENT
BEGIN:VEVENT
DTSTART;VALUE=DATE:20240626
DTEND;VALUE=DATE:20240627
DTSTAMP:20260424T004606
CREATED:20240502T195629Z
LAST-MODIFIED:20240502T195629Z
UID:5466-1719360000-1719446399@visitcuritiba.tur.br
SUMMARY:Depeche Mode Experience
DESCRIPTION:
URL:https://visitcuritiba.tur.br/calendario/depeche-mode-experience/
LOCATION:Teatro UP Experience\, Bloco da Reitoria - R. Prof. Pedro Viriato Parigot de Souza\, 5.300 - 2º andar - Ecoville\, Curitiba\, Paraná\, 81280-330\, Brasil
CATEGORIES:Show
END:VEVENT
BEGIN:VEVENT
DTSTART;VALUE=DATE:20240623
DTEND;VALUE=DATE:20240624
DTSTAMP:20260424T004606
CREATED:20240502T195438Z
LAST-MODIFIED:20240502T195503Z
UID:5464-1719100800-1719187199@visitcuritiba.tur.br
SUMMARY:Festival Best of Blues and Rock
DESCRIPTION:
URL:https://visitcuritiba.tur.br/calendario/festival-best-of-blues-and-rock/
LOCATION:Live Curitiba\, Rua Itajubá\, 143\, Curitiba\, Paraná\, 81050-040\, Brasil
CATEGORIES:Festival musical
END:VEVENT
BEGIN:VEVENT
DTSTART;VALUE=DATE:20240623
DTEND;VALUE=DATE:20240624
DTSTAMP:20260424T004606
CREATED:20240502T190454Z
LAST-MODIFIED:20240502T190454Z
UID:5446-1719100800-1719187199@visitcuritiba.tur.br
SUMMARY:Corrida da Polícia Científica
DESCRIPTION:
URL:https://visitcuritiba.tur.br/calendario/corrida-da-policia-cientifica/
LOCATION:Praça Afonso Botelho\, Rua Engenheiros Rebouças\, 3020 - Água Verde\, Curitiba\, PR\, 80250-040\, Brasil
CATEGORIES:Esportivo
END:VEVENT
BEGIN:VEVENT
DTSTART;TZID=UTC:20240622T080000
DTEND;TZID=UTC:20240622T170000
DTSTAMP:20260424T004606
CREATED:20240502T195221Z
LAST-MODIFIED:20240502T195221Z
UID:5462-1719043200-1719075600@visitcuritiba.tur.br
SUMMARY:Jorge Vercillo
DESCRIPTION:
URL:https://visitcuritiba.tur.br/calendario/jorge-vercillo/
LOCATION:Live Curitiba\, Rua Itajubá\, 143\, Curitiba\, Paraná\, 81050-040\, Brasil
CATEGORIES:Show
END:VEVENT
BEGIN:VEVENT
DTSTART;VALUE=DATE:20240622
DTEND;VALUE=DATE:20240623
DTSTAMP:20260424T004606
CREATED:20240211T004009Z
LAST-MODIFIED:20240211T004009Z
UID:5028-1719014400-1719100799@visitcuritiba.tur.br
SUMMARY:Emicida - "AmarElo"
DESCRIPTION:
URL:https://visitcuritiba.tur.br/calendario/emicida-amarelo/
LOCATION:Live Curitiba\, Rua Itajubá\, 143\, Curitiba\, Paraná\, 81050-040\, Brasil
CATEGORIES:Show
END:VEVENT
BEGIN:VEVENT
DTSTART;VALUE=DATE:20240622
DTEND;VALUE=DATE:20240623
DTSTAMP:20260424T004606
CREATED:20240211T003904Z
LAST-MODIFIED:20240211T003904Z
UID:5026-1719014400-1719100799@visitcuritiba.tur.br
SUMMARY:Daniel Boaventura - Tour Best Part of The Show
DESCRIPTION:
URL:https://visitcuritiba.tur.br/calendario/daniel-boaventura-tour-best-part-of-the-show/
LOCATION:Teatro Positivo\, R. Prof. Pedro Viriato Parigot de Souza\, 5300\, Curitiba\, PR\, 81280-330\, Brasil
CATEGORIES:Show
END:VEVENT
BEGIN:VEVENT
DTSTART;VALUE=DATE:20240619
DTEND;VALUE=DATE:20240623
DTSTAMP:20260424T004606
CREATED:20240502T193934Z
LAST-MODIFIED:20240502T193934Z
UID:5460-1718755200-1719100799@visitcuritiba.tur.br
SUMMARY:CWB Summit 2024
DESCRIPTION:
URL:https://visitcuritiba.tur.br/calendario/cwb-summit-2024/
LOCATION:Jockey Club do Paraná\, Avenida Victor Ferreira do Amaral\, Praça Jóquei Pinheiro Filho\, 2299\, Curitiba\, PR\, : 82800-000\, Brazil
END:VEVENT
BEGIN:VEVENT
DTSTART;VALUE=DATE:20240619
DTEND;VALUE=DATE:20240622
DTSTAMP:20260424T004606
CREATED:20240211T003725Z
LAST-MODIFIED:20240211T003725Z
UID:5024-1718755200-1719014399@visitcuritiba.tur.br
SUMMARY:Viasoft Connect
DESCRIPTION:
URL:https://visitcuritiba.tur.br/calendario/viasoft-connect-2/
LOCATION:Jockey Club do Paraná\, Avenida Victor Ferreira do Amaral\, Praça Jóquei Pinheiro Filho\, 2299\, Curitiba\, PR\, : 82800-000\, Brazil
CATEGORIES:Networking
END:VEVENT
BEGIN:VEVENT
DTSTART;VALUE=DATE:20240618
DTEND;VALUE=DATE:20240623
DTSTAMP:20260424T004606
CREATED:20240502T193642Z
LAST-MODIFIED:20240502T193642Z
UID:5457-1718668800-1719100799@visitcuritiba.tur.br
SUMMARY:47º Congresso da Associação de Zoológicos e Aquários do Brasil
DESCRIPTION:
URL:https://visitcuritiba.tur.br/calendario/47o-congresso-da-associacao-de-zoologicos-e-aquarios-do-brasil/
LOCATION:Salão de Atos do Parque Barigui\, Alameda Ecologica Burle Marx\, S/N - Santo Inácio\, Curitiba\, PR\, 82010-715\, Brasil
CATEGORIES:Congresso
END:VEVENT
BEGIN:VEVENT
DTSTART;VALUE=DATE:20240616
DTEND;VALUE=DATE:20240617
DTSTAMP:20260424T004606
CREATED:20240502T193452Z
LAST-MODIFIED:20240502T193452Z
UID:5455-1718496000-1718582399@visitcuritiba.tur.br
SUMMARY:Soweto
DESCRIPTION:
URL:https://visitcuritiba.tur.br/calendario/soweto/
LOCATION:Expotrade Convention Center\, Rodovia Deputado Leopoldo Jacomel\, 10454 - Vila Amelia\, Pinhais\, Paraná\, 83320-005\, Brasil
CATEGORIES:Show
END:VEVENT
BEGIN:VEVENT
DTSTART;VALUE=DATE:20240615
DTEND;VALUE=DATE:20240616
DTSTAMP:20260424T004606
CREATED:20240502T192941Z
LAST-MODIFIED:20240502T192941Z
UID:5453-1718409600-1718495999@visitcuritiba.tur.br
SUMMARY:CPM 22
DESCRIPTION:
URL:https://visitcuritiba.tur.br/calendario/cpm-22/
LOCATION:Live Curitiba\, Rua Itajubá\, 143\, Curitiba\, Paraná\, 81050-040\, Brasil
CATEGORIES:Show
END:VEVENT
BEGIN:VEVENT
DTSTART;VALUE=DATE:20240615
DTEND;VALUE=DATE:20240616
DTSTAMP:20260424T004606
CREATED:20240502T191501Z
LAST-MODIFIED:20240502T191501Z
UID:5451-1718409600-1718495999@visitcuritiba.tur.br
SUMMARY:Bee Gees Alive
DESCRIPTION:
URL:https://visitcuritiba.tur.br/calendario/bee-gees-alive/
LOCATION:Teatro Positivo\, R. Prof. Pedro Viriato Parigot de Souza\, 5300\, Curitiba\, PR\, 81280-330\, Brasil
CATEGORIES:Show
END:VEVENT
BEGIN:VEVENT
DTSTART;VALUE=DATE:20240615
DTEND;VALUE=DATE:20240616
DTSTAMP:20260424T004606
CREATED:20240502T190545Z
LAST-MODIFIED:20240502T190545Z
UID:5449-1718409600-1718495999@visitcuritiba.tur.br
SUMMARY:Humberto Gessinger
DESCRIPTION:
URL:https://visitcuritiba.tur.br/calendario/humberto-gessinger/
LOCATION:Teatro Guaíra\, R. XV de Novembro\, 971 - Centro\, Curitiba\, Paraná\, 80060-000\, Brasil
CATEGORIES:Show
END:VEVENT
BEGIN:VEVENT
DTSTART;VALUE=DATE:20240614
DTEND;VALUE=DATE:20240624
DTSTAMP:20260424T004606
CREATED:20240211T003643Z
LAST-MODIFIED:20240211T003643Z
UID:5022-1718323200-1719187199@visitcuritiba.tur.br
SUMMARY:Feira de Malhas\, Fios e Couros
DESCRIPTION:
URL:https://visitcuritiba.tur.br/calendario/feira-de-malhas-fios-e-couros/
LOCATION:Centro de Eventos Positivo – Barigui\, Alameda Ecologica Burle Marx\, 2518\, Curitiba\, Paraná\, 82305-100
CATEGORIES:Feira
END:VEVENT
BEGIN:VEVENT
DTSTART;VALUE=DATE:20240614
DTEND;VALUE=DATE:20240624
DTSTAMP:20260424T004606
CREATED:20240211T003517Z
LAST-MODIFIED:20240211T003517Z
UID:5020-1718323200-1719187199@visitcuritiba.tur.br
SUMMARY:Connect Week
DESCRIPTION:
URL:https://visitcuritiba.tur.br/calendario/connect-week/
LOCATION:Diversos Locais\, Curitiba\, Paraná\, Brasil
CATEGORIES:Networking
END:VEVENT
BEGIN:VEVENT
DTSTART;VALUE=DATE:20240614
DTEND;VALUE=DATE:20240616
DTSTAMP:20260424T004606
CREATED:20240211T003418Z
LAST-MODIFIED:20240607T134049Z
UID:5018-1718323200-1718495999@visitcuritiba.tur.br
SUMMARY:Glaucoma Summit 2024
DESCRIPTION:O Glaucoma Summit  acontecerá na cidade de Curitiba\, nos dias 14 e 15 de junho de 2024. \nReunindo especialistas de todo o país\, esse evento imersivo proporcionará excelente oportunidade para troca de conhecimento e experiências sobre as mais recentes abordagens no tratamento do glaucoma. Primando pelo ineditismo\, realizaremos em paralelo o I Fórum científico de Cirurgia Micro Invasiva do Glaucoma (MIGS).
URL:https://visitcuritiba.tur.br/calendario/congresso-brasileiro-de-glaucoma/
LOCATION:Jockey Club do Paraná\, Avenida Victor Ferreira do Amaral\, Praça Jóquei Pinheiro Filho\, 2299\, Curitiba\, PR\, : 82800-000\, Brazil
CATEGORIES:Congresso
ATTACH;FMTTYPE=image/jpeg:https://visitcuritiba.tur.br/wp-content/uploads/2024/02/CARROSSEL-CLUBE-2.jpg
END:VEVENT
BEGIN:VEVENT
DTSTART;VALUE=DATE:20240613
DTEND;VALUE=DATE:20240614
DTSTAMP:20260424T004606
CREATED:20240502T185259Z
LAST-MODIFIED:20240502T185259Z
UID:5443-1718236800-1718323199@visitcuritiba.tur.br
SUMMARY:Boyce Avenue
DESCRIPTION:
URL:https://visitcuritiba.tur.br/calendario/boyce-avenue/
LOCATION:Teatro Positivo\, R. Prof. Pedro Viriato Parigot de Souza\, 5300\, Curitiba\, PR\, 81280-330\, Brasil
CATEGORIES:Show
END:VEVENT
BEGIN:VEVENT
DTSTART;VALUE=DATE:20240613
DTEND;VALUE=DATE:20240614
DTSTAMP:20260424T004606
CREATED:20240502T184544Z
LAST-MODIFIED:20240502T184544Z
UID:5441-1718236800-1718323199@visitcuritiba.tur.br
SUMMARY:Pabllo Vittar - “Batidão Tropical Vol. 2”
DESCRIPTION:
URL:https://visitcuritiba.tur.br/calendario/pabllo-vittar-batidao-tropical-vol-2/
LOCATION:Live Curitiba\, Rua Itajubá\, 143\, Curitiba\, Paraná\, 81050-040\, Brasil
CATEGORIES:Show
END:VEVENT
END:VCALENDAR