BEGIN:VCALENDAR
VERSION:2.0
PRODID:-//Curitiba e Região Convention &amp; Visitors Bureau- CCVB - ECPv6.15.20//NONSGML v1.0//EN
CALSCALE:GREGORIAN
METHOD:PUBLISH
X-WR-CALNAME:Curitiba e Região Convention &amp; Visitors Bureau- CCVB
X-ORIGINAL-URL:https://visitcuritiba.tur.br
X-WR-CALDESC:Eventos para Curitiba e Região Convention &amp; Visitors Bureau- CCVB
REFRESH-INTERVAL;VALUE=DURATION:PT1H
X-Robots-Tag:noindex
X-PUBLISHED-TTL:PT1H
BEGIN:VTIMEZONE
TZID:UTC
BEGIN:STANDARD
TZOFFSETFROM:+0000
TZOFFSETTO:+0000
TZNAME:UTC
DTSTART:20230101T000000
END:STANDARD
END:VTIMEZONE
BEGIN:VEVENT
DTSTART;VALUE=DATE:20240607
DTEND;VALUE=DATE:20240608
DTSTAMP:20260424T052351
CREATED:20240211T002827Z
LAST-MODIFIED:20240211T002827Z
UID:5008-1717718400-1717804799@visitcuritiba.tur.br
SUMMARY:Richard Clayderman
DESCRIPTION:
URL:https://visitcuritiba.tur.br/calendario/richard-clayderman/
LOCATION:Teatro Guaíra\, R. XV de Novembro\, 971 - Centro\, Curitiba\, Paraná\, 80060-000\, Brasil
CATEGORIES:Show
END:VEVENT
BEGIN:VEVENT
DTSTART;VALUE=DATE:20240606
DTEND;VALUE=DATE:20240607
DTSTAMP:20260424T052351
CREATED:20240211T002752Z
LAST-MODIFIED:20240211T002752Z
UID:5006-1717632000-1717718399@visitcuritiba.tur.br
SUMMARY:Roupa Nova
DESCRIPTION:
URL:https://visitcuritiba.tur.br/calendario/roupa-nova/
LOCATION:Teatro Positivo\, R. Prof. Pedro Viriato Parigot de Souza\, 5300\, Curitiba\, PR\, 81280-330\, Brasil
CATEGORIES:Show
END:VEVENT
BEGIN:VEVENT
DTSTART;VALUE=DATE:20240605
DTEND;VALUE=DATE:20240721
DTSTAMP:20260424T052351
CREATED:20240502T181009Z
LAST-MODIFIED:20240502T181009Z
UID:5428-1717545600-1721519999@visitcuritiba.tur.br
SUMMARY:Feira Especial de Inverno
DESCRIPTION:
URL:https://visitcuritiba.tur.br/calendario/feira-especial-de-inverno-2/
LOCATION:Praça General Osório\, Praça Gen. Osório - Centro\, Curitiba\, Paraná\, 82590-300\, Brasil
CATEGORIES:Feira
END:VEVENT
BEGIN:VEVENT
DTSTART;VALUE=DATE:20240605
DTEND;VALUE=DATE:20240708
DTSTAMP:20260424T052351
CREATED:20240502T181732Z
LAST-MODIFIED:20240502T181755Z
UID:5430-1717545600-1720396799@visitcuritiba.tur.br
SUMMARY:V Congresso Internacional Um Novo Tempo na Educação
DESCRIPTION:
URL:https://visitcuritiba.tur.br/calendario/v-congresso-internacional-um-novo-tempo-na-educacao/
LOCATION:Shopping Novo Batel\, R. Cel. Dulcídio\, 517\, Curitiba\, PR\, 80420-170\, Brasil
CATEGORIES:Congresso
END:VEVENT
BEGIN:VEVENT
DTSTART;VALUE=DATE:20240605
DTEND;VALUE=DATE:20240609
DTSTAMP:20260424T052351
CREATED:20240211T002631Z
LAST-MODIFIED:20240211T002631Z
UID:5004-1717545600-1717891199@visitcuritiba.tur.br
SUMMARY:40º Congresso da Liga Brasileira de Epilepsia
DESCRIPTION:
URL:https://visitcuritiba.tur.br/calendario/40o-congresso-da-liga-brasileira-de-epilepsia/
LOCATION:Jockey Club do Paraná\, Avenida Victor Ferreira do Amaral\, Praça Jóquei Pinheiro Filho\, 2299\, Curitiba\, PR\, : 82800-000\, Brazil
CATEGORIES:Congresso
END:VEVENT
BEGIN:VEVENT
DTSTART;VALUE=DATE:20240604
DTEND;VALUE=DATE:20240729
DTSTAMP:20260424T052351
CREATED:20240502T175644Z
LAST-MODIFIED:20240502T175644Z
UID:5424-1717459200-1722211199@visitcuritiba.tur.br
SUMMARY:CASACOR Paraná 2024
DESCRIPTION:
URL:https://visitcuritiba.tur.br/calendario/casacor-parana-2024/
LOCATION:CASACOR\, Rua Bispo Dom José\, Curitiba\, PR\, 80440-080\, Brasil
CATEGORIES:Cultural
END:VEVENT
BEGIN:VEVENT
DTSTART;VALUE=DATE:20240531
DTEND;VALUE=DATE:20240602
DTSTAMP:20260424T052351
CREATED:20240502T171936Z
LAST-MODIFIED:20240502T171936Z
UID:5422-1717113600-1717286399@visitcuritiba.tur.br
SUMMARY:Lagum
DESCRIPTION:
URL:https://visitcuritiba.tur.br/calendario/lagum/
LOCATION:Ópera de Arame\, R. João Gava\, 920 - Abranches\, Curitiba\, Paraná\, 82130-010\, Brasil
CATEGORIES:Show
END:VEVENT
BEGIN:VEVENT
DTSTART;VALUE=DATE:20240530
DTEND;VALUE=DATE:20240603
DTSTAMP:20260424T052351
CREATED:20240211T002354Z
LAST-MODIFIED:20240211T002354Z
UID:4998-1717027200-1717372799@visitcuritiba.tur.br
SUMMARY:34º Congresso Brasileiro de Cirurgia Dermatológica
DESCRIPTION:
URL:https://visitcuritiba.tur.br/calendario/34o-congresso-brasileiro-de-cirurgia-dermatologica/
LOCATION:Jockey Club do Paraná\, Avenida Victor Ferreira do Amaral\, Praça Jóquei Pinheiro Filho\, 2299\, Curitiba\, PR\, : 82800-000\, Brazil
CATEGORIES:Congresso
END:VEVENT
BEGIN:VEVENT
DTSTART;VALUE=DATE:20240530
DTEND;VALUE=DATE:20240602
DTSTAMP:20260424T052351
CREATED:20240211T001851Z
LAST-MODIFIED:20240211T001851Z
UID:4993-1717027200-1717286399@visitcuritiba.tur.br
SUMMARY:XV Simpósio Nacional de Direito Constitucional
DESCRIPTION:
URL:https://visitcuritiba.tur.br/calendario/xv-simposio-nacional-de-direito-constitucional/
LOCATION:Teatro Guaíra\, R. XV de Novembro\, 971 - Centro\, Curitiba\, Paraná\, 80060-000\, Brasil
CATEGORIES:Simpósio
END:VEVENT
BEGIN:VEVENT
DTSTART;VALUE=DATE:20240529
DTEND;VALUE=DATE:20240531
DTSTAMP:20260424T052351
CREATED:20240211T001710Z
LAST-MODIFIED:20240211T001710Z
UID:4991-1716940800-1717113599@visitcuritiba.tur.br
SUMMARY:CIBIO - Congresso Internacional de Biomassa
DESCRIPTION:
URL:https://visitcuritiba.tur.br/calendario/cibio-congresso-internacional-de-biomassa/
LOCATION:Centro de Eventos FIEP\, Av. Com. Franco\, 1341 - Jardim Botânico\, Curitiba\, Paraná\, 80215-090
CATEGORIES:Congresso
END:VEVENT
BEGIN:VEVENT
DTSTART;VALUE=DATE:20240527
DTEND;VALUE=DATE:20240530
DTSTAMP:20260424T052351
CREATED:20240211T001351Z
LAST-MODIFIED:20240211T001351Z
UID:4989-1716768000-1717027199@visitcuritiba.tur.br
SUMMARY:7º Congresso Internacional de Arquitetura da Paisagem
DESCRIPTION:
URL:https://visitcuritiba.tur.br/calendario/7o-congresso-internacional-de-arquitetura-da-paisagem/
LOCATION:Auditório do Instituto de Engenharia do Paraná\, Rua Emiliano Perneta\, 174 - Centro\, Curitiba\, PR\, 80010-050\, Brasil
CATEGORIES:Congresso
END:VEVENT
BEGIN:VEVENT
DTSTART;VALUE=DATE:20240525
DTEND;VALUE=DATE:20240527
DTSTAMP:20260424T052351
CREATED:20240211T001128Z
LAST-MODIFIED:20240211T001128Z
UID:4987-1716595200-1716767999@visitcuritiba.tur.br
SUMMARY:Curitiba Country Festival
DESCRIPTION:
URL:https://visitcuritiba.tur.br/calendario/curitiba-country-festival/
LOCATION:Expotrade Convention Center\, Rodovia Deputado Leopoldo Jacomel\, 10454 - Vila Amelia\, Pinhais\, Paraná\, 83320-005\, Brasil
CATEGORIES:Festival musical
END:VEVENT
BEGIN:VEVENT
DTSTART;VALUE=DATE:20240524
DTEND;VALUE=DATE:20240525
DTSTAMP:20260424T052351
CREATED:20240211T001017Z
LAST-MODIFIED:20240211T001017Z
UID:4985-1716508800-1716595199@visitcuritiba.tur.br
SUMMARY:Improvável - Barbixas
DESCRIPTION:
URL:https://visitcuritiba.tur.br/calendario/improvavel-barbixas/
LOCATION:Teatro UP Experience\, Bloco da Reitoria - R. Prof. Pedro Viriato Parigot de Souza\, 5.300 - 2º andar - Ecoville\, Curitiba\, Paraná\, 81280-330\, Brasil
CATEGORIES:Cultural
END:VEVENT
BEGIN:VEVENT
DTSTART;VALUE=DATE:20240521
DTEND;VALUE=DATE:20240525
DTSTAMP:20260424T052351
CREATED:20240211T000932Z
LAST-MODIFIED:20240211T000932Z
UID:4983-1716249600-1716595199@visitcuritiba.tur.br
SUMMARY:17º Congresso Internacional das Cidades Educadoras
DESCRIPTION:
URL:https://visitcuritiba.tur.br/calendario/17o-congresso-internacional-das-cidades-educadoras/
LOCATION:Centro de Eventos Positivo – Barigui\, Alameda Ecologica Burle Marx\, 2518\, Curitiba\, Paraná\, 82305-100
CATEGORIES:Congresso
END:VEVENT
BEGIN:VEVENT
DTSTART;VALUE=DATE:20240521
DTEND;VALUE=DATE:20240525
DTSTAMP:20260424T052351
CREATED:20240211T000707Z
LAST-MODIFIED:20240211T000707Z
UID:4979-1716249600-1716595199@visitcuritiba.tur.br
SUMMARY:FIB - Fórum da Internet no Brasil 2024
DESCRIPTION:
URL:https://visitcuritiba.tur.br/calendario/fib-forum-da-internet-no-brasil-2024/
LOCATION:Centro de Eventos FIEP\, Av. Com. Franco\, 1341 - Jardim Botânico\, Curitiba\, Paraná\, 80215-090
CATEGORIES:Fórum
END:VEVENT
BEGIN:VEVENT
DTSTART;VALUE=DATE:20240520
DTEND;VALUE=DATE:20240528
DTSTAMP:20260424T052351
CREATED:20240502T171441Z
LAST-MODIFIED:20240502T171441Z
UID:5419-1716163200-1716854399@visitcuritiba.tur.br
SUMMARY:Jogos FENACEF
DESCRIPTION:
URL:https://visitcuritiba.tur.br/calendario/jogos-fenacef/
LOCATION:Santa Mônica Clube de Campo\, 5000\, Rod. Régis Bittencourt\, Km 6 Bairro - Mauá\, Colombo\, PR\, 83413-663\, Brasil
CATEGORIES:Esportivo
END:VEVENT
BEGIN:VEVENT
DTSTART;VALUE=DATE:20240520
DTEND;VALUE=DATE:20240522
DTSTAMP:20260424T052351
CREATED:20240211T000755Z
LAST-MODIFIED:20240211T000755Z
UID:4981-1716163200-1716335999@visitcuritiba.tur.br
SUMMARY:Revolution Curitiba
DESCRIPTION:
URL:https://visitcuritiba.tur.br/calendario/revolution-curitiba/
LOCATION:Piu José Eventos\, R. Virgínia Dalabona\, 700 - Salão 2 - Orleans\, Curitiba\, Paraná\, 82310-390\, Brasil
END:VEVENT
BEGIN:VEVENT
DTSTART;VALUE=DATE:20240519
DTEND;VALUE=DATE:20240520
DTSTAMP:20260424T052351
CREATED:20240502T171144Z
LAST-MODIFIED:20240502T171144Z
UID:5417-1716076800-1716163199@visitcuritiba.tur.br
SUMMARY:Beatles para Crianças
DESCRIPTION:
URL:https://visitcuritiba.tur.br/calendario/beatles-para-criancas-2/
LOCATION:Teatro UP Experience\, Bloco da Reitoria - R. Prof. Pedro Viriato Parigot de Souza\, 5.300 - 2º andar - Ecoville\, Curitiba\, Paraná\, 81280-330\, Brasil
CATEGORIES:Show
END:VEVENT
BEGIN:VEVENT
DTSTART;VALUE=DATE:20240519
DTEND;VALUE=DATE:20240520
DTSTAMP:20260424T052351
CREATED:20240502T165912Z
LAST-MODIFIED:20240502T165912Z
UID:5414-1716076800-1716163199@visitcuritiba.tur.br
SUMMARY:Dilsinho\, Vitinho e MC Daniel
DESCRIPTION:
URL:https://visitcuritiba.tur.br/calendario/dilsinho-vitinho-e-mc-daniel/
LOCATION:Estádio Durival Britto e Silva\, Rua Engenheiros Rebouças\, 1100\, Curitiba\, PR\, 80215-100\, Brasil
CATEGORIES:Show
END:VEVENT
BEGIN:VEVENT
DTSTART;VALUE=DATE:20240518
DTEND;VALUE=DATE:20240527
DTSTAMP:20260424T052351
CREATED:20240502T164505Z
LAST-MODIFIED:20240502T164505Z
UID:5412-1715990400-1716767999@visitcuritiba.tur.br
SUMMARY:Jogos de Aventura e Natureza
DESCRIPTION:
URL:https://visitcuritiba.tur.br/calendario/jogos-de-aventura-e-natureza/
LOCATION:Diversos Locais\, Curitiba\, Paraná\, Brasil
CATEGORIES:Esportivo
END:VEVENT
BEGIN:VEVENT
DTSTART;VALUE=DATE:20240518
DTEND;VALUE=DATE:20240520
DTSTAMP:20260424T052351
CREATED:20240502T164406Z
LAST-MODIFIED:20240502T164406Z
UID:5410-1715990400-1716163199@visitcuritiba.tur.br
SUMMARY:Shinobi Spirit - Festival de Cultura Pop
DESCRIPTION:
URL:https://visitcuritiba.tur.br/calendario/shinobi-spirit-festival-de-cultura-pop/
LOCATION:Torres Kennedy\, Av. Pres. Kennedy\, 2377\, Guaíra\, PR\, 80610-010\, Brasil
CATEGORIES:Cultural
END:VEVENT
BEGIN:VEVENT
DTSTART;VALUE=DATE:20240518
DTEND;VALUE=DATE:20240520
DTSTAMP:20260424T052351
CREATED:20240211T000505Z
LAST-MODIFIED:20240211T000505Z
UID:4977-1715990400-1716163199@visitcuritiba.tur.br
SUMMARY:Espetáculo Illusion Show com Henry e Klauss
DESCRIPTION:
URL:https://visitcuritiba.tur.br/calendario/espetaculo-illusion-show-com-henry-e-klauss/
LOCATION:Teatro Positivo\, R. Prof. Pedro Viriato Parigot de Souza\, 5300\, Curitiba\, PR\, 81280-330\, Brasil
END:VEVENT
BEGIN:VEVENT
DTSTART;VALUE=DATE:20240518
DTEND;VALUE=DATE:20240519
DTSTAMP:20260424T052351
CREATED:20240502T164312Z
LAST-MODIFIED:20240502T164312Z
UID:5408-1715990400-1716076799@visitcuritiba.tur.br
SUMMARY:Arnaldo Antunes e Vitor Araújo
DESCRIPTION:
URL:https://visitcuritiba.tur.br/calendario/arnaldo-antunes-e-vitor-araujo/
LOCATION:Teatro Guaíra\, R. XV de Novembro\, 971 - Centro\, Curitiba\, Paraná\, 80060-000\, Brasil
CATEGORIES:Show
END:VEVENT
BEGIN:VEVENT
DTSTART;VALUE=DATE:20240518
DTEND;VALUE=DATE:20240519
DTSTAMP:20260424T052351
CREATED:20240210T230044Z
LAST-MODIFIED:20240210T230044Z
UID:4975-1715990400-1716076799@visitcuritiba.tur.br
SUMMARY:Festival Coolritiba
DESCRIPTION:
URL:https://visitcuritiba.tur.br/calendario/festival-coolritiba/
LOCATION:Pedreira Paulo Leminski\, R. João Gava\, 970 - Abranches\, Curitiba\, Paraná\, 82130-010
CATEGORIES:Festival musical
END:VEVENT
BEGIN:VEVENT
DTSTART;VALUE=DATE:20240517
DTEND;VALUE=DATE:20240519
DTSTAMP:20260424T052351
CREATED:20240502T164131Z
LAST-MODIFIED:20240502T164131Z
UID:5405-1715904000-1716076799@visitcuritiba.tur.br
SUMMARY:Orto CWB
DESCRIPTION:
URL:https://visitcuritiba.tur.br/calendario/orto-cwb/
LOCATION:Universidade Positivo\, R. Prof. Pedro Viriato Parigot de Souza\, Curitiba\, PR\, 81280-330\, Brasil
CATEGORIES:Congresso
END:VEVENT
BEGIN:VEVENT
DTSTART;VALUE=DATE:20240517
DTEND;VALUE=DATE:20240519
DTSTAMP:20260424T052351
CREATED:20240210T225956Z
LAST-MODIFIED:20240210T225956Z
UID:4972-1715904000-1716076799@visitcuritiba.tur.br
SUMMARY:33° Jornada Paranaense de Geriatria e Gerontologia
DESCRIPTION:
URL:https://visitcuritiba.tur.br/calendario/33-jornada-paranaense-de-geriatria-e-gerontologia/
LOCATION:Universidade Tuiuti do Paraná\, R. Padre Ladislau Kula\, 395 - Santo Inácio\, Curitiba\, PR\, 82010-210\, Brasil
CATEGORIES:Jornada
END:VEVENT
BEGIN:VEVENT
DTSTART;TZID=UTC:20240516T080000
DTEND;TZID=UTC:20240602T170000
DTSTAMP:20260424T052351
CREATED:20240502T163942Z
LAST-MODIFIED:20240502T163942Z
UID:5403-1715846400-1717347600@visitcuritiba.tur.br
SUMMARY:Festival Brasil Sabor
DESCRIPTION:
URL:https://visitcuritiba.tur.br/calendario/festival-brasil-sabor/
LOCATION:Diversos Locais\, Curitiba\, Paraná\, Brasil
CATEGORIES:Cultural,Gastronomia
END:VEVENT
BEGIN:VEVENT
DTSTART;VALUE=DATE:20240516
DTEND;VALUE=DATE:20240520
DTSTAMP:20260424T052351
CREATED:20240502T163833Z
LAST-MODIFIED:20240502T163833Z
UID:5400-1715817600-1716163199@visitcuritiba.tur.br
SUMMARY:Festival Cinegastroarte Itinerante
DESCRIPTION:
URL:https://visitcuritiba.tur.br/calendario/festival-cinegastroarte-itinerante/
LOCATION:Shopping Pátio Batel\, Av. do Batel\, Curitiba\, PR\, 80420-090\, Brasil
CATEGORIES:Cultural,Gastronomia
END:VEVENT
BEGIN:VEVENT
DTSTART;VALUE=DATE:20240516
DTEND;VALUE=DATE:20240519
DTSTAMP:20260424T052351
CREATED:20240210T225826Z
LAST-MODIFIED:20240210T225826Z
UID:4970-1715817600-1716076799@visitcuritiba.tur.br
SUMMARY:CUPOLA Summit
DESCRIPTION:
URL:https://visitcuritiba.tur.br/calendario/cupola-summit/
LOCATION:Jockey Club do Paraná\, Avenida Victor Ferreira do Amaral\, Praça Jóquei Pinheiro Filho\, 2299\, Curitiba\, PR\, : 82800-000\, Brazil
END:VEVENT
BEGIN:VEVENT
DTSTART;VALUE=DATE:20240515
DTEND;VALUE=DATE:20240516
DTSTAMP:20260424T052351
CREATED:20240502T163622Z
LAST-MODIFIED:20240502T163622Z
UID:5397-1715731200-1715817599@visitcuritiba.tur.br
SUMMARY:Feira de Franquias
DESCRIPTION:
URL:https://visitcuritiba.tur.br/calendario/feira-de-franquias/
LOCATION:Hotel QOYA\, Av. Sete de Setembro\, Curitiba\, PR\, 80250-205\, Brasil
CATEGORIES:Feira
END:VEVENT
END:VCALENDAR